BEGIN:VCALENDAR
VERSION:2.0
PRODID:-//BGR - ECPv6.15.20//NONSGML v1.0//EN
CALSCALE:GREGORIAN
METHOD:PUBLISH
X-WR-CALNAME:BGR
X-ORIGINAL-URL:https://bgr-ev.de
X-WR-CALDESC:Veranstaltungen für BGR
REFRESH-INTERVAL;VALUE=DURATION:PT1H
X-Robots-Tag:noindex
X-PUBLISHED-TTL:PT1H
BEGIN:VTIMEZONE
TZID:Europe/Berlin
BEGIN:DAYLIGHT
TZOFFSETFROM:+0100
TZOFFSETTO:+0200
TZNAME:CEST
DTSTART:20250330T010000
END:DAYLIGHT
BEGIN:STANDARD
TZOFFSETFROM:+0200
TZOFFSETTO:+0100
TZNAME:CET
DTSTART:20251026T010000
END:STANDARD
BEGIN:DAYLIGHT
TZOFFSETFROM:+0100
TZOFFSETTO:+0200
TZNAME:CEST
DTSTART:20260329T010000
END:DAYLIGHT
BEGIN:STANDARD
TZOFFSETFROM:+0200
TZOFFSETTO:+0100
TZNAME:CET
DTSTART:20261025T010000
END:STANDARD
BEGIN:DAYLIGHT
TZOFFSETFROM:+0100
TZOFFSETTO:+0200
TZNAME:CEST
DTSTART:20270328T010000
END:DAYLIGHT
BEGIN:STANDARD
TZOFFSETFROM:+0200
TZOFFSETTO:+0100
TZNAME:CET
DTSTART:20271031T010000
END:STANDARD
END:VTIMEZONE
BEGIN:VEVENT
DTSTART;TZID=Europe/Berlin:20261001T140000
DTEND;TZID=Europe/Berlin:20261003T140000
DTSTAMP:20260419T151041
CREATED:20231128T105501Z
LAST-MODIFIED:20250918T164159Z
UID:1506-1790863200-1791036000@bgr-ev.de
SUMMARY:Sensitives Rutengehen 
DESCRIPTION:In dieser „Intensivausbildung sensitive Radiästhesie” (Rutengehen) lernen Sie die Grundlagen im Umgang mit der Rute kennen. \n\n\n\nSie lernen weiterhin eine Mediale Abfrage-Technik\, die es ihnen ermöglicht eine Vielfalt von Informationen über die verlängerte Antenne zu bekommen. Diese etwas andere Ausbildung zum sensitiven Rutengänger erweckt ihr inneres Wahrnehmungssystem. \n\n\n\nSie lernen weiterhin Orte zu bestimmen\, die den menschlichen Organismus positiv oder negativ beeinträchtigen können.  \n\n\n\nDer Mensch hat ein hochintelligentes Antennensystem\, das nur darauf wartet das ganze eigene Potenzial auszuschöpfen. \n\n\n\nAusbildungsort: 61279 Grävenwiesbach/Taunus – Untergasse 7 \n\n\n\nReferent: Axel Sallmann \n\n\n\nSeminarpreis: 355\,– € incls. Wünschelrute und Skript \n\n\n\nZielgruppe:   \n\n\n\nMenschen die ihre eigenen Antennen und ihre Wahrnehmung neu justieren möchten.                                                      \n\n\n\nAnsprechpartner:  \n\n\n\nAxel Sallmann – Gaiavita LebendigeErde \n\n\n\n61279 Grävenwiesbach\, Untergasse 7 \n\n\n\nTel. 06086 969580   Mob. 0170 4634086 \n\n\n\nMail: info@gaiavita.de \n\n\n\nWeb: https://www.gaiavita-lebendigeerde.de/ausbildung/rutengaenger/2024/
URL:https://bgr-ev.de/termin/sensitives-rutengehen-september-2024/
CATEGORIES:Ausbildung
END:VEVENT
BEGIN:VEVENT
DTSTART;TZID=Europe/Berlin:20261018T180000
DTEND;TZID=Europe/Berlin:20261025T100000
DTSTAMP:20260419T151041
CREATED:20260306T150922Z
LAST-MODIFIED:20260306T150922Z
UID:8282-1792346400-1792922400@bgr-ev.de
SUMMARY:Bosnische Pyramiden – Portale ins Licht
DESCRIPTION:  \n\n\n\nLange Zeit blieben die sogenannten bosnischen Pyramiden in und um den kleinen Ort Visoko bei Sarajevo verborgen\, da ihre Oberflächen ganz und gar bewachsen sind. Inzwischen gelten sie als einer der höchst schwingenden Energieräume der Erde und ziehen viele Neugierige und Suchende an.Während unseres Aufenthaltes begegnen uns gleichermaßen spannende archäologische Erkenntnisse und außergewöhnliche feinstoffliche Energiefelder: Räume öffnen sich\, wir spüren glückselige Weite in uns und um uns\, Licht durchströmt uns bis in die dichteste Körperebene.Stationen auf unserem Pfad sind unter anderem die imposante Sonnenpyramide mit Ravnetunnel und Park\, Liebespyramide\, Mondpyramide\, Drachenpyramide\, Tumulus Vratnica\, Steinkugeln von Zavidovići. \n\n\n\nAnmeldung und Infos auf meiner Webseite!Anmeldeschluss: möglichst bis 15.07.2026. Es gibt eine Warteliste.
URL:https://bgr-ev.de/termin/bosnische-pyramiden-portale-ins-licht/
CATEGORIES:Geomantiereise,Seminar / Workshop
ATTACH;FMTTYPE=image/jpeg:https://bgr-ev.de/wp-content/uploads/Bosnische-Pyramiden-2026-1.jpg
ORGANIZER;CN="Jutta Watzlawik%2C Geomantin":MAILTO:info@wesensreich.net
END:VEVENT
END:VCALENDAR