BEGIN:VCALENDAR
VERSION:2.0
PRODID:-//BGR - ECPv6.15.20//NONSGML v1.0//EN
CALSCALE:GREGORIAN
METHOD:PUBLISH
X-ORIGINAL-URL:https://bgr-ev.de
X-WR-CALDESC:Veranstaltungen für BGR
REFRESH-INTERVAL;VALUE=DURATION:PT1H
X-Robots-Tag:noindex
X-PUBLISHED-TTL:PT1H
BEGIN:VTIMEZONE
TZID:Europe/Berlin
BEGIN:DAYLIGHT
TZOFFSETFROM:+0100
TZOFFSETTO:+0200
TZNAME:CEST
DTSTART:20240331T010000
END:DAYLIGHT
BEGIN:STANDARD
TZOFFSETFROM:+0200
TZOFFSETTO:+0100
TZNAME:CET
DTSTART:20241027T010000
END:STANDARD
BEGIN:DAYLIGHT
TZOFFSETFROM:+0100
TZOFFSETTO:+0200
TZNAME:CEST
DTSTART:20250330T010000
END:DAYLIGHT
BEGIN:STANDARD
TZOFFSETFROM:+0200
TZOFFSETTO:+0100
TZNAME:CET
DTSTART:20251026T010000
END:STANDARD
BEGIN:DAYLIGHT
TZOFFSETFROM:+0100
TZOFFSETTO:+0200
TZNAME:CEST
DTSTART:20260329T010000
END:DAYLIGHT
BEGIN:STANDARD
TZOFFSETFROM:+0200
TZOFFSETTO:+0100
TZNAME:CET
DTSTART:20261025T010000
END:STANDARD
END:VTIMEZONE
BEGIN:VEVENT
DTSTART;TZID=Europe/Berlin:20250221T080000
DTEND;TZID=Europe/Berlin:20250720T170000
DTSTAMP:20260419T213630
CREATED:20250109T154939Z
LAST-MODIFIED:20250109T155121Z
UID:4843-1740124800-1753030800@bgr-ev.de
SUMMARY:Feng Shui Ausbildung in 6 Modulen
DESCRIPTION:Diese Feng Shui Ausbildung mit insgesamt 6 Modulen á 3 Tage beginnt am 21.02.2025 in Reinheim bei Darmstadt. Der erste Vormittag ist zum Schnuppern kostenlos. Wer nicht vor Ort teilnehmen kann hat die Möglichkeit gleichzeitig über Zoom mit dabei zu sein. Sie lernen in dieser Ausbildung ausführlich die tiefen Zusammenhänge des Feng Shui\, und zwar nicht nur die Theorie und Anwendung\, sondern die Prinzipien dahinter. So lernen Sie dieAntwort auf das „Warum“ vieler so genannter Feng Shui Regeln kennen und können damit für fast jede Lebens- und Arbeitssituation gute Lösungen finden.Die genauen Inhalte\, Daten und Kosten sende ich Ihnen auf Anfrage gerne zu.Die Fliegenden Sterne sind auf jeden Fall enthalten. Neu ist\, dass wir teilweise mit systemischer Aufstellung arbeiten\, um tief in die Qualitäten der Fünf Elemente und der Vitalkraft hinein zu spüren und sie so auf einer ganzheitlichen Ebenen kennen zu lernen.Der Unterricht ist gut strukturiert und klar und logisch erklärt. Es bleibt genügend Zeit für Ihre Fragen und es ist viel Zeit für praktische Übungen eingeplant. Sie erhalten ein Zertifikat als Feng Shui Berater*in. \n\n\n\nAm 13.01.2025 findet um 19 Uhr ein kostenloser Infoabend zur Ausbildung statt.  \n\n\n\nBitte melden Sie sich unter info@klassisches-feng-shui.de an.
URL:https://bgr-ev.de/termin/feng-shui-ausbildung-in-6-modulen/
ORGANIZER;CN="Zaremba Nicole":MAILTO:info@klassisches-feng-shui.de
END:VEVENT
BEGIN:VEVENT
DTSTART;TZID=Europe/Berlin:20250307T100000
DTEND;TZID=Europe/Berlin:20250308T160000
DTSTAMP:20260419T213630
CREATED:20250210T174049Z
LAST-MODIFIED:20250210T174539Z
UID:5169-1741341600-1741449600@bgr-ev.de
SUMMARY:Kinderzimmergestaltung
DESCRIPTION:Kinderzimmer müssen viele Aufgaben erfüllen: Sie sind gleichzeitig Schlafzimmer\, Spielzimmer\, Arbeits­zimmer\, Rückzugsort und Stauraum. Die Kinder werden größer und die Bedürfnisse ändern sich. Was tun\, um allen Anforderungen gerecht zu werden? \n\n\n\nBabys und Kleinkinder sind sehr sensibel\, was ihre Umgebung betrifft. Sie nehmen ihre Umgebung intensiver wahr als Erwachsene und werden stärker davon beeinflusst. Sie reagieren direkter auf raumenergetische Störungen\, Schadstoffe oder andere Umweltbelastungen. Schlafprobleme\, Lernblockaden\, Zimmerflucht oder auch gesundheitliche Belastungen sind oft die Folge von Umgebungseinflüssen. \n\n\n\nEin gesundes Umfeld ist die Grundlage für eine gesunde Entwicklung. Dies gilt nicht nur für Kinderzimmer\, sondern gleichermaßen für Kindergärten und Schulen. Nicht zuletzt bedürfen auch Praxisräume und Lernstudios gestalterischer Aufmerksamkeit\, damit Kinder sich darin wohlfühlen. \n\n\n\nKinder verbringen bis zu 19 Stunden pro Tag in geschlossenen Räumen\, Säuglinge und Kleinkinder noch länger. Sie benötigen eine gesunde\, un­belastete Umgebung. In den Kinder­zimmern herrscht oft „dicke Luft“ durch Elektrosmog\, geobiologische Belastungen oder raumenergetische und raumpsychologische Störungen. \n\n\n\nDieses Seminar vermittelt Ihnen\, wie Wechselwirkungen zwischen Kind und Raum stattfinden\, welche Gestaltungsmittel es für kindergerechte Räume gibt\, wie sie einzusetzen sind und welche Besonder­heiten in bestimmten Räumen zu berücksichtigen sind. \n\n\n\nSeminarinhalte: \n\n\n\n■ Gesundheit im Raum ■ Schadstoffe und Belastungen im Kinderalltag ■ Elektrobiologie und Lichtbiologie ■ Raumklima ■ Biogene Belastungen ■ Geobiologische Phänomene ■ Raumenergetik und Raumpsychologie ■ Raumzonen und Möbelpositionen. \n\n\n\nRäume zum Wachsen und Werden Kinderzimmer: schöner Spielen\, besser Lernen und entspannter Schlafen \n\n\n\nDie Gestaltung eines Kinderzimmers stellt eine besondere Herausforderung dar. Immerhin sollte es über eine aktive Zone zum Spielen\, eine semiaktive Zone zum Lernen und eine Ruhezone zum Schlafen verfü-gen. Der Vortrag bietet Einblicke in die Gestaltungsmöglichkeiten für Räume zum Wachsen und Werden. \n\n\n\nRäume mit PersönlichkeitJugendzimmer: Lebenskraft zwischen Privatsphäre und Autonomie \n\n\n\nDie Umgestaltung eines Kinderzimmers zum Jugendzimmer folgt den veränderten Bedürfnissen bei der Entwicklung des jungen Menschen zum Erwachsenen. Der Vortrag zeigt Möglichkeiten\, berufliche und schulische Herausforderungen zu unterstützen\, Privatsphäre und Autonomie zu schaffen und die physi-sche und emotionale Gesundheit zu erhalten. \n\n\n\nHinweise:Wichtig: Bringen Sie zum Seminar den Grundriss und Bilder ihrer Kinderräume aus Wohnung\, Kindergarten\, Schule\, Krankenhaus\, usw. mit. Wir werden die Praxis­beispiele im Seminar durchbesprechen und Empfehlungen herausarbeiten. \n\n\n\nWorkshop-Reihe: \n\n\n\nFr.\, 07.03.2025 – Sa.\, 08.03.2025 – Räume 1: KinderzimmergestaltungFr.\, 04.04.2025 – Sa.\, 05.04.2025 – Räume 2: PraxisgestaltungFr.\, 11.07.2025 – Sa.\, 12.07.2025 – Räume 3: Bürogestaltung Homeoffice \n\n\n\nDie Seminare und Workshops sind getrennt oder gemeinsam buchbar. \n\n\n\nReferent: \n\n\n\nMag. Wolfgang Strasser\, Lebensraumberatung und -coaching+43 (0)664 / 4053748 – w.strasser@raumdialog.at – www.raumdialog.at \n\n\n\nSeminarkosten: \n\n\n\nWorkshop zweitägig € 340\,– inkl. Skriptum in digitaler FormMitglieder des ÖVRG € 300\,– \n\n\n\nAnmeldung: \n\n\n\nSeminar per Mail an office@raumdialog.atNächtigung direkt im Lachstatthof
URL:https://bgr-ev.de/termin/kinderzimmergestaltung/
LOCATION:Seminarzentrum Lachstatthof\, Lachstatt 41\, Steyregg\, 4221\, Austria
CATEGORIES:Seminar / Workshop
ORGANIZER;CN="Raumdialog":MAILTO:w.strasser@raumdialog.at
END:VEVENT
BEGIN:VEVENT
DTSTART;TZID=Europe/Berlin:20250321T100000
DTEND;TZID=Europe/Berlin:20250322T160000
DTSTAMP:20260419T213630
CREATED:20250210T173155Z
LAST-MODIFIED:20250210T173156Z
UID:5166-1742551200-1742659200@bgr-ev.de
SUMMARY:Rutengehen für Einsteiger
DESCRIPTION:Jeder Mensch trägt in sich die Fähigkeiten erweiterter Sinneswahrnehmungen und kann das Muten mit Rute\, Tensor oder Pendel erlernen. Mit der Einübung der Kunst des Rutengehens sind wir eingeladen\, die Schwingungsmuster dieser Welt zu entdecken. \n\n\n\nIn diesem Basis-Workshop werden Theorie und Praxis im Umgang mit der Zweihandrute (Wünschelrute) vermittelt. Auf einfache Art und Weise werden die umfangreichen Einsatzmöglichkeiten der Rute kennengelernt und praktisch erprobt. Sie erlernen das Rutengehen\, entwickeln die Rutenfühligkeit und üben das Auffinden von Erdstrahlen. Sie erwerben theoretische Kenntnisse über die Natur geobiologischer Zonen und bekommen die Gelegenheit\, selbst den Umgang mit der Rute zu üben. \n\n\n\nDas Seminar ist für alle geeignet\, die das Rutengehen ausprobieren und sich mit dem Thema erstmals vertraut machen wollen. \n\n\n\nLehrinhalte: Wie und warum funktionieren Ruten? ■ Anwendungsgebiete und -methoden ■ Phänomene und Wirkungen ■ radiästhetisches Werkzeug  und Rutenarten ■ Arbeits­techniken und Testmöglichkeiten ■ Auffinden und Interpretation von Wasseradern\, Verwerfungen und Netzgitter ■ Aufbewahrung und Pflege ■ Präsenz und Selbstschutz. \n\n\n\nArbeiten mit der Wünschelrute: ■ Grundgedanken ■ ethische Aspekte ■ Anfangshürden und Fehler­ursachen ■ Grund­regeln feinstofflicher Arbeit ■ Vorbereitung und erste Schritte ■ Halte- und Griff­technik ■ Ruten­bewegungen ■ Kalibrierung und Grundübungen ■ Grifflängentechnik ■ Mentale Fragestellungen ■ Fernmutung ■ Lebensenergie und Energietestung ■ Polarisation ■ Medulla Scanning ■ Suchen und Peilen ■ Werte abfragen und zählen. \n\n\n\nHinweise: \n\n\n\nFür den Workshop sind keine Vorkenntnisse erforderlich. Jeder kann den Umgang mit Rute\, Tensor und Pendel lernen !!! Wer schon eine Rute besitzt\, möge sie bitte mitbringen. Für den Unterricht stehen auch Leihruten zur Verfügung. Die Übungen finden im Freien statt. Achten Sie daher auf geeignete Kleidung und Schuhe je nach Wetterlage. \n\n\n\nWorkshop-Reihe: \n\n\n\nFr.\, 21.03.2025 – Sa.\, 22.03.2025 – Rutengehen 1: Einführungsseminar – Rutengehen für EinsteigerFr.\, 23.05.2025 – Sa.\, 24.05.2025 – Rutengehen 2: Aufbau- und Praxisseminar – Grundstücks- und HausuntersuchungFr.\, 27.06.2025 – Sa.\, 28.06.2025 – Rutengehen 3: Aufbau- und Praxisseminar – Kraftplatzsuche und -untersuchung \n\n\n\nDie Seminare und Workshops sind getrennt oder gemeinsam buchbar. \n\n\n\nReferent: \n\n\n\nMag. Wolfgang Strasser\, Lebensraumberatung und -coaching+43 (0)664 / 4053748 – w.strasser@raumdialog.at – www.raumdialog.at \n\n\n\nSeminarkosten: \n\n\n\nWorkshop zweitägig € 340\,– inkl. Skriptum in digitaler FormMitglieder des ÖVRG € 300\,– \n\n\n\nAnmeldung: \n\n\n\nSeminar per Mail an office@raumdialog.atNächtigung direkt im Lachstatthof
URL:https://bgr-ev.de/termin/rutengehen-fuer-einsteiger/
LOCATION:Seminarzentrum Lachstatthof\, Lachstatt 41\, Steyregg\, 4221\, Austria
CATEGORIES:Seminar / Workshop
ATTACH;FMTTYPE=image/jpeg:https://bgr-ev.de/wp-content/uploads/AdobeStock_66295651-scaled.jpeg
ORGANIZER;CN="Raumdialog":MAILTO:w.strasser@raumdialog.at
END:VEVENT
END:VCALENDAR