BEGIN:VCALENDAR
VERSION:2.0
PRODID:-//BGR - ECPv6.15.20//NONSGML v1.0//EN
CALSCALE:GREGORIAN
METHOD:PUBLISH
X-WR-CALNAME:BGR
X-ORIGINAL-URL:https://bgr-ev.de
X-WR-CALDESC:Veranstaltungen für BGR
REFRESH-INTERVAL;VALUE=DURATION:PT1H
X-Robots-Tag:noindex
X-PUBLISHED-TTL:PT1H
BEGIN:VTIMEZONE
TZID:Europe/Berlin
BEGIN:DAYLIGHT
TZOFFSETFROM:+0100
TZOFFSETTO:+0200
TZNAME:CEST
DTSTART:20230326T010000
END:DAYLIGHT
BEGIN:STANDARD
TZOFFSETFROM:+0200
TZOFFSETTO:+0100
TZNAME:CET
DTSTART:20231029T010000
END:STANDARD
BEGIN:DAYLIGHT
TZOFFSETFROM:+0100
TZOFFSETTO:+0200
TZNAME:CEST
DTSTART:20240331T010000
END:DAYLIGHT
BEGIN:STANDARD
TZOFFSETFROM:+0200
TZOFFSETTO:+0100
TZNAME:CET
DTSTART:20241027T010000
END:STANDARD
BEGIN:DAYLIGHT
TZOFFSETFROM:+0100
TZOFFSETTO:+0200
TZNAME:CEST
DTSTART:20250330T010000
END:DAYLIGHT
BEGIN:STANDARD
TZOFFSETFROM:+0200
TZOFFSETTO:+0100
TZNAME:CET
DTSTART:20251026T010000
END:STANDARD
END:VTIMEZONE
BEGIN:VEVENT
DTSTART;TZID=Europe/Berlin:20240804T000000
DTEND;TZID=Europe/Berlin:20240804T235959
DTSTAMP:20260420T100010
CREATED:20240701T153724Z
LAST-MODIFIED:20240708T155148Z
UID:3311-1722729600-1722815999@bgr-ev.de
SUMMARY:Grundlagen Videokurs   „Geomantie/Geokultur“  - Modul 1 -
DESCRIPTION:Das Modul führt Dich Schritt für Schritt in eine faszinierende Welt einer erweiterten Wahrnehmung und  vermittelt Dir wichtige Grundlagen moderner Heilungs\,- und Harmonisierungsarbeit. Diese werden u.a. bildhaft vermittelt über Dokumentationen\,  Erfahrungsberichten und auch begleitenden Meditationen. Folgende Themen werden im Modul behandelt: Sensibilisierung\, die Elementekräfte\, die geistige Welt und die kosmische Dimension\, die Ebenen eines Ortes\, Möglichkeiten der Analyse Radiästhesie und die Möglichkeiten zur Heilung\, Harmonisierung und Objektoptimierung\, Qualitäten eines Ortes\, Kraftorte\, heilige Plätze\, prähistorische Anlagen\, wie finden wir zur eigenen Mitte\, was können wir für sie tun und was können wir für unsere Erde tun. \n\n\n\nJeder kann bis Ende September neu einsteigen und einmal freigeschaltet – immer freigeschaltet = die Inhalte bleiben Dir erhalten!Zu jedem Thema erhälst Du außerdem ein Skript. \n\n\n\nBuchung über:  www.de-arboris.de \n\n\n\n9 Themen\, 14 Tägige Freischaltung\, Kosten 500\,- \n\n\n\nDie Folgemodule 2 und 3 bauen auf diese Inhalte auf. \n\n\n\nBei Fragen gerne anrufen: 0157 3877 3428 \n\n\n\nT1 – eine Reise beginnt \n\n\n\nBegrüßung \n\n\n\nDas Gesetz des Anfangs \n\n\n\nWas ist Geomantie \n\n\n\nAlles ist Bewußtsein \n\n\n\nDie Spielregeln \n\n\n\nWahrnehmung \n\n\n\nKörperkontakt \n\n\n\nWertschätzung \n\n\n\nWas ist ein Holon? \n\n\n\nErfüllung \n\n\n\nSinnfindung \n\n\n\nUrvertrauen \n\n\n\nErkenntnis/Quintessenz \n\n\n\nT2 – Die Elelmentekräfte \n\n\n\nDie Dimmensionen der Elelmen \n\n\n\nElement Feuer \n\n\n\nElelment Wasser \n\n\n\nElelemt Erde \n\n\n\nElelment Luft \n\n\n\nÄther männlich \n\n\n\nÄther weiblich \n\n\n\nT3 – Die Ebenen eines Ortes \n\n\n\nDie Physische Ebene \n\n\n\nDie Strukturbildende Ebene \n\n\n\nDie vitalenergetische Ebene \n\n\n\nDie emotionale Ebene \n\n\n\nDie seelisch geistige Ebene \n\n\n\nDie mentale Ebene \n\n\n\nT4 – Radiästhesie \n\n\n\nRadiästhetische Instrumente \n\n\n\nOrtsuntersuchungen\, Beispiele \n\n\n\nT5 – Die nicht sichtbare Welt \n\n\n\nElementarwesen \n\n\n\nPlanetare Wesenheiten \n\n\n\nEngel \n\n\n\nWas sind Geister und Dämonen \n\n\n\nT6 – Heilung und Harmonisierung \n\n\n\nHeilung der Physischen Ebe \n\n\n\nHeilung der vitalenergetischenE. \n\n\n\nHeilung der emotionalen Ebene \n\n\n\nHeilung der mentalen Ebene \n\n\n\nSchatten\,- und Lichtarbeit \n\n\n\nStabilisierung\, Neucodierung \n\n\n\nT7 – Naturtempel und Heiligtümer \n\n\n\nWas ist ein Naturtempel \n\n\n\nwas ist ein heiliger Platz \n\n\n\nprähistorische Heiligtümer \n\n\n\nHü̈ter heiliger Plätze \n\n\n\nT8 – Geokultur \n\n\n\nEinführung \n\n\n\nBeispiele \n\n\n\nT9 – Dein Tempel \n\n\n\nIntegration der Elelmente in dir \n\n\n\nInitiation \n\n\n\nDein Ort \n\n\n\nAbschluss \n\n\n\nEs ist Zeit für ein neues Verständnis im Umgang mit der Natur unserer Materie – Mater \n\n\n\nDas Fühlen in die Natur hinein bildet automatisch ein neues Denken im Umgang mit der Natur\, allen Pflanzen\, unseren Bäumen und allen Lebewesen gegenüber. \n\n\n\nWir leben in einer Zeit der starken Erdwandlung\, mit ihr haben wir als Menschen die Wahl zwischen Stagnation und innerer Errosion oder einem Quantensprung in die nächste  \n\n\n\nDimension hinein. Wir haben die Möglichkeit einem Untergang entgegen zu wirken und sich für einen Entwicklungssprung zu entscheiden. Dafür geben wir einige wichtige Werkzeuge und Bausteine mit in die Hand.  \n\n\n\nDas wunderbare ist – alle Anlagen sind im Sonnenkosmos\, im Erdekosmos sowie im Seelenkosmos eines jeden verankert.  \n\n\n\nDie Ganzheit im Menschen zu erlangen setzt voraus  \n\n\n\ndie Einheit der Natur in sich selbst zu integrieren. \n\n\n\nDas setzt voraus\, dass wir uns der wunderbaren Erde zuwenden. \n\n\n\nWir freuen uns auf Dich!
URL:https://bgr-ev.de/termin/grundlagen-videokurs-geomantie-geokultur-modul-1-2-2/
ATTACH;FMTTYPE=image/jpeg:https://bgr-ev.de/wp-content/uploads/Park-schmal.jpg
END:VEVENT
BEGIN:VEVENT
DTSTART;TZID=Europe/Berlin:20240815T160000
DTEND;TZID=Europe/Berlin:20240818T140000
DTSTAMP:20260420T100010
CREATED:20240211T102537Z
LAST-MODIFIED:20240212T181412Z
UID:2466-1723737600-1723989600@bgr-ev.de
SUMMARY:Die Energie des Raumes – Wohnen und Arbeiten in voller Kraft
DESCRIPTION:Lebenskraft gehört zu den kostbarsten Gütern unserer Zeit. Immer mehr Menschen benötigen Lebensräume mit nährender Atmosphäre und starker Vitalität. Für unser Leben in der modernen Welt\, welches oft hohe Leistung und Motiviertheit verlangt\, ist Lebenskraft zur Mangelware geworden: Heute brauchen wir mehr denn je ein konstantes Niveau an persönlicher Kraft. Weil sie neben Verhalten oder Ernährung auch entscheidend von räumlichen Faktoren abhängt\, benötigen wir alle Räume\, in denen wir täglich „auftanken“ können. \n\n\n\nDie Raumenergetik ist die moderne Lehre der Wirkung von Lebenskraft auf den Menschen und der gezielten Schaffung räumlicher Atmosphären. Sie beschreibt differenziert und nachvollziehbar die Gesetze der Lebenskraft. Entwickelt aus historischen Standortlehren und Architekturpsychologie ist sie heute das Fundament subjektiver Raumgestaltung. \n\n\n\nDieses Seminar vermittelt die Grundlagenkompetenz\, wie wir für uns oder andere optimale Atmosphären erzeugen. Es beinhaltet eine systematische Formenschulung sowie ein intensives Raumenergetik-Training für Immobilien und Räume jeglicher Art mit dem Ziel der Steigerung von Niveau und Lebensqualität. \n\n\n\nGeeignet nicht nur für Lebensraumberater\, Gestalter und Designer\, sondern auch für Ärzte\, Heilpraktiker\, Coaches\, Pädagogen\, Therapeuten und Psychologen. \n\n\n\nLernen Sie\, Ihr Leben und ihre Lebensräume mit Kraft zu füllen. \n\n\n\nMit Arbeit an den Grundrissen der eigenen Wohn- oder Arbeitssituation. \n\n\n\nInfos & Anmeldung: https://fortunamundi.de/veranstaltungen/seminare/die-energie-des-raumes-%E2%80%93-wohnen-und-arbeiten-in-voller-kraft \n\n\n\nOrt der Veranstaltung \n\n\n\nBio-Hotel Lindengut\, Fulda / Rhön \n\n\n\nReferent*in \n\n\n\nPascal Zielke \n\n\n\nKosten inkl. MwSt. in € \n\n\n\n490\,- Euro \n\n\n\ndarin enthalten sind \n\n\n\nSeminarkosten und Skripte \n\n\n\nZielgruppe \n\n\n\nalle Interessierten\, keine Vorkenntnisse nötig \n\n\n\nVeranstalter \n\n\n\nFORTUNA MUNDI – Akademie für Integrale Geomantie \n\n\n\nZur Burg 24\, 36282 Hauneck \n\n\n\n0171-7958029 \n\n\n\nkontakt@fortunamundi.de \n\n\n\nwww.fortunamundi.de
URL:https://bgr-ev.de/termin/die-energie-des-raumes-wohnen-und-arbeiten-in-voller-kraft/
ATTACH;FMTTYPE=image/jpeg:https://bgr-ev.de/wp-content/uploads/15.08.2024-scaled.jpg
END:VEVENT
BEGIN:VEVENT
DTSTART;TZID=Europe/Berlin:20240818T000000
DTEND;TZID=Europe/Berlin:20240818T235959
DTSTAMP:20260420T100010
CREATED:20240701T153758Z
LAST-MODIFIED:20240708T155247Z
UID:3313-1723939200-1724025599@bgr-ev.de
SUMMARY:Grundlagen Videokurs   „Geomantie/Geokultur“  - Modul 1 -
DESCRIPTION:Das Modul führt Dich Schritt für Schritt in eine faszinierende Welt einer erweiterten Wahrnehmung und  vermittelt Dir wichtige Grundlagen moderner Heilungs\,- und Harmonisierungsarbeit. Diese werden u.a. bildhaft vermittelt über Dokumentationen\,  Erfahrungsberichten und auch begleitenden Meditationen. Folgende Themen werden im Modul behandelt: Sensibilisierung\, die Elementekräfte\, die geistige Welt und die kosmische Dimension\, die Ebenen eines Ortes\, Möglichkeiten der Analyse Radiästhesie und die Möglichkeiten zur Heilung\, Harmonisierung und Objektoptimierung\, Qualitäten eines Ortes\, Kraftorte\, heilige Plätze\, prähistorische Anlagen\, wie finden wir zur eigenen Mitte\, was können wir für sie tun und was können wir für unsere Erde tun. \n\n\n\nJeder kann bis Ende September neu einsteigen und einmal freigeschaltet – immer freigeschaltet = die Inhalte bleiben Dir erhalten!Zu jedem Thema erhälst Du außerdem ein Skript. \n\n\n\nBuchung über:  www.de-arboris.de \n\n\n\n9 Themen\, 14 Tägige Freischaltung\, Kosten 500\,- \n\n\n\nDie Folgemodule 2 und 3 bauen auf diese Inhalte auf. \n\n\n\nBei Fragen gerne anrufen: 0157 3877 3428 \n\n\n\nT1 – eine Reise beginnt \n\n\n\nBegrüßung \n\n\n\nDas Gesetz des Anfangs \n\n\n\nWas ist Geomantie \n\n\n\nAlles ist Bewußtsein \n\n\n\nDie Spielregeln \n\n\n\nWahrnehmung \n\n\n\nKörperkontakt \n\n\n\nWertschätzung \n\n\n\nWas ist ein Holon? \n\n\n\nErfüllung \n\n\n\nSinnfindung \n\n\n\nUrvertrauen \n\n\n\nErkenntnis/Quintessenz \n\n\n\nT2 – Die Elelmentekräfte \n\n\n\nDie Dimmensionen der Elelmen \n\n\n\nElement Feuer \n\n\n\nElelment Wasser \n\n\n\nElelemt Erde \n\n\n\nElelment Luft \n\n\n\nÄther männlich \n\n\n\nÄther weiblich \n\n\n\nT3 – Die Ebenen eines Ortes \n\n\n\nDie Physische Ebene \n\n\n\nDie Strukturbildende Ebene \n\n\n\nDie vitalenergetische Ebene \n\n\n\nDie emotionale Ebene \n\n\n\nDie seelisch geistige Ebene \n\n\n\nDie mentale Ebene \n\n\n\nT4 – Radiästhesie \n\n\n\nRadiästhetische Instrumente \n\n\n\nOrtsuntersuchungen\, Beispiele \n\n\n\nT5 – Die nicht sichtbare Welt \n\n\n\nElementarwesen \n\n\n\nPlanetare Wesenheiten \n\n\n\nEngel \n\n\n\nWas sind Geister und Dämonen \n\n\n\nT6 – Heilung und Harmonisierung \n\n\n\nHeilung der Physischen Ebe \n\n\n\nHeilung der vitalenergetischenE. \n\n\n\nHeilung der emotionalen Ebene \n\n\n\nHeilung der mentalen Ebene \n\n\n\nSchatten\,- und Lichtarbeit \n\n\n\nStabilisierung\, Neucodierung \n\n\n\nT7 – Naturtempel und Heiligtümer \n\n\n\nWas ist ein Naturtempel \n\n\n\nwas ist ein heiliger Platz \n\n\n\nprähistorische Heiligtümer \n\n\n\nHü̈ter heiliger Plätze \n\n\n\nT8 – Geokultur \n\n\n\nEinführung \n\n\n\nBeispiele \n\n\n\nT9 – Dein Tempel \n\n\n\nIntegration der Elelmente in dir \n\n\n\nInitiation \n\n\n\nDein Ort \n\n\n\nAbschluss \n\n\n\nEs ist Zeit für ein neues Verständnis im Umgang mit der Natur unserer Materie – Mater \n\n\n\nDas Fühlen in die Natur hinein bildet automatisch ein neues Denken im Umgang mit der Natur\, allen Pflanzen\, unseren Bäumen und allen Lebewesen gegenüber. \n\n\n\nWir leben in einer Zeit der starken Erdwandlung\, mit ihr haben wir als Menschen die Wahl zwischen Stagnation und innerer Errosion oder einem Quantensprung in die nächste  \n\n\n\nDimension hinein. Wir haben die Möglichkeit einem Untergang entgegen zu wirken und sich für einen Entwicklungssprung zu entscheiden. Dafür geben wir einige wichtige Werkzeuge und Bausteine mit in die Hand.  \n\n\n\nDas wunderbare ist – alle Anlagen sind im Sonnenkosmos\, im Erdekosmos sowie im Seelenkosmos eines jeden verankert.  \n\n\n\nDie Ganzheit im Menschen zu erlangen setzt voraus  \n\n\n\ndie Einheit der Natur in sich selbst zu integrieren. \n\n\n\nDas setzt voraus\, dass wir uns der wunderbaren Erde zuwenden. \n\n\n\nWir freuen uns auf Dich!
URL:https://bgr-ev.de/termin/grundlagen-videokurs-geomantie-geokultur-modul-1-2-2-2/
ATTACH;FMTTYPE=image/jpeg:https://bgr-ev.de/wp-content/uploads/T5.geistige-Welt.jpg
END:VEVENT
BEGIN:VEVENT
DTSTART;TZID=Europe/Berlin:20240830T000000
DTEND;TZID=Europe/Berlin:20240901T235959
DTSTAMP:20260420T100010
CREATED:20240729T180936Z
LAST-MODIFIED:20240729T180936Z
UID:3508-1724976000-1725235199@bgr-ev.de
SUMMARY:Bazi Suanming - Module 3+4 - Ausbildung 2024 / 2.Hj.
DESCRIPTION:Bazi SuanmingDie Schicksalsberechnung nach den 8 SchriftzeichenDie vollständige Ausbildung \n\n\n\nNähere Infos zur Veranstaltung hier … \n\n\n\nDozent:Dr. Manfred Kubny+49 (0)176 24754357www.manfredkubny.de  \n\n\n\nAnmeldung:mk@iatca.de
URL:https://bgr-ev.de/termin/bazi-suanming-module-34-ausbildung-2024-2-hj/
LOCATION:Berlin\, Klabundring 24\, Berlin-Blankenfelde\, 15827\, Deutschland
ORGANIZER;CN="IATCA":MAILTO:mk@iatca.de
END:VEVENT
END:VCALENDAR