BEGIN:VCALENDAR
VERSION:2.0
PRODID:-//BGR - ECPv6.15.20//NONSGML v1.0//EN
CALSCALE:GREGORIAN
METHOD:PUBLISH
X-WR-CALNAME:BGR
X-ORIGINAL-URL:https://bgr-ev.de
X-WR-CALDESC:Veranstaltungen für BGR
REFRESH-INTERVAL;VALUE=DURATION:PT1H
X-Robots-Tag:noindex
X-PUBLISHED-TTL:PT1H
BEGIN:VTIMEZONE
TZID:Europe/Berlin
BEGIN:DAYLIGHT
TZOFFSETFROM:+0100
TZOFFSETTO:+0200
TZNAME:CEST
DTSTART:20230326T010000
END:DAYLIGHT
BEGIN:STANDARD
TZOFFSETFROM:+0200
TZOFFSETTO:+0100
TZNAME:CET
DTSTART:20231029T010000
END:STANDARD
BEGIN:DAYLIGHT
TZOFFSETFROM:+0100
TZOFFSETTO:+0200
TZNAME:CEST
DTSTART:20240331T010000
END:DAYLIGHT
BEGIN:STANDARD
TZOFFSETFROM:+0200
TZOFFSETTO:+0100
TZNAME:CET
DTSTART:20241027T010000
END:STANDARD
BEGIN:DAYLIGHT
TZOFFSETFROM:+0100
TZOFFSETTO:+0200
TZNAME:CEST
DTSTART:20250330T010000
END:DAYLIGHT
BEGIN:STANDARD
TZOFFSETFROM:+0200
TZOFFSETTO:+0100
TZNAME:CET
DTSTART:20251026T010000
END:STANDARD
END:VTIMEZONE
BEGIN:VEVENT
DTSTART;TZID=Europe/Berlin:20240606T140000
DTEND;TZID=Europe/Berlin:20240608T140000
DTSTAMP:20260424T102756
CREATED:20231128T105153Z
LAST-MODIFIED:20240118T142526Z
UID:1502-1717682400-1717855200@bgr-ev.de
SUMMARY:Sensitives Rutengehen Juni 2024
DESCRIPTION:In dieser „Intensivausbildung sensitive Radiästhesie” (Rutengehen) lernen Sie die Grundlagen im Umgang mit der Rute kennen. \n\n\n\nSie lernen weiterhin eine Mediale Abfrage-Technik\, die es ihnen ermöglicht eine Vielfalt von Informationen über die verlängerte Antenne zu bekommen. Diese etwas andere Ausbildung zum sensitiven Rutengänger erweckt ihr inneres Wahrnehmungssystem. \n\n\n\nSie lernen weiterhin Orte zu bestimmen\, die den menschlichen Organismus positiv oder negativ beeinträchtigen können.  \n\n\n\nDer Mensch hat ein hochintelligentes Antennensystem\, das nur darauf wartet das ganze eigene Potenzial auszuschöpfen. \n\n\n\nAusbildungsort: 61279 Grävenwiesbach/Taunus – Untergasse 7 \n\n\n\nReferent: Axel Sallmann \n\n\n\nSeminarpreis: 355\,– € incls. Wünschelrute und Skript \n\n\n\nZielgruppe:   \n\n\n\nMenschen die ihre eigenen Antennen und ihre Wahrnehmung neu justieren möchten.                                                      \n\n\n\nAnsprechpartner:  \n\n\n\nAxel Sallmann – Gaiavita LebendigeErde \n\n\n\n61279 Grävenwiesbach\, Untergasse 7 \n\n\n\nTel. 06086 969580   Mob. 0170 4634086 \n\n\n\nMail: info@gaiavita.de \n\n\n\nWeb: https://www.gaiavita-lebendigeerde.de/ausbildung/rutengaenger/2024/
URL:https://bgr-ev.de/termin/sensitives-rutengehen-juni-2024/
CATEGORIES:Ausbildung
END:VEVENT
BEGIN:VEVENT
DTSTART;TZID=Europe/Berlin:20240607T120000
DTEND;TZID=Europe/Berlin:20240609T120000
DTSTAMP:20260424T102756
CREATED:20240319T173037Z
LAST-MODIFIED:20240414T204207Z
UID:2870-1717761600-1717934400@bgr-ev.de
SUMMARY:Internationaler Jahreskongress 2024
DESCRIPTION:Der Österreichische Verband für Radiästhesie und Geobiologie lädt zur jährlichen Tagung nach Spital am Pyhrn in Oberösterreich ein. Zahlreiche Vorträge und Workshops machen das Wochenende wieder zu einem spannenden Ereignis.
URL:https://bgr-ev.de/termin/internationaler-jahreskongress-2024/
LOCATION:Hotel Freunde der Natur\, Spital am Pyhrn\, Wiesenweg 7\, Spital am Pyhrn\, 4582\, Österreich
CATEGORIES:Tagung
ATTACH;FMTTYPE=image/webp:https://bgr-ev.de/wp-content/uploads/95c80b_98cbaeb1855c419d814acd95e65355eemv2.webp
ORGANIZER;CN="%C3%96VRG | %C3%96sterreichischer Verband f%C3%BCr Radi%C3%A4sthesie und Geobiologie":MAILTO:info@radiaesthesieverband.at
END:VEVENT
BEGIN:VEVENT
DTSTART;TZID=Europe/Berlin:20240613T183000
DTEND;TZID=Europe/Berlin:20240613T210000
DTSTAMP:20260424T102756
CREATED:20240210T112546Z
LAST-MODIFIED:20240221T174116Z
UID:2450-1718303400-1718312400@bgr-ev.de
SUMMARY:Auftanken im Schlaf - Standortfaktoren\, Erdstrahlen und das Unbewusste (Online-Seminar)
DESCRIPTION:Im Schlaf möchte jeder Mensch entspannen\, träumen und auftanken für den neuen Tag. Gerade heutzutage brauchen wir mehr denn je einen guten Schlaf\, der uns ein konstantes Niveau an persönlicher Kraft\, Resilienz und psychischer Stabilität schenkt. Die Realität: über 60% der Bundesbürger ab 40 Jahre haben Schlafprobleme. Ein echtes Massenphänomen. Und Elektrobiologen\, Rutengänger oder Matratzenberater geben meist widersprüchliche Empfehlungen und verwirren eher als gezielt Abhilfe zu schaffen. Denn nur die Gesamtschau des komplexen Phänomens Schlaf bringt den Erfolg. \n\n\n\nDieses Online-Seminar behandelt alle Faktoren für den vitalen Schlaf. Dabei werden geomantische Faktoren aus der Raumenergetik\, dem Space Clearing und der Raumpsychologie kombiniert mit Sichtweisen aus der Schlafforschung. Für alle\, die schlecht schlafen oder anderen helfen wollen\, besser zu schlafen. \n\n\n\nThemen \n\n\n\nGestörter Schlaf\, was tun? \n\n\n\nDie Schlaf-Verhaltensanalyse * Kurz- und Langschläfer * Nomaden und Sesshafte * Die geomantischen Ebenen des gestörten Schlafes * Die Lösungsachsen \n\n\n\nBettplatzierung und Bettformen \n\n\n\nUnruhe im Schlaf durch Raumdynamik * Das Auftanken des \n\n\n\nEnergiekörpers * Das morgendliche Lebensenergieniveau * Die Patina des Schlafprozesses * \n\n\n\nSonderinstallation zur Aufwertung der Schlafplatzsituation. \n\n\n\nDie Metaphysik des Schlafs \n\n\n\nTraum\, Eros\, Geburt und Tod – das Bett als Ort der Schwelle * Die \n\n\n\n„Traumkraft“ der Räume * Der eigene Kosmos um das Bett * Der Heilschlaf. \n\n\n\nWege zu einem besseren Schlaf \n\n\n\nRadiästhetische und elektrobiologische Einflüsse * Strom als \n\n\n\ngeistiger Faktor * Einschlafrituale und Schlafhilfen * Schlafunterstützende Raumkonzepte. \n\n\n\nInfos & Anmeldung: https://fortunamundi.de/veranstaltungen/online-seminare/auftanken-im-schlaf  \n\n\n\nOrt der Veranstaltung \n\n\n\nOnline\, Zoom \n\n\n\nReferent*in \n\n\n\nPascal Zielke \n\n\n\nKosten inkl. MwSt. in € \n\n\n\n35\,- Euro \n\n\n\ndarin enthalten sind \n\n\n\nLive-Zoom-Event\, PDF\, Video-Aufzeichnung für begrenzte Zeit \n\n\n\nZielgruppe \n\n\n\nalle Interessierten\, keine Vorkenntnisse nötig \n\n\n\nVeranstalter \n\n\n\nFORTUNA MUNDI – Akademie für Integrale Geomantie \n\n\n\nZur Burg 24\, 36282 Hauneck \n\n\n\n0171-7958029 \n\n\n\nkontakt@fortunamundi.de \n\n\n\nwww.fortunamundi.de
URL:https://bgr-ev.de/termin/auftanken-im-schlaf-standortfaktoren-erdstrahlen-und-das-unbewusste-online-seminar/
ATTACH;FMTTYPE=image/jpeg:https://bgr-ev.de/wp-content/uploads/21.03.2024-scaled.jpg
END:VEVENT
BEGIN:VEVENT
DTSTART;TZID=Europe/Berlin:20240620T080000
DTEND;TZID=Europe/Berlin:20240620T170000
DTSTAMP:20260424T102756
CREATED:20240620T085447Z
LAST-MODIFIED:20240620T085448Z
UID:3246-1718870400-1718902800@bgr-ev.de
SUMMARY:AusbildungAkasha Chronik Ausbildung Ausbildung
DESCRIPTION:Lernen Sie in Ihrer Akasha Chronik zu lesen – im Quantenfeld der bedingungslosen Liebe \n\n\n\nDatum: 31.10. – 03.11.2024 jeweils von 10 – 17 Uhr \n\n\n\nName des Veranstalters: \n\n\n\nNicole Zaremba – Klassisches Feng Shui \n\n\n\nReferentin: \n\n\n\nNicole Zaremba\, Feng Shui Meisterin und Heilpraktikerin für Psychotherapie \n\n\n\nOrt der Veranstaltung: \n\n\n\nLive – Online \n\n\n\nBeschreibung: \n\n\n\nAlle Erfahrungen unserer Seele sind im Bewusstseinsfeld der Akasha Chronik gespeichert. \n\n\n\nIn diesem Kurs lernen die Teilnehmer eine einfache und wirksame Methode kennen\, um mit der inneren höheren Ebene des Wissens zu kommunizieren\, der Akasha Chronik oder auch dem Feld des Quantenbewusstseins. Sie lernen klare Botschaften zu empfangen und weiter zu geben.  \n\n\n\nDabei üben wir auch\, geerdet und geschützt zu bleiben und finden heraus\, welches unser hellfühliger Sinn ist. \n\n\n\nMan kann dieser Ebene Fragen zum eigenen Leben stellen\, die oft sehr persönlich sind\, und bekommt aus sich selbst heraus hilfreiche Antworten und Hinweise dazu. \n\n\n\nUnd wenn das sicher funktioniert\, weil die Teilnehmer lernen\, ihren feinen Impulsen zu vertrauen\, lernen sie\, wie man die Akasha Chronik einer anderen Person öffnet um dort Antworten auf deren Fragen zu erhalten und diese weiter zu geben. Ihnen eine Lesung zu geben. \n\n\n\nDas bedeutet\, dass wir in diesem Kurs durch den Austausch untereinander auf eine tiefe\, seelische Ebene gehen. Die Atmosphäre in der Gruppe wird sehr liebevoll und offen\, manchmal fließen Tränen\, der Erkenntnis\, der Erleichterung\, des Verstehens. \n\n\n\nDies funktioniert online erstaunlich gut\, weil wir uns hier wirklich auf das Wesentliche fokussieren. \n\n\n\nNach ein paar Übungen und speziellen Methoden\, die am Anfang helfen\, leichter und klarer mit diesen Impulsen umzugehen\, werden wir auch etwas experimenteller. Wir werden das seelische Feld von anderen Wesen um Information bitten\, wie z. B. den Raum oder einen Ort im Wald und dabei lernen eine Erdheilung zu machen. \n\n\n\nWir lernen\, wie wir unsere eigene Schwingung erhöhen können\, so dass andere\, positivere Dinge mit uns in Resonanz gehen und das Lebens insgesamt leichter und freudiger wird. \n\n\n\nFür diesen Kurs braucht man keine Vorkenntnisse\, nur Neugier und Offenheit. \n\n\n\nDiese vier Tage sind sehr erkenntnisreich\, heilsam und wie ein Urlaub für die Seele. \n\n\n\nAbschluss dieserAusbildung ist ein Zertifikat zum Akasha Chronik Consultant nach Gabrielle Orr. \n\n\n\nGerne erzähle ich in einem persönlichen Gespräch mehr über diesen transformierenden Kurs. \n\n\n\nAkasha-Chronik Lesungen mit Nicole Zaremba sind per Telefon\, Zoom oder Live möglich. Kosten pro Stunde: 100\,- € (Abrechnung mit priv. Krankenkassen möglich) \n\n\n\nAusbildungskosten inkl. MwSt.: \n\n\n\n680\,- € \n\n\n\nZielgruppe: \n\n\n\nFür alle Interessierte\, keine Vorkenntnisse erforderlich \n\n\n\nKontakt und Anmeldung: \n\n\n\nNicole Zaremba \n\n\n\nwww.klassisches-feng-shui.de \n\n\n\ninfo@klassisches-feng-shui.de
URL:https://bgr-ev.de/termin/ausbildungakasha-chronik-ausbildung-ausbildung/
END:VEVENT
BEGIN:VEVENT
DTSTART;TZID=Europe/Berlin:20240621T000000
DTEND;TZID=Europe/Berlin:20240623T235959
DTSTAMP:20260424T102756
CREATED:20230621T140036Z
LAST-MODIFIED:20240729T180622Z
UID:1243-1718928000-1719187199@bgr-ev.de
SUMMARY:Bazi Suanming - Module 9+10 - Ausbildung 2024 / 1.Hj.
DESCRIPTION:Bazi SuanmingDie Schicksalsberechnung nach den 8 SchriftzeichenDie vollständige Ausbildung \n\n\n\nNähere Infos zur Veranstaltung hier … \n\n\n\nDozent:Dr. Manfred Kubny+49 (0)176 24754357www.manfredkubny.de  \n\n\n\nAnmeldung:mk@iatca.de
URL:https://bgr-ev.de/termin/bazi-suanming-module-910-ausbildung-2024-1-hj/
LOCATION:Berlin\, Klabundring 24\, Berlin-Blankenfelde\, 15827\, Deutschland
CATEGORIES:Ausbildung
ORGANIZER;CN="IATCA":MAILTO:mk@iatca.de
END:VEVENT
BEGIN:VEVENT
DTSTART;TZID=Europe/Berlin:20240627T160000
DTEND;TZID=Europe/Berlin:20240630T140000
DTSTAMP:20260424T102756
CREATED:20240210T135014Z
LAST-MODIFIED:20240212T181315Z
UID:2458-1719504000-1719756000@bgr-ev.de
SUMMARY:Ich bin Natur - Forschungsreise in die innere Wildnis
DESCRIPTION:In einer Welt im Aufruhr dominieren Themen wie Krieg in der Ukraine\, die Klimakrise\, Pandemien\, die digitale Transformation und die geopolitischen Instabilitäten. Ein Navigieren durch diese Zeiten ist scheinbar kaum möglich. Jeder von uns wird gefordert\, sei es beruflich oder privat. \n\n\n\nWie verorten wir uns als einzelne Menschen im Großen Ganzen? Was können wir tun\, um in unserer Kraft zu bleiben und gleichzeitig die Wandlungen in der Welt positiv zu unterstützen? \n\n\n\nVorbild ist dabei die Natur. In festen\, aber nicht starren Zyklen\, vergeht und erneuert sie sich ständig\, blüht auf und verwelkt. Auch wir Menschen tragen „Natur“ in uns\, sind wir doch Teil von ihr. Daher istsie die beste Lehrmeisterin\, um wieder in den Fluss des Lebens zu kommen und kann uns gleichzeitig widerspiegeln\, wo es gerade stockt\, wo wir uns dem Lebendigen verschließen. \n\n\n\nEinige der Fragen\, denen wir uns stellen werden: \n\n\n\n– Wie steht es um meine Energie\, meine Lebendigkeit und meine Präsenz? \n\n\n\n– Wie will ich wirken und wie werde ich wahrgenommen und wer bin ich eigentlich in meiner Essenz? \n\n\n\n– Wie will ich Beziehungen gestalten? \n\n\n\n– Welchen Sinn gebe ich meinem Leben? \n\n\n\n– Was „ruft“ mich? Was will ich zur Welt beitragen? Und wie bringe ich dies ins Leben? \n\n\n\n– Wie kann ich mit Widerstand in mir und bei anderen umgehen? \n\n\n\n– Wie balanciere ich den Wunsch nach Veränderung mit dem nach Sicherheit? \n\n\n\n– Wie kann ich meine Intuition stärker nutzen? \n\n\n\nWir arbeiten: \n\n\n\n• in und mit der Natur als Spiegel innerer Bewegungen und Fragestellungen \n\n\n\n• mit den 4 Elementen des Lebens – ihre Bedeutung für mein Leben und meiner Präsenz \n\n\n\n• mit dem Medizinrad aus der Vision-Quest-Tradition – ein wunderbares Instrument\, um zyklischen Wandlungsdynamiken in der Natur und im menschlichen Leben erfahrbar zu machen \n\n\n\n• mit Meditation\, Achtsamkeit und Methoden der Körperarbeit (Embodiment) \n\n\n\nInfos & Anmeldung: https://fortunamundi.de/veranstaltungen/seminare/ich-bin-natur-Forschungsreise \n\n\n\nOrt der Veranstaltung \n\n\n\nSchloss Buchenau\, Eiterfeld/Fulda  \n\n\n\nReferent*in \n\n\n\nMarkus E. Zielke \n\n\n\nKosten inkl. MwSt. in € \n\n\n\n490\,- Euro \n\n\n\ndarin enthalten sind \n\n\n\nSeminarkosten und Skripte \n\n\n\nZielgruppe \n\n\n\nalle Interessierten\, keine Vorkenntnisse nötig \n\n\n\nVeranstalter \n\n\n\nFORTUNA MUNDI – Akademie für Integrale Geomantie \n\n\n\nZur Burg 24\, 36282 Hauneck \n\n\n\n0171-7958029 \n\n\n\nkontakt@fortunamundi.de \n\n\n\nwww.fortunamundi.de
URL:https://bgr-ev.de/termin/ich-bin-natur-forschungsreise-in-die-innere-wildnis/
ATTACH;FMTTYPE=image/jpeg:https://bgr-ev.de/wp-content/uploads/27.06.2024-scaled.jpg
END:VEVENT
BEGIN:VEVENT
DTSTART;TZID=Europe/Berlin:20240627T170000
DTEND;TZID=Europe/Berlin:20240630T140000
DTSTAMP:20260424T102756
CREATED:20240228T100045Z
LAST-MODIFIED:20240402T160858Z
UID:2621-1719507600-1719756000@bgr-ev.de
SUMMARY:Das Geheimnis der hohlen Berge – verborgene Kräfte wiederbeleben
DESCRIPTION:Name des Veranstalters:  \n\n\n\nJutta Watzlawik – wesensreich  Geomantie \n\n\n\nReferent*in:  \n\n\n\nJutta Watzlawik \n\n\n\nOrt der Veranstaltung: \n\n\n\nWohlmannsgesees 1\, 91346 Wiesenttal-Wohlmannsgesees in der Fränkischen Schweiz \n\n\n\nBeschreibung:  \n\n\n\nHohle Berge wie der Kyffhäuser\, Untersberg und der Blanik in Tschechien finden sich in vielen Sagen und Mythen wieder. Sie sind Hüter des alten Wissens und Wohnorte der Sidhe. Auch rund um den Druidenhain finden sich hohle Berge\, die nach der Wiederbelebung ihrer für uns und die Wandelzeit der Erde wichtigen verborgenen Kräfte rufen\, um damit für den Ort\, Mutter Erde und uns selbst Heilung und Ganzwerdung zu initiieren.Schwerpunkt dieses Seminars sind Übungen zur Vertiefung unserer intuitiven Wahrnehmung und zur Kommunikation mit der Anderswelt.Bitte mitbringen: Trinkflasche\, Wanderschuhe und evtl. Trekkingstöcke\, Allwetterkleidung\, Sitzkissen\, Taschenlampe\, optional Musikinstrumente \n\n\n\nÜbernachtung und Halbpension: Gasthof Heid\, Wohlmannsgesees 1\, 91346 Wiesenttal-Wohlmannsgesees. Tel.09196 306Mit der Seminaranmeldung über mich buchbar.  \n\n\n\nKosten inkl. MwSt. \n\n\n\n330\,00 Euro Seminargebühr ohne Unterkunft \n\n\n\nZielgruppe \n\n\n\nFür Interessierte mit und ohne Vorkenntnisse \n\n\n\nVeranstalter:  \n\n\n\nJutta Watzlawik\, Prinzenweg 1\, 93047 Regensburg \n\n\n\ninfo@wesensreich.net     www.wesensreich.net
URL:https://bgr-ev.de/termin/das-geheimnis-der-hohlen-berge-verborgene-kraefte-wiederbeleben-2/
ATTACH;FMTTYPE=image/jpeg:https://bgr-ev.de/wp-content/uploads/HohleBergeJuni-27.jpg
END:VEVENT
END:VCALENDAR