BEGIN:VCALENDAR
VERSION:2.0
PRODID:-//BGR - ECPv6.15.20//NONSGML v1.0//EN
CALSCALE:GREGORIAN
METHOD:PUBLISH
X-ORIGINAL-URL:https://bgr-ev.de
X-WR-CALDESC:Veranstaltungen für BGR
REFRESH-INTERVAL;VALUE=DURATION:PT1H
X-Robots-Tag:noindex
X-PUBLISHED-TTL:PT1H
BEGIN:VTIMEZONE
TZID:Europe/Berlin
BEGIN:DAYLIGHT
TZOFFSETFROM:+0100
TZOFFSETTO:+0200
TZNAME:CEST
DTSTART:20230326T010000
END:DAYLIGHT
BEGIN:STANDARD
TZOFFSETFROM:+0200
TZOFFSETTO:+0100
TZNAME:CET
DTSTART:20231029T010000
END:STANDARD
BEGIN:DAYLIGHT
TZOFFSETFROM:+0100
TZOFFSETTO:+0200
TZNAME:CEST
DTSTART:20240331T010000
END:DAYLIGHT
BEGIN:STANDARD
TZOFFSETFROM:+0200
TZOFFSETTO:+0100
TZNAME:CET
DTSTART:20241027T010000
END:STANDARD
BEGIN:DAYLIGHT
TZOFFSETFROM:+0100
TZOFFSETTO:+0200
TZNAME:CEST
DTSTART:20250330T010000
END:DAYLIGHT
BEGIN:STANDARD
TZOFFSETFROM:+0200
TZOFFSETTO:+0100
TZNAME:CET
DTSTART:20251026T010000
END:STANDARD
END:VTIMEZONE
BEGIN:VEVENT
DTSTART;TZID=Europe/Berlin:20240430T140000
DTEND;TZID=Europe/Berlin:20240505T140000
DTSTAMP:20260420T151137
CREATED:20240228T094705Z
LAST-MODIFIED:20240402T161250Z
UID:2610-1714485600-1714917600@bgr-ev.de
SUMMARY:Alles neu macht der Mai!
DESCRIPTION:Beltane-Retreat auf dem Holleberg Hoher Meißner \n\n\n\nName des Veranstalters:  \n\n\n\nXenia Fitzner\, Praxis für altes Wissen \n\n\n\nReferent*in:  \n\n\n\nJutta Watzlawik\, Xenia Fitzner \n\n\n\n \n\n\n\n \n\n\n\nOrt der Veranstaltung: \n\n\n\nNaturfreunde Meißnerhaus\, Hoher Meißner – Regina-Fahrenbach-Str. 4\, 37235 Hess. Lichtenau  \n\n\n\nBeschreibung: \n\n\n\nUns als einzigartige Wesen in der Beltanezeit zu feiern\, ebnet den Weg zur  ursprünglichen inneren Grünkraft\, die in sich selbst ruht\, sich nicht vergleicht\, nix beweisen muss.Programm:– Wir erkunden und feiern das rituelle Jahreskreisfest Beltane.– Auf dem hohen Meißner besuchen wir Kraftorte und gewinnen neuen Überblick.– Wir nutzen das Göttinnenorakel von Luisa Francia und schamanische Traumkörperarbeit.– Wir wirken den Gestaltzauber des grünen Mannes \, beleuchten unsere Verbindungen mit Männern und Vätern.– Wir erforschen und stärken den inneren „großen Ermöglicher“ in Resonanz mit der üppigen Grünkraft im Landschaftstempel Hoher Meißner.– Wir wandern und verweilen in Meditation auf das „Hier und Jetzt“\, befreien uns von Anhaftung und Verblendung.– Wir wirken Liebeszauber und Geldmagie\, stärken Selbstachtung und Wertschätzung.Bitte mitbringen: Trinkflasche\, Wanderschuhe und evtl. Wanderstöcke\, Allwetterkleidung\, Sitzkissen\, Taschenlampe  \n\n\n\nKosten inkl. MwSt. \n\n\n\n450\,00 €\,  (ohne Unterkunft) \n\n\n\nZielgruppe \n\n\n\nFür Interessierte mit und ohne Vorkenntnisse \n\n\n\nVeranstalter \n\n\n\nAnmeldung\, Buchung der Unterkunft und weitere Infos: Xenia Fitzner \n\n\n\nlea@xeniamond.de\,  \n\n\n\nTel. 0049 16090666630  \n\n\n\n\nAlle Termine auf einen Blick\n\n\n\n\nInfos auch auf          www.wesensreich.net
URL:https://bgr-ev.de/termin/alles-neu-macht-der-mai/
ATTACH;FMTTYPE=image/jpeg:https://bgr-ev.de/wp-content/uploads/MeissnerBeltaneApril30.jpg
END:VEVENT
BEGIN:VEVENT
DTSTART;TZID=Europe/Berlin:20240502T140000
DTEND;TZID=Europe/Berlin:20240504T140000
DTSTAMP:20260420T151137
CREATED:20231128T104948Z
LAST-MODIFIED:20240118T142526Z
UID:1500-1714658400-1714831200@bgr-ev.de
SUMMARY:Sensitives Rutengehen  Mai 2024
DESCRIPTION:In dieser „Intensivausbildung sensitive Radiästhesie” (Rutengehen) lernen Sie die Grundlagen im Umgang mit der Rute kennen. \n\n\n\nSie lernen weiterhin eine Mediale Abfrage-Technik\, die es ihnen ermöglicht eine Vielfalt von Informationen über die verlängerte Antenne zu bekommen. \n\n\n\nSie lernen weiterhin Orte zu bestimmen\, die den menschlichen Organismus positiv oder negativ beeinträchtigen können.  \n\n\n\nDiese etwas andere Ausbildung zum sensitiven Rutengänger erweckt ihr inneres Wahrnehmungssystem.  \n\n\n\nDer Mensch hat ein hochintelligentes Antennensystem\, das nur darauf wartet das ganze eigene Potenzial auszuschöpfen. \n\n\n\nAusbildungsort: 61279 Grävenwiesbach/Taunus – Untergasse 7 \n\n\n\nReferent: Axel Sallmann \n\n\n\nSeminarpreis: 355\,– € incls. Wünschelrute und Skript \n\n\n\nZielgruppe:   \n\n\n\nMenschen die ihre eigenen Antennen und ihre Wahrnehmung neu justieren möchten.                                                      \n\n\n\nAnsprechpartner:  \n\n\n\nAxel Sallmann – Gaiavita LebendigeErde \n\n\n\n61279 Grävenwiesbach\, Untergasse 7 \n\n\n\nTel. 06086 969580   Mob. 0170 4634086 \n\n\n\nMail: info@gaiavita.de \n\n\n\nWeb: https://www.gaiavita-lebendigeerde.de/ausbildung/rutengaenger/2024/
URL:https://bgr-ev.de/termin/sensitives-rutengehen-mai-2024/
CATEGORIES:Ausbildung
END:VEVENT
BEGIN:VEVENT
DTSTART;TZID=Europe/Berlin:20240509T150000
DTEND;TZID=Europe/Berlin:20240512T123000
DTSTAMP:20260420T151137
CREATED:20240319T180041Z
LAST-MODIFIED:20240414T204228Z
UID:2850-1715266800-1715517000@bgr-ev.de
SUMMARY:EAS Spring-Meeting 2024
DESCRIPTION:Inner Peace und Seelenessenz der Landschaft \n\n\n\nWir laden alle Mitglieder und Freunde des EAS an den Bodensee ein\, um uns miteinander und mit der Seelenessenz der Landschaft zu verbinden. In einem offenen Programm wollen wir unseres in den Raum geben\, Geschichten teilen\, die Landschaft erkunden und Impulse aufnehmen. \n\n\n\nDazu laden wir alle ein\, sich im OPEN SPACE zu beteiligen und aktiv am Programm mitzumachen. Wir freuen uns über Geheimtipps\, Impulse und Beiträge zu unserem Programm vom 9. bis 12. Mai 2024. Nähere Infos und das Anmeldeformular finden Sie mit diesem Link auf der Webseite des EAS zum Herunterladen.
URL:https://bgr-ev.de/termin/eas-spring-meeting/
LOCATION:Humboldt-Haus Achberg\, Panoramastraße 30\, Achberg bei Lindau am Bodensee\, 88147\, Deutschland
CATEGORIES:Tagung
ATTACH;FMTTYPE=image/jpeg:https://bgr-ev.de/wp-content/uploads/EAS-Spring-Meeting_2024_1-scaled.jpg
ORGANIZER;CN="EAS | Europ%C3%A4ischer Verband f%C3%BCr ganzheitliche Raumkultur e.V.":MAILTO:office@eas-ev.eu
END:VEVENT
BEGIN:VEVENT
DTSTART;TZID=Europe/Berlin:20240517T000000
DTEND;TZID=Europe/Berlin:20240519T235959
DTSTAMP:20260420T151137
CREATED:20230621T140000Z
LAST-MODIFIED:20240729T180612Z
UID:1241-1715904000-1716163199@bgr-ev.de
SUMMARY:Bazi Suanming - Module 7+8 - Ausbildung 2024 / 1.Hj.
DESCRIPTION:Bazi SuanmingDie Schicksalsberechnung nach den 8 SchriftzeichenDie vollständige Ausbildung \n\n\n\nNähere Infos zur Veranstaltung hier … \n\n\n\nDozent:Dr. Manfred Kubny+49 (0)176 24754357www.manfredkubny.de  \n\n\n\nAnmeldung:mk@iatca.de
URL:https://bgr-ev.de/termin/bazi-suanming-module-78-ausbildung-2024-1-hj/
LOCATION:Berlin\, Klabundring 24\, Berlin-Blankenfelde\, 15827\, Deutschland
CATEGORIES:Ausbildung
ORGANIZER;CN="IATCA":MAILTO:mk@iatca.de
END:VEVENT
BEGIN:VEVENT
DTSTART;TZID=Europe/Berlin:20240518T170000
DTEND;TZID=Europe/Berlin:20240522T140000
DTSTAMP:20260420T151137
CREATED:20240228T100255Z
LAST-MODIFIED:20240402T160941Z
UID:2623-1716051600-1716386400@bgr-ev.de
SUMMARY:Verwurzelt fließen – Intersein mit der Natur
DESCRIPTION:Name des Veranstalters:  \n\n\n\nIntersein – Zentrum für Achtsamkeitspraxis und Meditationwww.intersein-zentrum.de  \n\n\n\nReferent*in:  \n\n\n\nJutta Watzlawik \n\n\n\nOrt der Veranstaltung: \n\n\n\nUnterkashof 50 \n\n\n\n94545 Hohenau im Bayerischen Wald \n\n\n\nBeschreibung:  \n\n\n\nAchtsamkeit\, Verbundenheit\, und der heilsame\, fließende Austausch zwischen Mensch und Natur stehen im Mittelpunkt dieses Retreats. Indem wir uns als aufmerksamen Teil des Lebensnetzes spüren\, kann Heilung und Ganzwerdung geschehen für uns und Mutter Erde.Meditative Wanderungen und sanfte Spaziergänge bieten Raum für das Erleben unserer lebendigen Mitwelt. Bäume und Wasser stehen im Zentrum unserer Betrachtung.Achtsame\, mit dem Atem in Einklang stehende Fortbewegung lässt uns das Sein als Bewegung empfinden\, wir kommen in Fluss ohne die Verbundenheit zu verlieren. Integrierte Naturkontemplationen\, Meditationen und Impulsvorträge geben Anregung und Orientierung\, praktische Übungen intensivieren die intuitive Wahrnehmung.Während des gesamten Retreats sind wir eingebettet in den rhythmischen Tagesablauf und die achtsame Lebensweise der Hausgemeinschaft des Intersein-Zentrums.Bitte wettertaugliche Kleidung und Schuhe mitbringen\, sowie eine Sitzunterlage und Trinkflasche.Kosten inkl. MwSt. \n\n\n\n210\,00 Euro Seminargebühren \n\n\n\nZielgruppe \n\n\n\nFür alle Interessierte  \n\n\n\nVeranstalter:  \n\n\n\nIntersein – Zentrum für Achtsamkeitspraxis und Meditation \n\n\n\nTelefon: +49(0)8558-920 252  \n\n\n\nEmail: post@intersein-zentrum.de  \n\n\n\nWebsite   www.intersein-zentrum.de/programme/seminare/verwurzelt_fliessen-154.html
URL:https://bgr-ev.de/termin/verwurzelt-fliessen-intersein-mit-der-natur-2/
ATTACH;FMTTYPE=image/jpeg:https://bgr-ev.de/wp-content/uploads/VerwurzeltfliessenMai18.jpg
END:VEVENT
BEGIN:VEVENT
DTSTART;TZID=Europe/Berlin:20240522T160000
DTEND;TZID=Europe/Berlin:20240526T140000
DTSTAMP:20260420T151137
CREATED:20240210T114532Z
LAST-MODIFIED:20240212T181247Z
UID:2456-1716393600-1716732000@bgr-ev.de
SUMMARY:Die Tiefenwahrnehmung – Hellsehen und Feinfühlen an den Externsteinen
DESCRIPTION:Unsere Wahrnehmung bestimmt unsere Wirklichkeit. Wir sind\, was wir erkennen. Daher ist die Öffnung der individuellen Wahrnehmung ein großes Potenzial Ihrer Persönlichkeitsentwicklung und der „Schlüssel“ zum Verständnis lebendiger Natur. Dieses Seminar führt deshalb grundlegend ein in die Funktionen und Potenziale unserer Sinne. Wir lernen\, den Rahmen unserer Sinnesleistungen schrittweise zu erweitern und uns für neue Welten zu öffnen. In der fantastischen Landschaft der Externsteine werden wir Orten mit „Seele“ begegnen\, die unseren Horizont für das Lebendige erweitern. \n\n\n\nVordergründig finden wir hier Geschichte und Kultur vor\, aber vor allem begegnen wir einem Ort\, der \n\n\n\nuns Schönheit und Zauber der Natur wieder entdecken lässt und welcher Möglichkeiten der Erfahrung bietet\, die uns in der Tiefe berühren können. Die Externsteine sind\, zusammen mit ihrer Umgebung\, eine der beeindruckendsten Stätten Deutschlands. Als uraltes Sternenheiligtum\, Kultstätte der Germanen und Ort der Einweihung haben sie bis heute ihre Kraft und ihre Faszination erhalten. \n\n\n\nInfos & Anmeldung: https://fortunamundi.de/veranstaltungen/seminare/die-tiefenwahrnehmung-%E2%80%93-hellsehen-und-feinf%C3%BChlen-an-den-externsteinen \n\n\n\nOrt der Veranstaltung \n\n\n\nWaldhotel Silbermühle\, Horn-Bad Meinberg \n\n\n\nReferent*in \n\n\n\nPascal Zielke \n\n\n\nKosten inkl. MwSt. in € \n\n\n\n590\,- Euro \n\n\n\ndarin enthalten sind \n\n\n\nSeminarkosten und Skripte \n\n\n\nZielgruppe \n\n\n\nalle Interessierten\, keine Vorkenntnisse nötig \n\n\n\nVeranstalter \n\n\n\nFORTUNA MUNDI – Akademie für Integrale Geomantie \n\n\n\nZur Burg 24\, 36282 Hauneck \n\n\n\n0171-7958029 \n\n\n\nkontakt@fortunamundi.de \n\n\n\nwww.fortunamundi.de
URL:https://bgr-ev.de/termin/die-tiefenwahrnehmung-hellsehen-und-feinfuehlen-an-den-externsteinen/
ATTACH;FMTTYPE=image/jpeg:https://bgr-ev.de/wp-content/uploads/22.06.2024-scaled.jpg
END:VEVENT
END:VCALENDAR