BEGIN:VCALENDAR
VERSION:2.0
PRODID:-//BGR - ECPv6.15.20//NONSGML v1.0//EN
CALSCALE:GREGORIAN
METHOD:PUBLISH
X-ORIGINAL-URL:https://bgr-ev.de
X-WR-CALDESC:Veranstaltungen für BGR
REFRESH-INTERVAL;VALUE=DURATION:PT1H
X-Robots-Tag:noindex
X-PUBLISHED-TTL:PT1H
BEGIN:VTIMEZONE
TZID:Europe/Berlin
BEGIN:DAYLIGHT
TZOFFSETFROM:+0100
TZOFFSETTO:+0200
TZNAME:CEST
DTSTART:20230326T010000
END:DAYLIGHT
BEGIN:STANDARD
TZOFFSETFROM:+0200
TZOFFSETTO:+0100
TZNAME:CET
DTSTART:20231029T010000
END:STANDARD
BEGIN:DAYLIGHT
TZOFFSETFROM:+0100
TZOFFSETTO:+0200
TZNAME:CEST
DTSTART:20240331T010000
END:DAYLIGHT
BEGIN:STANDARD
TZOFFSETFROM:+0200
TZOFFSETTO:+0100
TZNAME:CET
DTSTART:20241027T010000
END:STANDARD
BEGIN:DAYLIGHT
TZOFFSETFROM:+0100
TZOFFSETTO:+0200
TZNAME:CEST
DTSTART:20250330T010000
END:DAYLIGHT
BEGIN:STANDARD
TZOFFSETFROM:+0200
TZOFFSETTO:+0100
TZNAME:CET
DTSTART:20251026T010000
END:STANDARD
END:VTIMEZONE
BEGIN:VEVENT
DTSTART;TZID=Europe/Berlin:20240301T000000
DTEND;TZID=Europe/Berlin:20240303T235959
DTSTAMP:20260424T143502
CREATED:20230621T135809Z
LAST-MODIFIED:20240729T180550Z
UID:1236-1709251200-1709510399@bgr-ev.de
SUMMARY:Bazi Suanming - Module 3+4 - Ausbildung 2024 / 1.Hj.
DESCRIPTION:Bazi SuanmingDie Schicksalsberechnung nach den 8 SchriftzeichenDie vollständige Ausbildung \n\n\n\nNähere Infos zur Veranstaltung hier … \n\n\n\nDozent:Dr. Manfred Kubny+49 (0)176 24754357www.manfredkubny.de  \n\n\n\nAnmeldung:mk@iatca.de
URL:https://bgr-ev.de/termin/bazi-suanming-module-34-ausbildung-2024-1-hj/
LOCATION:Berlin\, Klabundring 24\, Berlin-Blankenfelde\, 15827\, Deutschland
ORGANIZER;CN="IATCA":MAILTO:mk@iatca.de
END:VEVENT
BEGIN:VEVENT
DTSTART;TZID=Europe/Berlin:20240320T190000
DTEND;TZID=Europe/Berlin:20240320T210000
DTSTAMP:20260424T143502
CREATED:20240211T103958Z
LAST-MODIFIED:20240212T174311Z
UID:2475-1710961200-1710968400@bgr-ev.de
SUMMARY:Online-Vortrag: Schaff Dir Deinen Raum – wie Du mehr Lebenskraft am Arbeitsplatz gewinnst
DESCRIPTION:„Wir schaffen uns unsere Räume und dann wirken sie auf uns zurück“!In ihrem Vortrag wird dargelegt\, was damit gemeint ist und wie Sie im (Arbeits) Alltag davon profitieren können. \n\n\n\nLebenskraft als eine Urkraft stärkt die Gesundheit und regt die Selbstheilung an\, sie ermöglicht tiefgehende Entspannung und optimale Fitness für den Alltag. Das wiederum ist die Grundlage für Erfolg in allen Lebensbereichen und für harmonische Beziehungen. Steht uns ausreichend Lebensenergie zur Verfügung\, sind wir einfach in unserer Mitte. Dazu trägt ein gesunder und raumenergetisch optimaler Arbeitsplatz bei. Eine ausgewogene Umgebung stärkt unsere Motivation\, Leistungskraft und Arbeitsqualität.  \n\n\n\nPersönlicher beruflicher Erfolg\, gute Teamarbeit\, beste Performance im Job und eine gute Gesundheit hängen stark davon ab\, wie das eigene Arbeitsumfeld aussieht: Der Arbeitsraum an sich (Büro\, Praxis\, Laden etc.)\, das Umfeld\, der Grundriss\, die Ausrichtung des Schreibtischs\, Ordnung im Raum\, die Sitzposition – mit all diesen und weiteren Faktoren lässt sich die Lebenskraft erhalten und stärken. Was in der Praxis zu beachten ist und was wir auf einfache Art umsetzen können\, erfahren Sie von Ulrike Holtzem.  \n\n\n\nReferentin: Ulrike Holtzem | Lebenskraft-Gestaltung \n\n\n\nVERANSTALTER: webgrrls Bayern \n\n\n\nVERANSTALTUNGORT: Online \n\n\n\nKOSTEN: kostenfrei \n\n\n\nINFOS & ANMELDUNG: \n\n\n\nhttps://www.eventbrite.de/e/schaff-dir-deinen-raum-fur-mehr-lebenskraft-am-arbeitsplatz-tickets-808226105037
URL:https://bgr-ev.de/termin/online-vortrag-schaff-dir-deinen-raum-wie-du-mehr-lebenskraft-am-arbeitsplatz-gewinnst/
ATTACH;FMTTYPE=image/jpeg:https://bgr-ev.de/wp-content/uploads/Bild-Vortrag-20.03-1.jpg
END:VEVENT
BEGIN:VEVENT
DTSTART;TZID=Europe/Berlin:20240322T100000
DTEND;TZID=Europe/Berlin:20240323T140000
DTSTAMP:20260424T143502
CREATED:20231128T110052Z
LAST-MODIFIED:20240118T142526Z
UID:1513-1711101600-1711202400@bgr-ev.de
SUMMARY:Workshop Kristallprogrammierung  2024
DESCRIPTION:Kristalle sind ein wundervolles Werkzeug in der Erdheilung oder für den persönlichen Gebrauch. In diesem zweitägigen Workshop erlernst du einige Techniken der lemurianischen und atlantischen Kristallreinigung sowie die Programmierung von Kristallen anhand von hochschwingenden Farbcodierungen. \n\n\n\nProgrammierte Kristalle sind\, wenn sie richtig behandelt werden\, ein kraftvoller Sender\, der in deinem Leben einen besonderen Stellenwert einnehmen kann.  \n\n\n\nAusbildungsort: 61279 Grävenwiesbach/Taunus – Untergasse 7 \n\n\n\nReferent: Axel Sallmann \n\n\n\nSeminarpreis: 355\,– € inls. Seminarunterlagen  \n\n\n\nZielgruppe:   \n\n\n\nMenschen die in Achtsamkeit und Wahrhaftigkeit neue Informationen in das Feld der Möglichkeiten geben wollen. Zum Wohle der Erde\, der Menschen und allen Mitgeschöpfen.                                                      \n\n\n\nAnsprechpartner:  \n\n\n\nAxel Sallmann – Gaiavita LebendigeErde \n\n\n\n61279 Grävenwiesbach\, Untergasse 7 \n\n\n\nTel. 06086 969580   Mob. 0170 4634086 \n\n\n\nMail: info@gaiavita.de \n\n\n\nWeb.: https://www.gaiavita-lebendigeerde.de/kristall-workshop/2024/ausbildung/
URL:https://bgr-ev.de/termin/workshop-kristallprogrammierung-2024-2/
CATEGORIES:Seminar / Workshop
END:VEVENT
BEGIN:VEVENT
DTSTART;TZID=Europe/Berlin:20240323T130000
DTEND;TZID=Europe/Berlin:20240323T180000
DTSTAMP:20260424T143502
CREATED:20240211T104215Z
LAST-MODIFIED:20240212T174333Z
UID:2477-1711198800-1711216800@bgr-ev.de
SUMMARY:Online-Jahres-Workshop "Dein Zuhause mit Seele"
DESCRIPTION:Start-Thema: „Im Anfang liegt alles!“  \n\n\n\nSehnst Du Dich nach Räumen\, in denen Du optimal auftanken und erholen kannst? \n\n\n\nWolltest Du nicht immer schon mal was verändern? \n\n\n\nIn diesem Jahres-Workshop entwickeln wir gemeinsam ein neues Bewusstsein und eine neue Achtsamkeit für Deine Wohn-Räume. \n\n\n\nIm ersten Modul geht es um Themen wie: \n\n\n\n\n(Bau-)-Rituale: erster Spatenstich\, Richtfest\, Grundsteinlegung etc.\n\n\n\nEinsegnen\, energetisch Reinigen\n\n\n\nGenius/Anima = den guten Geist einladen\n\n\n\nAnkommen\n\n\n\nHouse-Warming\n\n\n\nUmzug/Einzug – Schwelle\, Energie und Mitte aus altem Zuhause mitnehmen\n\n\n\nFrischer Wind\n\n\n\nLebensprinzip Mars/Widder\n\n\n\n\nWEITERE TERMINE \n\n\n\njeweils 1 x im Monat zu 12 unterschiedlichen Themen der Raumenergetik und Raumpsychologie. Einstieg jederzeit möglich\, da fortlaufend \n\n\n\nWEITERE THEMEN \n\n\n\nDer gute Ort | Natur & Wohnen | Wohnen in guter Energie | Dein Zuhause fühlen | Die Mitte – innen wie außen | Gesundes Wohnen & Schlafen | Zusammenleben mit Partner\, Familie\, WG | Wohnen als Spiegel der Seele | Wohnen & Spiritualität | Zuhause als Kraftplatz | Farben & Gestaltung \n\n\n\nMit Übungen & Meditationen. \n\n\n\nSeminarleiterin: Ulrike Holtzem | Lebenskraft-Gestaltung \n\n\n\nVERANSTALTUNGORT: Online via Zoom \n\n\n\nKOSTEN:  \n\n\n\njeweils inkl. 19% MwSt. \n\n\n\n\nEinmalzahlung für alle 12 Module: € 450\,00\n\n\n\nMonatliche Zahlung (bei Buchung von 12 Modulen): € 42\,00\n\n\n\nModul einzeln (ohne Jahresgruppe) – evtl. zum Reinschuppern: € 59\,00\n\n\n\n\nALLE INFOS & ANMELDUNG ZUM WORKSHOP \n\n\n\nhttps://www.lebenskraft-gestaltung.de/dein-zuhause-mit-seele.html
URL:https://bgr-ev.de/termin/online-jahres-workshop-dein-zuhause-mit-seele/
ATTACH;FMTTYPE=image/jpeg:https://bgr-ev.de/wp-content/uploads/Bild-Zuhause-mit-Seele-23.03-1.jpg
END:VEVENT
END:VCALENDAR