BEGIN:VCALENDAR
VERSION:2.0
PRODID:-//BGR - ECPv6.15.20//NONSGML v1.0//EN
CALSCALE:GREGORIAN
METHOD:PUBLISH
X-ORIGINAL-URL:https://bgr-ev.de
X-WR-CALDESC:Veranstaltungen für BGR
REFRESH-INTERVAL;VALUE=DURATION:PT1H
X-Robots-Tag:noindex
X-PUBLISHED-TTL:PT1H
BEGIN:VTIMEZONE
TZID:Europe/Berlin
BEGIN:DAYLIGHT
TZOFFSETFROM:+0100
TZOFFSETTO:+0200
TZNAME:CEST
DTSTART:20240331T010000
END:DAYLIGHT
BEGIN:STANDARD
TZOFFSETFROM:+0200
TZOFFSETTO:+0100
TZNAME:CET
DTSTART:20241027T010000
END:STANDARD
BEGIN:DAYLIGHT
TZOFFSETFROM:+0100
TZOFFSETTO:+0200
TZNAME:CEST
DTSTART:20250330T010000
END:DAYLIGHT
BEGIN:STANDARD
TZOFFSETFROM:+0200
TZOFFSETTO:+0100
TZNAME:CET
DTSTART:20251026T010000
END:STANDARD
BEGIN:DAYLIGHT
TZOFFSETFROM:+0100
TZOFFSETTO:+0200
TZNAME:CEST
DTSTART:20260329T010000
END:DAYLIGHT
BEGIN:STANDARD
TZOFFSETFROM:+0200
TZOFFSETTO:+0100
TZNAME:CET
DTSTART:20261025T010000
END:STANDARD
END:VTIMEZONE
BEGIN:VEVENT
DTSTART;TZID=Europe/Berlin:20250221T080000
DTEND;TZID=Europe/Berlin:20250720T170000
DTSTAMP:20260419T162214
CREATED:20250109T154939Z
LAST-MODIFIED:20250109T155121Z
UID:4843-1740124800-1753030800@bgr-ev.de
SUMMARY:Feng Shui Ausbildung in 6 Modulen
DESCRIPTION:Diese Feng Shui Ausbildung mit insgesamt 6 Modulen á 3 Tage beginnt am 21.02.2025 in Reinheim bei Darmstadt. Der erste Vormittag ist zum Schnuppern kostenlos. Wer nicht vor Ort teilnehmen kann hat die Möglichkeit gleichzeitig über Zoom mit dabei zu sein. Sie lernen in dieser Ausbildung ausführlich die tiefen Zusammenhänge des Feng Shui\, und zwar nicht nur die Theorie und Anwendung\, sondern die Prinzipien dahinter. So lernen Sie dieAntwort auf das „Warum“ vieler so genannter Feng Shui Regeln kennen und können damit für fast jede Lebens- und Arbeitssituation gute Lösungen finden.Die genauen Inhalte\, Daten und Kosten sende ich Ihnen auf Anfrage gerne zu.Die Fliegenden Sterne sind auf jeden Fall enthalten. Neu ist\, dass wir teilweise mit systemischer Aufstellung arbeiten\, um tief in die Qualitäten der Fünf Elemente und der Vitalkraft hinein zu spüren und sie so auf einer ganzheitlichen Ebenen kennen zu lernen.Der Unterricht ist gut strukturiert und klar und logisch erklärt. Es bleibt genügend Zeit für Ihre Fragen und es ist viel Zeit für praktische Übungen eingeplant. Sie erhalten ein Zertifikat als Feng Shui Berater*in. \n\n\n\nAm 13.01.2025 findet um 19 Uhr ein kostenloser Infoabend zur Ausbildung statt.  \n\n\n\nBitte melden Sie sich unter info@klassisches-feng-shui.de an.
URL:https://bgr-ev.de/termin/feng-shui-ausbildung-in-6-modulen/
ORGANIZER;CN="Zaremba Nicole":MAILTO:info@klassisches-feng-shui.de
END:VEVENT
BEGIN:VEVENT
DTSTART;TZID=Europe/Berlin:20250528T170000
DTEND;TZID=Europe/Berlin:20250601T140000
DTSTAMP:20260419T162214
CREATED:20241008T165626Z
LAST-MODIFIED:20250216T174555Z
UID:4112-1748451600-1748786400@bgr-ev.de
SUMMARY:Verwurzelt fließen – Intersein mit der Natur
DESCRIPTION:Retreat\, Referentin: Jutta Watzlawik\, www.wesensreich.netAchtsamkeit\, Verbundenheit\, und der heilsame Austausch zwischen Mensch und Mutter Erde stehen im Mittelpunkt dieses Retreats. Indem wir uns als Teil des Lebensnetzes spüren\, kann Heilung und Ganzwerdung geschehen für uns und unsere Umgebung.Wir lernen von Bäumen und vom Wasser\, denn sie stehen im Zentrum unserer Betrachtungen.  Achtsame\, mit dem Atem in Einklang stehende Wanderungen und Spaziergänge lassen uns das Sein als Bewegung empfinden\, wir kommen in Fluss ohne unsere Verwurzelung und Zentrierung zu verlieren. Wir kommen in uns an\, spüren uns als flexibel und stark zu gleich. Naturkontemplationen\, Meditationen und Impulsvorträge geben Anregung und Orientierung\, praktische Übungen intensivieren intuitive Wahrnehmung und Resilienz.Während des gesamten Retreats sind wir eingebettet in den rhythmischen Tagesablauf und die achtsame Lebensweise der Hausgemeinschaft des Intersein-Zentrums.Bitte wettertaugliche Kleidung und Schuhe mitbringen\, sowie eine Sitzunterlage und Trinkflasche. \n\n\n\n\n\n\n\n\n\n\n\n\n\nOLYMPUS DIGITAL CAMERA
URL:https://bgr-ev.de/termin/verwurzelt-fliessen-intersein-mit-der-natur-3/
LOCATION:Unterkashof\, Unterkashof 50\, Hohenau\, Niederbayern\, 94545\, Germany
CATEGORIES:Seminar / Workshop
ATTACH;FMTTYPE=image/jpeg:https://bgr-ev.de/wp-content/uploads/af16d7bf.jpeg
ORGANIZER;CN="Intersein %E2%80%93 Zentrum f%C3%BCr Achtsamkeitspraxis und Meditation":MAILTO:post@intersein-zentrum.de
END:VEVENT
BEGIN:VEVENT
DTSTART;TZID=Europe/Berlin:20250529T080000
DTEND;TZID=Europe/Berlin:20250601T170000
DTSTAMP:20260419T162214
CREATED:20250122T154749Z
LAST-MODIFIED:20250128T141429Z
UID:4944-1748505600-1748797200@bgr-ev.de
SUMMARY:DER LEBENSBAUM - ein Kurs zur Transformation
DESCRIPTION:Hier lernst du Geheimnisse und die Mechanismen\, die dein ganz persönliches Schicksal ausmachen\, kennen. Der Inhalt des Lebensbaumes offenbart 11 sehr verschiedene Schlüssel\, die im Leben interagieren. Das hilft eine Situation sofort zu erkennen und dann auch zu bewältigen. So bekommst du eine Chance\, nicht mehr Opfer\, sondern Schöpfer deines Lebens zu sein. \n\n\n\n Im Grundmuster des Lebensbaumes werden drei Ebenen deutlich. Die physische\, die emotionale und die mentale Ebene. Jede einzelne davon unterliegt eigenen Gesetzmäßigkeiten. In tiefer Verbundenheit mit der Natur wirst du innerhalb der entsprechenden Ebene von einer Station des LEBENSBAUMES zur nächsten geführt. Mit erfahrbarem Wissen\, Meditation und den Körpern der Heiligen Geometrie wird dein ganzes Sein in Resonanz gehen und Neuordnung erfahren. \n\n\n\n \n\n\n\n\n\n\n\nFranziska Maria Zimmermann  \n\n\n\n015738773428 \n\n\n\ninfo@de-arboris.de \n\n\n\nwww.de-arboris.de 
URL:https://bgr-ev.de/termin/der-lebensbaum-ein-kurs-zur-transformation/
LOCATION:Im Rittergut von Schloß Batzdorf\, Schlossstraße 1\, 01665 Batzdorf
ATTACH;FMTTYPE=image/jpeg:https://bgr-ev.de/wp-content/uploads/P1010914.jpeg
END:VEVENT
END:VCALENDAR