BEGIN:VCALENDAR
VERSION:2.0
PRODID:-//BGR - ECPv6.15.20//NONSGML v1.0//EN
CALSCALE:GREGORIAN
METHOD:PUBLISH
X-ORIGINAL-URL:https://bgr-ev.de
X-WR-CALDESC:Veranstaltungen für BGR
REFRESH-INTERVAL;VALUE=DURATION:PT1H
X-Robots-Tag:noindex
X-PUBLISHED-TTL:PT1H
BEGIN:VTIMEZONE
TZID:Europe/Berlin
BEGIN:DAYLIGHT
TZOFFSETFROM:+0100
TZOFFSETTO:+0200
TZNAME:CEST
DTSTART:20240331T010000
END:DAYLIGHT
BEGIN:STANDARD
TZOFFSETFROM:+0200
TZOFFSETTO:+0100
TZNAME:CET
DTSTART:20241027T010000
END:STANDARD
BEGIN:DAYLIGHT
TZOFFSETFROM:+0100
TZOFFSETTO:+0200
TZNAME:CEST
DTSTART:20250330T010000
END:DAYLIGHT
BEGIN:STANDARD
TZOFFSETFROM:+0200
TZOFFSETTO:+0100
TZNAME:CET
DTSTART:20251026T010000
END:STANDARD
BEGIN:DAYLIGHT
TZOFFSETFROM:+0100
TZOFFSETTO:+0200
TZNAME:CEST
DTSTART:20260329T010000
END:DAYLIGHT
BEGIN:STANDARD
TZOFFSETFROM:+0200
TZOFFSETTO:+0100
TZNAME:CET
DTSTART:20261025T010000
END:STANDARD
END:VTIMEZONE
BEGIN:VEVENT
DTSTART;TZID=Europe/Berlin:20250221T080000
DTEND;TZID=Europe/Berlin:20250720T170000
DTSTAMP:20260419T200559
CREATED:20250109T154939Z
LAST-MODIFIED:20250109T155121Z
UID:4843-1740124800-1753030800@bgr-ev.de
SUMMARY:Feng Shui Ausbildung in 6 Modulen
DESCRIPTION:Diese Feng Shui Ausbildung mit insgesamt 6 Modulen á 3 Tage beginnt am 21.02.2025 in Reinheim bei Darmstadt. Der erste Vormittag ist zum Schnuppern kostenlos. Wer nicht vor Ort teilnehmen kann hat die Möglichkeit gleichzeitig über Zoom mit dabei zu sein. Sie lernen in dieser Ausbildung ausführlich die tiefen Zusammenhänge des Feng Shui\, und zwar nicht nur die Theorie und Anwendung\, sondern die Prinzipien dahinter. So lernen Sie dieAntwort auf das „Warum“ vieler so genannter Feng Shui Regeln kennen und können damit für fast jede Lebens- und Arbeitssituation gute Lösungen finden.Die genauen Inhalte\, Daten und Kosten sende ich Ihnen auf Anfrage gerne zu.Die Fliegenden Sterne sind auf jeden Fall enthalten. Neu ist\, dass wir teilweise mit systemischer Aufstellung arbeiten\, um tief in die Qualitäten der Fünf Elemente und der Vitalkraft hinein zu spüren und sie so auf einer ganzheitlichen Ebenen kennen zu lernen.Der Unterricht ist gut strukturiert und klar und logisch erklärt. Es bleibt genügend Zeit für Ihre Fragen und es ist viel Zeit für praktische Übungen eingeplant. Sie erhalten ein Zertifikat als Feng Shui Berater*in. \n\n\n\nAm 13.01.2025 findet um 19 Uhr ein kostenloser Infoabend zur Ausbildung statt.  \n\n\n\nBitte melden Sie sich unter info@klassisches-feng-shui.de an.
URL:https://bgr-ev.de/termin/feng-shui-ausbildung-in-6-modulen/
ORGANIZER;CN="Zaremba Nicole":MAILTO:info@klassisches-feng-shui.de
END:VEVENT
BEGIN:VEVENT
DTSTART;TZID=Europe/Berlin:20250411T150000
DTEND;TZID=Europe/Berlin:20250413T140000
DTSTAMP:20260419T200559
CREATED:20241127T115039Z
LAST-MODIFIED:20241127T115436Z
UID:4458-1744383600-1744552800@bgr-ev.de
SUMMARY:Geomantie Ausbildung 2025
DESCRIPTION:Die Grundlage der Geomantie – Rad des Lebens – Ausbildung 2025Wer sich dazu hingezogen fühlt die Erde wahrzunehmen und Geomantie mit allen Sinnen zuerleben\, der ist bei Gaiavita genau richtig. Die Geomantie-Ausbildung orientiert sich an denWirkkräften der kosmischen Lebensuhr\, dem Rad des Lebens.Die Ausbildung umfasst 6 Ausbildungsmodule\, die aufeinander aufbauen.Geomantie I – Wahrnehmung u. Einführung in das Rad des LebensGeomantie II – sensitives Rutengehen –Einführung in das Rutengehen – Schulung der medialen Sensitivität –Herstellung einer eigenen Wünschelrute\, Messung von Wasseradern\, Energielinien\,Verwerfungen\, Formwellen usw.Geomantie III – erweiterte Wahrnehmung Kontakt in die andere Welt\, die Welt derGeister\, der Elfen\, Feen\, Gnome oder auch die der spirituellen Wesen.Geomantie V und IV 2 WochenendenGrundarchetypen\, Wandlungsphasen und Gesetzmäßigkeiten im Rad des Lebens.Exkursionen u. Ortsbegehungen sind Bestandteil dieser Module.Geomantie VIDiagnose und Therapie. Vorgehensweisen bei der Diagnose von Orten\, Wohnungen\,Grundstücken usw. Gemeinsam werden wir einen Ort bzw. ein Objekt analysieren u. einenTherapieplan entwickeln.Details zur Geomantie-Ausbildung hierzu auf der Webseite von Gaiavita-LebendigeErde \n\n\n\nFür alle Menschen wie du es bist\, wenn du aktiv deinen oder einen anderenLebensraum wieder an den Kreislauf des Lebens anschließen möchtest. \n\n\n\nWeitere Ausbildungstermine:11.04.bis 13.04.2515.05.bis 18.05.2512.06. bis 15.06.2510.07. bis 13.07.2507.08. bis 10.08.2518.09. bis 21.09.25
URL:https://bgr-ev.de/termin/geomantie-ausbildung-2025/
LOCATION:61279 Grävenwiesbach/Taunus – Untergasse 7
CATEGORIES:Ausbildung
ORGANIZER;CN="Axel Sallmann":MAILTO:info@gaiavita.de
END:VEVENT
END:VCALENDAR