BEGIN:VCALENDAR
VERSION:2.0
PRODID:-//BGR - ECPv6.15.20//NONSGML v1.0//EN
CALSCALE:GREGORIAN
METHOD:PUBLISH
X-WR-CALNAME:BGR
X-ORIGINAL-URL:https://bgr-ev.de
X-WR-CALDESC:Veranstaltungen für BGR
REFRESH-INTERVAL;VALUE=DURATION:PT1H
X-Robots-Tag:noindex
X-PUBLISHED-TTL:PT1H
BEGIN:VTIMEZONE
TZID:Europe/Berlin
BEGIN:DAYLIGHT
TZOFFSETFROM:+0100
TZOFFSETTO:+0200
TZNAME:CEST
DTSTART:20230326T010000
END:DAYLIGHT
BEGIN:STANDARD
TZOFFSETFROM:+0200
TZOFFSETTO:+0100
TZNAME:CET
DTSTART:20231029T010000
END:STANDARD
BEGIN:DAYLIGHT
TZOFFSETFROM:+0100
TZOFFSETTO:+0200
TZNAME:CEST
DTSTART:20240331T010000
END:DAYLIGHT
BEGIN:STANDARD
TZOFFSETFROM:+0200
TZOFFSETTO:+0100
TZNAME:CET
DTSTART:20241027T010000
END:STANDARD
BEGIN:DAYLIGHT
TZOFFSETFROM:+0100
TZOFFSETTO:+0200
TZNAME:CEST
DTSTART:20250330T010000
END:DAYLIGHT
BEGIN:STANDARD
TZOFFSETFROM:+0200
TZOFFSETTO:+0100
TZNAME:CET
DTSTART:20251026T010000
END:STANDARD
END:VTIMEZONE
BEGIN:VEVENT
DTSTART;TZID=Europe/Berlin:20241219T200000
DTEND;TZID=Europe/Berlin:20241219T213000
DTSTAMP:20260420T044125
CREATED:20240708T161153Z
LAST-MODIFIED:20241127T115506Z
UID:3406-1734638400-1734643800@bgr-ev.de
SUMMARY:Dein innerer Tempel - Zoomkurs M2
DESCRIPTION:Das Modul zum Fragen stellen was geoenergetische Erscheinungsformen betrifft. Wie wir diese wahrnehmen und erkennen und mit ihnen umgehen können. Wir geben Einblick in die wichtigsten Themen und beraten Euch\, welche Möglichkeiten es gibt\, lebensabbauende Bereiche in ein lebensförderndes Feld zu wandeln. \n\n\n\nFolgende Themen werden im Modul behandelt: Sensibilisierung\, die Elementekräfte\, die geistige Welt und die kosmische Dimension\, die Ebenen eines Ortes\, Möglichkeiten der Analyse Radiästhesie und die Möglichkeiten zur Heilung\, Harmonisierung und Objektoptimierung\, Qualitäten eines Ortes\, Kraftorte\, heilige Plätze\, prähistorische Anlagen\, wie finden wir zur eigenen Mitte\, was können wir für sie tun und was können wir für unsere Erde tun. \n\n\n\nBuchung über:  www.de-arboris.de \n\n\n\n10 Termine\, 14 Tägig\, Kosten 600\,-
URL:https://bgr-ev.de/termin/grundlagen-zoomkurs-geomantie-geokultur-modul-2-2-2-2-2-2-2-2-2/
ATTACH;FMTTYPE=image/jpeg:https://bgr-ev.de/wp-content/uploads/T9.DeinTempel-1.jpg
END:VEVENT
END:VCALENDAR