BEGIN:VCALENDAR
VERSION:2.0
PRODID:-//BGR - ECPv6.15.20//NONSGML v1.0//EN
CALSCALE:GREGORIAN
METHOD:PUBLISH
X-WR-CALNAME:BGR
X-ORIGINAL-URL:https://bgr-ev.de
X-WR-CALDESC:Veranstaltungen für BGR
REFRESH-INTERVAL;VALUE=DURATION:PT1H
X-Robots-Tag:noindex
X-PUBLISHED-TTL:PT1H
BEGIN:VTIMEZONE
TZID:Europe/Berlin
BEGIN:DAYLIGHT
TZOFFSETFROM:+0100
TZOFFSETTO:+0200
TZNAME:CEST
DTSTART:20230326T010000
END:DAYLIGHT
BEGIN:STANDARD
TZOFFSETFROM:+0200
TZOFFSETTO:+0100
TZNAME:CET
DTSTART:20231029T010000
END:STANDARD
BEGIN:DAYLIGHT
TZOFFSETFROM:+0100
TZOFFSETTO:+0200
TZNAME:CEST
DTSTART:20240331T010000
END:DAYLIGHT
BEGIN:STANDARD
TZOFFSETFROM:+0200
TZOFFSETTO:+0100
TZNAME:CET
DTSTART:20241027T010000
END:STANDARD
BEGIN:DAYLIGHT
TZOFFSETFROM:+0100
TZOFFSETTO:+0200
TZNAME:CEST
DTSTART:20250330T010000
END:DAYLIGHT
BEGIN:STANDARD
TZOFFSETFROM:+0200
TZOFFSETTO:+0100
TZNAME:CET
DTSTART:20251026T010000
END:STANDARD
END:VTIMEZONE
BEGIN:VEVENT
DTSTART;TZID=Europe/Berlin:20241201T000000
DTEND;TZID=Europe/Berlin:20241201T235959
DTSTAMP:20260420T042749
CREATED:20240820T143442Z
LAST-MODIFIED:20240820T144007Z
UID:3649-1733011200-1733097599@bgr-ev.de
SUMMARY:Erscheinungstermin Zeitschrift erde·mensch·raum
DESCRIPTION:Ausgabe 03 der Zeitschrift erde·mensch·raum mit dem Schwerpunktthema „Ahnenkultur“.
URL:https://bgr-ev.de/termin/erscheinungstermin-zeitschrift-erde%c2%b7mensch%c2%b7raum/
CATEGORIES:Zeitschrift
ATTACH;FMTTYPE=image/jpeg:https://bgr-ev.de/wp-content/uploads/EMR-Zeitschrift-Ausgabe-02-2024-Titel-Kopie-2-scaled.jpg
ORGANIZER;CN="BGR | Bundesverband f%C3%BCr ganzheitliche Raumkultur e.V.":MAILTO:office@bgr-ev.de
END:VEVENT
END:VCALENDAR