BEGIN:VCALENDAR
VERSION:2.0
PRODID:-//BGR - ECPv6.15.20//NONSGML v1.0//EN
CALSCALE:GREGORIAN
METHOD:PUBLISH
X-ORIGINAL-URL:https://bgr-ev.de
X-WR-CALDESC:Veranstaltungen für BGR
REFRESH-INTERVAL;VALUE=DURATION:PT1H
X-Robots-Tag:noindex
X-PUBLISHED-TTL:PT1H
BEGIN:VTIMEZONE
TZID:Europe/Berlin
BEGIN:DAYLIGHT
TZOFFSETFROM:+0100
TZOFFSETTO:+0200
TZNAME:CEST
DTSTART:20230326T010000
END:DAYLIGHT
BEGIN:STANDARD
TZOFFSETFROM:+0200
TZOFFSETTO:+0100
TZNAME:CET
DTSTART:20231029T010000
END:STANDARD
BEGIN:DAYLIGHT
TZOFFSETFROM:+0100
TZOFFSETTO:+0200
TZNAME:CEST
DTSTART:20240331T010000
END:DAYLIGHT
BEGIN:STANDARD
TZOFFSETFROM:+0200
TZOFFSETTO:+0100
TZNAME:CET
DTSTART:20241027T010000
END:STANDARD
BEGIN:DAYLIGHT
TZOFFSETFROM:+0100
TZOFFSETTO:+0200
TZNAME:CEST
DTSTART:20250330T010000
END:DAYLIGHT
BEGIN:STANDARD
TZOFFSETFROM:+0200
TZOFFSETTO:+0100
TZNAME:CET
DTSTART:20251026T010000
END:STANDARD
END:VTIMEZONE
BEGIN:VEVENT
DTSTART;TZID=Europe/Berlin:20241121T160000
DTEND;TZID=Europe/Berlin:20241124T140000
DTSTAMP:20260420T063334
CREATED:20240211T103102Z
LAST-MODIFIED:20240212T181520Z
UID:2472-1732204800-1732456800@bgr-ev.de
SUMMARY:Urbilder der Seele - Entdecke die Kraft der Archetypen
DESCRIPTION:Die Mehrheit unserer täglichen Entscheidungen und unseres Handeln basieren kaum auf rein rationalen Überlegungen. Stattdessen: den Löwenanteil haben unbewusst ablaufende Muster und Gewohnheiten. Wollen wir unseren Alltag\, privat wie beruflich\, lebenswert gestalten\, ist es daher unerlässlich\, immer mehr Bewusstheit über diese verborgenen Einflüsse zu erlangen. Es gilt die eigene Selbststeuerung auszubauen. \n\n\n\nDer Psychologe C. G. Jung hat uns erstmals das Konzept der Archetypen (= UrBilder) geschenkt. Diese Urbilder finden wir in allen Kulturen zu allen Zeiten an. In jeweils abgeänderter Form können wir alle schnell einen lebhaften Bezug zu den Archetypen herstellen. Die Archetypen stellen Grundmuster der menschlichen Psyche dar: sie nehmen unbewusst Einfluss auf unser Denken und Fühlen. Wie drücken sich die Archetypen in unserem Leben und in der Führung aus? Wie können wir sie bewusst einsetzen und mehr Selbstführung übernehmen? Eine mega-spannende Reise steht an! \n\n\n\nDas Konzept \n\n\n\n✓ Wir stärken unsere Persönlichkeit und unsere Lebendigkeit. \n\n\n\n✓ Tiefgehende und nachhaltige Auseinandersetzung mit der eigenen Persönlichkeit\, Energie und der Wirkung. \n\n\n\n✓ Grundlage: Beschäftigung mit den wesentlichen Archetypen nach C. G. Jung. \n\n\n\n✓ Methoden: Körperarbeit\, Gestalt-Coaching\, Medizinrad & Vision Quest\, Transpersonale Psychologie\, u.v.m. \n\n\n\n✓ Der Lohn ist u.a.: eine größere Lebendigkeit\, Standhaftigkeit\, Balance zwischen notwendiger Distanz und Empathie – und unvergessliche Eindrücke! Das alles macht uns kraftvoller im Umgang mit Widerständen\, Krisen und zunehmender Komplexität. \n\n\n\n✓ In einem geschützten Raum\, in Verbundenheit und im Austausch. \n\n\n\nInfos & Anmeldung: https://fortunamundi.de/veranstaltungen/seminare/urbilder-der-seele-entdecke-die-kraft-der-archetypen \n\n\n\nOrt der Veranstaltung \n\n\n\nSchloss Buchenau\, Eiterfeld / Fulda \n\n\n\nReferent*in \n\n\n\nPascal Zielke\, Markus E. Zielke \n\n\n\nKosten inkl. MwSt. in € \n\n\n\n490\,- Euro \n\n\n\ndarin enthalten sind \n\n\n\nSeminarkosten und Skripte \n\n\n\nZielgruppe \n\n\n\nalle Interessierten\, keine Vorkenntnisse nötig \n\n\n\nVeranstalter \n\n\n\nFORTUNA MUNDI – Akademie für Integrale Geomantie \n\n\n\nZur Burg 24\, 36282 Hauneck \n\n\n\n0171-7958029 \n\n\n\nkontakt@fortunamundi.de \n\n\n\nwww.fortunamundi.de
URL:https://bgr-ev.de/termin/urbilder-der-seele-entdecke-die-kraft-der-archetypen/
ATTACH;FMTTYPE=image/jpeg:https://bgr-ev.de/wp-content/uploads/21.11.2024-scaled.jpg
END:VEVENT
BEGIN:VEVENT
DTSTART;TZID=Europe/Berlin:20241122T000000
DTEND;TZID=Europe/Berlin:20241124T235959
DTSTAMP:20260420T063334
CREATED:20240729T180953Z
LAST-MODIFIED:20240729T180953Z
UID:3510-1732233600-1732492799@bgr-ev.de
SUMMARY:Bazi Suanming - Module 7+8 - Ausbildung 2024 / 2.Hj.
DESCRIPTION:Bazi SuanmingDie Schicksalsberechnung nach den 8 SchriftzeichenDie vollständige Ausbildung \n\n\n\nNähere Infos zur Veranstaltung hier … \n\n\n\nDozent:Dr. Manfred Kubny+49 (0)176 24754357www.manfredkubny.de  \n\n\n\nAnmeldung:mk@iatca.de
URL:https://bgr-ev.de/termin/bazi-suanming-module-78-ausbildung-2024-2-hj/
LOCATION:Berlin\, Klabundring 24\, Berlin-Blankenfelde\, 15827\, Deutschland
CATEGORIES:Ausbildung
ORGANIZER;CN="IATCA":MAILTO:mk@iatca.de
END:VEVENT
END:VCALENDAR