BEGIN:VCALENDAR
VERSION:2.0
PRODID:-//BGR - ECPv6.15.20//NONSGML v1.0//EN
CALSCALE:GREGORIAN
METHOD:PUBLISH
X-ORIGINAL-URL:https://bgr-ev.de
X-WR-CALDESC:Veranstaltungen für BGR
REFRESH-INTERVAL;VALUE=DURATION:PT1H
X-Robots-Tag:noindex
X-PUBLISHED-TTL:PT1H
BEGIN:VTIMEZONE
TZID:Europe/Berlin
BEGIN:DAYLIGHT
TZOFFSETFROM:+0100
TZOFFSETTO:+0200
TZNAME:CEST
DTSTART:20230326T010000
END:DAYLIGHT
BEGIN:STANDARD
TZOFFSETFROM:+0200
TZOFFSETTO:+0100
TZNAME:CET
DTSTART:20231029T010000
END:STANDARD
BEGIN:DAYLIGHT
TZOFFSETFROM:+0100
TZOFFSETTO:+0200
TZNAME:CEST
DTSTART:20240331T010000
END:DAYLIGHT
BEGIN:STANDARD
TZOFFSETFROM:+0200
TZOFFSETTO:+0100
TZNAME:CET
DTSTART:20241027T010000
END:STANDARD
BEGIN:DAYLIGHT
TZOFFSETFROM:+0100
TZOFFSETTO:+0200
TZNAME:CEST
DTSTART:20250330T010000
END:DAYLIGHT
BEGIN:STANDARD
TZOFFSETFROM:+0200
TZOFFSETTO:+0100
TZNAME:CET
DTSTART:20251026T010000
END:STANDARD
END:VTIMEZONE
BEGIN:VEVENT
DTSTART;TZID=Europe/Berlin:20241031T100000
DTEND;TZID=Europe/Berlin:20241103T170000
DTSTAMP:20260420T082120
CREATED:20240620T085951Z
LAST-MODIFIED:20240620T085951Z
UID:3248-1730368800-1730653200@bgr-ev.de
SUMMARY:Akasha Chronik Ausbildung
DESCRIPTION:Lernen Sie in Ihrer Akasha Chronik zu lesen – im Quantenfeld der bedingungslosen Liebe \n\n\n\nDatum: 31.10. – 03.11.2024 jeweils von 10 – 17 Uhr \n\n\n\nName des Veranstalters: \n\n\n\nNicole Zaremba – Klassisches Feng Shui \n\n\n\nReferentin: \n\n\n\nNicole Zaremba\, Feng Shui Meisterin und Heilpraktikerin für Psychotherapie \n\n\n\nOrt der Veranstaltung: \n\n\n\nLive – Online \n\n\n\nBeschreibung: \n\n\n\nAlle Erfahrungen unserer Seele sind im Bewusstseinsfeld der Akasha Chronik gespeichert. \n\n\n\nIn diesem Kurs lernen die Teilnehmer eine einfache und wirksame Methode kennen\, um mit der inneren höheren Ebene des Wissens zu kommunizieren\, der Akasha Chronik oder auch dem Feld des Quantenbewusstseins. Sie lernen klare Botschaften zu empfangen und weiter zu geben.  \n\n\n\nDabei üben wir auch\, geerdet und geschützt zu bleiben und finden heraus\, welches unser hellfühliger Sinn ist. \n\n\n\nMan kann dieser Ebene Fragen zum eigenen Leben stellen\, die oft sehr persönlich sind\, und bekommt aus sich selbst heraus hilfreiche Antworten und Hinweise dazu. \n\n\n\nUnd wenn das sicher funktioniert\, weil die Teilnehmer lernen\, ihren feinen Impulsen zu vertrauen\, lernen sie\, wie man die Akasha Chronik einer anderen Person öffnet um dort Antworten auf deren Fragen zu erhalten und diese weiter zu geben. Ihnen eine Lesung zu geben. \n\n\n\nDas bedeutet\, dass wir in diesem Kurs durch den Austausch untereinander auf eine tiefe\, seelische Ebene gehen. Die Atmosphäre in der Gruppe wird sehr liebevoll und offen\, manchmal fließen Tränen\, der Erkenntnis\, der Erleichterung\, des Verstehens. \n\n\n\nDies funktioniert online erstaunlich gut\, weil wir uns hier wirklich auf das Wesentliche fokussieren. \n\n\n\nNach ein paar Übungen und speziellen Methoden\, die am Anfang helfen\, leichter und klarer mit diesen Impulsen umzugehen\, werden wir auch etwas experimenteller. Wir werden das seelische Feld von anderen Wesen um Information bitten\, wie z. B. den Raum oder einen Ort im Wald und dabei lernen eine Erdheilung zu machen. \n\n\n\nWir lernen\, wie wir unsere eigene Schwingung erhöhen können\, so dass andere\, positivere Dinge mit uns in Resonanz gehen und das Lebens insgesamt leichter und freudiger wird. \n\n\n\nFür diesen Kurs braucht man keine Vorkenntnisse\, nur Neugier und Offenheit. \n\n\n\nDiese vier Tage sind sehr erkenntnisreich\, heilsam und wie ein Urlaub für die Seele. \n\n\n\nAbschluss dieserAusbildung ist ein Zertifikat zum Akasha Chronik Consultant nach Gabrielle Orr. \n\n\n\nGerne erzähle ich in einem persönlichen Gespräch mehr über diesen transformierenden Kurs. \n\n\n\nAkasha-Chronik Lesungen mit Nicole Zaremba sind per Telefon\, Zoom oder Live möglich. Kosten pro Stunde: 100\,- € (Abrechnung mit priv. Krankenkassen möglich) \n\n\n\nAusbildungskosten inkl. MwSt.: \n\n\n\n680\,- € \n\n\n\nZielgruppe: \n\n\n\nFür alle Interessierte\, keine Vorkenntnisse erforderlich \n\n\n\nKontakt und Anmeldung: \n\n\n\nNicole Zaremba \n\n\n\nwww.klassisches-feng-shui.de \n\n\n\ninfo@klassisches-feng-shui.de
URL:https://bgr-ev.de/termin/akasha-chronik-ausbildung-2/
END:VEVENT
BEGIN:VEVENT
DTSTART;TZID=Europe/Berlin:20241031T160000
DTEND;TZID=Europe/Berlin:20241103T140000
DTSTAMP:20260420T082120
CREATED:20240211T102855Z
LAST-MODIFIED:20240212T181502Z
UID:2470-1730390400-1730642400@bgr-ev.de
SUMMARY:Energetische Lebensraumgestaltung – Kreatives Arbeiten mit unsichtbaren Kräften
DESCRIPTION:Als Äther (oder auch Qi\, Mana\, Prana\, Od) wurden jene Kräfte von den alten Kulturen benannt\, welche als Bindeglied zwischen Materie und Geist gesehen wurden: Die Kraft der Seele\, die Substanz der Emotionen\, die Mittler von Segenskräften und die Lebenskraft schlechthin. \n\n\n\nDie Äther spielen eine zentrale Rolle in der geomantischen Gestaltung und dienen als Medium für atmosphärische Räume in Architektur\, Kunst und Landschaftsgestaltung. \n\n\n\nDieser Kurs führt Sie ein in die Welt der atmosphärischen Phänomene des Raumes. Dabei werden ätherische oder geomantische Raumfaktoren einbezogen. Sie erlernen durch ein systematisches Praxistraining fundierte Techniken der Gebäude- und Grundstücksuntersuchung. Ziel ist\, wesentliche Einschätzungen für Grundstücke oder Lebensraumbereiche hinsichtlich Gesundheit\, Vitalität und Eignung zu erreichen. Sie erhalten so ein neues Werkzeug für die Optimierung von Lebensräumen. \n\n\n\nZudem werden wir uns anschauen wie die alten Baumeister Atmosphäre gestaltet haben und wie wir dieses Wissen in eine moderne Geomantie integrieren können. \n\n\n\nInfos & Anmeldung: https://fortunamundi.de/veranstaltungen/seminare/energetische-lebensraumgestaltung-%E2%80%93-kreatives-arbeiten-mit-unsichtbaren-kr%C3%A4ften \n\n\n\nOrt der Veranstaltung \n\n\n\nSchloss Buchenau\, Eiterfeld / Fulda \n\n\n\nReferent*in \n\n\n\nPascal Zielke\, Oliver Keil \n\n\n\nKosten inkl. MwSt. in € \n\n\n\n490\,- Euro \n\n\n\ndarin enthalten sind \n\n\n\nSeminarkosten und Skripte \n\n\n\nZielgruppe \n\n\n\nalle Interessierten\, keine Vorkenntnisse nötig \n\n\n\nVeranstalter \n\n\n\nFORTUNA MUNDI – Akademie für Integrale Geomantie \n\n\n\nZur Burg 24\, 36282 Hauneck \n\n\n\n0171-7958029 \n\n\n\nkontakt@fortunamundi.de \n\n\n\nwww.fortunamundi.de
URL:https://bgr-ev.de/termin/energetische-lebensraumgestaltung-kreatives-arbeiten-mit-unsichtbaren-kraeften/
ATTACH;FMTTYPE=image/jpeg:https://bgr-ev.de/wp-content/uploads/31.10.2024-scaled.jpg
END:VEVENT
END:VCALENDAR