BEGIN:VCALENDAR
VERSION:2.0
PRODID:-//BGR - ECPv6.15.20//NONSGML v1.0//EN
CALSCALE:GREGORIAN
METHOD:PUBLISH
X-ORIGINAL-URL:https://bgr-ev.de
X-WR-CALDESC:Veranstaltungen für BGR
REFRESH-INTERVAL;VALUE=DURATION:PT1H
X-Robots-Tag:noindex
X-PUBLISHED-TTL:PT1H
BEGIN:VTIMEZONE
TZID:Europe/Berlin
BEGIN:DAYLIGHT
TZOFFSETFROM:+0100
TZOFFSETTO:+0200
TZNAME:CEST
DTSTART:20230326T010000
END:DAYLIGHT
BEGIN:STANDARD
TZOFFSETFROM:+0200
TZOFFSETTO:+0100
TZNAME:CET
DTSTART:20231029T010000
END:STANDARD
BEGIN:DAYLIGHT
TZOFFSETFROM:+0100
TZOFFSETTO:+0200
TZNAME:CEST
DTSTART:20240331T010000
END:DAYLIGHT
BEGIN:STANDARD
TZOFFSETFROM:+0200
TZOFFSETTO:+0100
TZNAME:CET
DTSTART:20241027T010000
END:STANDARD
BEGIN:DAYLIGHT
TZOFFSETFROM:+0100
TZOFFSETTO:+0200
TZNAME:CEST
DTSTART:20250330T010000
END:DAYLIGHT
BEGIN:STANDARD
TZOFFSETFROM:+0200
TZOFFSETTO:+0100
TZNAME:CET
DTSTART:20251026T010000
END:STANDARD
END:VTIMEZONE
BEGIN:VEVENT
DTSTART;TZID=Europe/Berlin:20241025T100000
DTEND;TZID=Europe/Berlin:20241026T140000
DTSTAMP:20260420T081115
CREATED:20231128T105926Z
LAST-MODIFIED:20240118T142525Z
UID:1511-1729850400-1729951200@bgr-ev.de
SUMMARY:Workshop Kristallprogrammierung  2024
DESCRIPTION:Kristalle sind ein wundervolles Werkzeug in der Erdheilung oder für den persönlichen Gebrauch. In diesem zweitägigen Workshop erlernst du einige Techniken der lemurianischen und atlantischen Kristallreinigung sowie die Programmierung von Kristallen anhand von hochschwingenden Farbcodierungen. \n\n\n\nProgrammierte Kristalle sind\, wenn sie richtig behandelt werden\, ein kraftvoller Sender\, der in deinem Leben einen besonderen Stellenwert einnehmen kann.  \n\n\n\nAusbildungsort: 61279 Grävenwiesbach/Taunus – Untergasse 7 \n\n\n\nReferent: Axel Sallmann \n\n\n\nSeminarpreis: 355\,– € inls. Seminarunterlagen  \n\n\n\nZielgruppe:   \n\n\n\nMenschen die in Achtsamkeit und Wahrhaftigkeit neue Informationen in das Feld der Möglichkeiten geben wollen. Zum Wohle der Erde\, der Menschen und allen Mitgeschöpfen.                                                      \n\n\n\nAnsprechpartner:  \n\n\n\nAxel Sallmann – Gaiavita LebendigeErde \n\n\n\n61279 Grävenwiesbach\, Untergasse 7 \n\n\n\nTel. 06086 969580   Mob. 0170 4634086 \n\n\n\nMail: info@gaiavita.de \n\n\n\nWeb.: https://www.gaiavita-lebendigeerde.de/kristall-workshop/2024/ausbildung/
URL:https://bgr-ev.de/termin/workshop-kristallprogrammierung-2024/
CATEGORIES:Seminar / Workshop
END:VEVENT
END:VCALENDAR