BEGIN:VCALENDAR
VERSION:2.0
PRODID:-//BGR - ECPv6.15.20//NONSGML v1.0//EN
CALSCALE:GREGORIAN
METHOD:PUBLISH
X-ORIGINAL-URL:https://bgr-ev.de
X-WR-CALDESC:Veranstaltungen für BGR
REFRESH-INTERVAL;VALUE=DURATION:PT1H
X-Robots-Tag:noindex
X-PUBLISHED-TTL:PT1H
BEGIN:VTIMEZONE
TZID:Europe/Berlin
BEGIN:DAYLIGHT
TZOFFSETFROM:+0100
TZOFFSETTO:+0200
TZNAME:CEST
DTSTART:20230326T010000
END:DAYLIGHT
BEGIN:STANDARD
TZOFFSETFROM:+0200
TZOFFSETTO:+0100
TZNAME:CET
DTSTART:20231029T010000
END:STANDARD
BEGIN:DAYLIGHT
TZOFFSETFROM:+0100
TZOFFSETTO:+0200
TZNAME:CEST
DTSTART:20240331T010000
END:DAYLIGHT
BEGIN:STANDARD
TZOFFSETFROM:+0200
TZOFFSETTO:+0100
TZNAME:CET
DTSTART:20241027T010000
END:STANDARD
BEGIN:DAYLIGHT
TZOFFSETFROM:+0100
TZOFFSETTO:+0200
TZNAME:CEST
DTSTART:20250330T010000
END:DAYLIGHT
BEGIN:STANDARD
TZOFFSETFROM:+0200
TZOFFSETTO:+0100
TZNAME:CET
DTSTART:20251026T010000
END:STANDARD
END:VTIMEZONE
BEGIN:VEVENT
DTSTART;TZID=Europe/Berlin:20240928T090000
DTEND;TZID=Europe/Berlin:20240928T180000
DTSTAMP:20260420T100231
CREATED:20240619T131139Z
LAST-MODIFIED:20240912T144042Z
UID:3234-1727514000-1727546400@bgr-ev.de
SUMMARY:GEO-Now-Tisch - Pfälzerwald
DESCRIPTION:Wir möchten euch gern zu einer geomantischen Erkundungswanderung in den Pfälzerwald bei Bad Bergzabern einladen. \n\n\n\nDer Ort scheint uns irgendwie blockiert\, die Energien fliessen seit einiger Zeit dort nicht mehr. Gleichzeitig ist aber wunderbares Potential da: Die Landschaft und die Symbolsprache der Kirchen sind voller Kraft und alter weiblicher Symbole! Wir freuen uns\, gemeinsam die Kraftorte der nähen Umgebung von Bad Bergzabern zu erkunden und zu erforschen.  Zusammen bekommen wir sicherlich ein Gefühl für die schwingenden und gegenschwingenden Energien am Ort. Fühlst du dich angesprochen und hast Freude an solch einem gemeinsamen geomantischen Forschungstag? \n\n\n\nOrt und Datum des GEO-Now-Tisch \n\n\n\n\nTermin: Samstag\, den 28. September 2024 von 10:00 bis 18:00 Uhr\n\n\n\n\n\nTreffpunkt 10 Uhr Kaffeerösterei Kaffeefleck\, Marktstraße 1\, 76887 Bad Bergzabern https://kaffeefleck.de/ Dann laufen wir gemeinsam folgende Tour ca. 5 km: über die Bergkirche zum Schloss Bad Bergzabern auf den Liebfrauenberg und den Hexenplatz. Zurück geht es dann über Bismarckturm zum Kurpark.\n\n\n\n\n\nAbschluss im Culinarium: https://culinarium-bza.de/\n\n\n\n\nWeitere Infos über Bad Bergzabern und Übernachtungsmöglichkeiten vor Ort: https://www.bad-bergzabern.de/kultur-tourismus/tourist-information/ \n\n\n\n \n\n\n\nOrganisatorinnen \n\n\n\nImme Colling Blüder\, Kapsweyer bei Bad Bergzabern\, www.imme-colling.deCorinna Lochmann\, Rheinstetten bei Karlsruhe\,  www.mensch-und-raum.eu \n\n\n\nAnmeldung \n\n\n\nZur besseren Planbarkeit bitten wir um eine Anmeldung bei Imme info@imme-colling.de oder Corinna info@mensch-und-raum.eu  \n\n\n\nKosten
URL:https://bgr-ev.de/termin/geo-now-tisch-pfaelzerwald/
LOCATION:Bad Bergzabern\, Bad Bergzabern\, Pfalz\, 76887\, Deutschland
CATEGORIES:GeoNowTisch
ATTACH;FMTTYPE=image/jpeg:https://bgr-ev.de/wp-content/uploads/pfalz_bergzabern.jpg
END:VEVENT
END:VCALENDAR