BEGIN:VCALENDAR
VERSION:2.0
PRODID:-//BGR - ECPv6.15.20//NONSGML v1.0//EN
CALSCALE:GREGORIAN
METHOD:PUBLISH
X-ORIGINAL-URL:https://bgr-ev.de
X-WR-CALDESC:Veranstaltungen für BGR
REFRESH-INTERVAL;VALUE=DURATION:PT1H
X-Robots-Tag:noindex
X-PUBLISHED-TTL:PT1H
BEGIN:VTIMEZONE
TZID:Europe/Berlin
BEGIN:DAYLIGHT
TZOFFSETFROM:+0100
TZOFFSETTO:+0200
TZNAME:CEST
DTSTART:20230326T010000
END:DAYLIGHT
BEGIN:STANDARD
TZOFFSETFROM:+0200
TZOFFSETTO:+0100
TZNAME:CET
DTSTART:20231029T010000
END:STANDARD
BEGIN:DAYLIGHT
TZOFFSETFROM:+0100
TZOFFSETTO:+0200
TZNAME:CEST
DTSTART:20240331T010000
END:DAYLIGHT
BEGIN:STANDARD
TZOFFSETFROM:+0200
TZOFFSETTO:+0100
TZNAME:CET
DTSTART:20241027T010000
END:STANDARD
BEGIN:DAYLIGHT
TZOFFSETFROM:+0100
TZOFFSETTO:+0200
TZNAME:CEST
DTSTART:20250330T010000
END:DAYLIGHT
BEGIN:STANDARD
TZOFFSETFROM:+0200
TZOFFSETTO:+0100
TZNAME:CET
DTSTART:20251026T010000
END:STANDARD
END:VTIMEZONE
BEGIN:VEVENT
DTSTART;TZID=Europe/Berlin:20240912T100000
DTEND;TZID=Europe/Berlin:20240915T140000
DTSTAMP:20260420T100352
CREATED:20240109T173834Z
LAST-MODIFIED:20240213T145757Z
UID:1967-1726135200-1726408800@bgr-ev.de
SUMMARY:„Seelenbilder – Ursymbole – Kosmogramme“Wahrnehmung – intuitive Kreativität – Meditation
DESCRIPTION:ÜBER DAS SEMINAR: \n\n\n\n„Die Zeichen sind ein Alphabet\, das Du erlernen kannst\, um mit der Seele der Welt zu sprechen“.Paolo CoelhoVor über 30.000 Jahren tauchten die ersten Zeichen als Felsritzungen auf. Heute begegnen wir erstaunlicherweise ganz ähnlichen Symbolen in unserer modernen Welt. Die frühen Menschen betrachteten sie als göttlich oder gar magisch – und sie hatten ihre Macht. Was davon hat sich bis in die heutige Zeit erhalten und wie können wir die Sprache der Seele wieder für uns entdecken? \n\n\n\nSeelenbilder – Ursymbole – Kosmogramme vermitteln geistige Inhalte\, Ahnungen\, Inspirationen und alles\, was vielleicht noch nicht in Worten ausgedrückt werden kann. Durch sie kann man auch eine geistige Realität „rufen“\, finden und konkretisieren. Unseren Vorfahren war es nur durch sie möglich innerseelische Erfahrungen\, Traumbilder\, Gottheiten oder abstrakte Wahrheiten zu beschreiben. \n\n\n\nIn diesem Seminar werden wir uns mit dem Ursprung dieser Zeichen befassen und auf verschiedenste Weise innere Bilder und universelle Sprache wahrnehmen lernen\, diese mit Stiften\, Aquarellfarbe und Pinsel – ganz intuitiv und individuell – zu Papier bringen. Verschiedene Meditationsformen begleiten uns dabei. \n\n\n\nUnd so können heilende Bilder für Dich selbst sowie für Erde und Raum entstehen. \n\n\n\nSeminarleiterin: Ulrike Holtzem | Lebenskraft-Gestaltung \n\n\n\nVERANSTALTUNGORT:TamanGa Lebensgarten\, Gamlitz\, Österreich \n\n\n\nSEMINAR-KOSTEN:450 Euro/Person (inkl. 19% MwSt.)Frühbucherpreis (bis 15. Juni 2024): 390 Euro/Person (inkl. 19% MwSt.)Min. 6\, max. 10 TeilnehmerInnenMaterial wird gestellt. \n\n\n\nALLE INFOS & ANMELDUNG ZUM SEMINAR \n\n\n\nhttps://www.lebenskraft-gestaltung.de/seelenbilder.html
URL:https://bgr-ev.de/termin/seelenbilder-ursymbole-kosmogrammewahrnehmung-intuitive-kreativitaet-meditation/
CATEGORIES:Seminar / Workshop
ATTACH;FMTTYPE=image/jpeg:https://bgr-ev.de/wp-content/uploads/Seminar-Ulrike-12.09.2024.jpg
END:VEVENT
BEGIN:VEVENT
DTSTART;TZID=Europe/Berlin:20240913T170000
DTEND;TZID=Europe/Berlin:20240915T154500
DTSTAMP:20260420T100352
CREATED:20240228T094950Z
LAST-MODIFIED:20240402T160744Z
UID:2612-1726246800-1726415100@bgr-ev.de
SUMMARY:Die alte Kunst\, das Lied der Erde zu hören\, zu verstehen und zu beherzigen
DESCRIPTION:Einführung in die Grundlagen der Geomantie \n\n\n\nName des Veranstalters:  \n\n\n\nSozialpädagogisches Bildungswerk (Sobi) Münster  \n\n\n\nReferent*in:  \n\n\n\nJutta Watzlawik \n\n\n\nOrt der Veranstaltung: \n\n\n\nSobi Münster\, Raum 2 in der 3. Etage\, Achtermannstr. 10-12\, 48143 Münster  \n\n\n\nBeschreibung:  \n\n\n\nDieses Wochenendseminar will einen Einblick in die jahrtausendealte Erfahrungswissenschaft Geomantie geben. Dabei steht neben der theoretischen Darstellung von Inhalten und Arbeitsweisen der Geomantie auch das Erlernen praktischer geomantischer Methoden im Vordergrund wie intuitive Wahrnehmung\, Kommunikation mit unseren Geschwistern den Pflanzen und Naturwesen und geomantische Harmonisierung blockierter Orte. Das Seminar ist interaktiv angelegt\, der Austausch und die Diskussion spielen eine große Rolle. Dabei gibt es kein „richtig oder falsch“\, der Fokus liegt vielmehr auf dem gemeinsamen mitfühlenden und liebevollen Tun.Kleinere Exkursionen sind Teil des Seminars. Bitte auf wetterfeste Kleidung und bequeme Schuhe achten.  \n\n\n\nKosten inkl. MwSt. \n\n\n\n225\,00 €\, ermäßigt 185\,00 €  (ohne Unterkunft) \n\n\n\nZielgruppe \n\n\n\nFür Interessierte mit und ohne Vorkenntnisse \n\n\n\nVeranstalter: \n\n\n\nSobi Münster\, Achtermannstr. 10-12\, 48143 Münster \n\n\n\nTelefon 0049 251 511177 \n\n\n\nKursdetails und Anmeldung: https://www.sobi-muenster.de/programm/kw/bereich/kursdetails/kurs/24PE0901/
URL:https://bgr-ev.de/termin/die-alte-kunst-das-lied-der-erde-zu-hoeren-zu-verstehen-und-zu-beherzigen/
ATTACH;FMTTYPE=image/jpeg:https://bgr-ev.de/wp-content/uploads/LiedderErdeSeptember13.jpg
END:VEVENT
BEGIN:VEVENT
DTSTART;TZID=Europe/Berlin:20240915T000000
DTEND;TZID=Europe/Berlin:20240915T235959
DTSTAMP:20260420T100352
CREATED:20240701T154034Z
LAST-MODIFIED:20240708T155805Z
UID:3317-1726358400-1726444799@bgr-ev.de
SUMMARY:Grundlagen Videokurs   „Geomantie/Geokultur“  - Modul 1 -
DESCRIPTION:Das Modul führt Dich Schritt für Schritt in eine faszinierende Welt einer erweiterten Wahrnehmung und  vermittelt Dir wichtige Grundlagen moderner Heilungs\,- und Harmonisierungsarbeit. Diese werden u.a. bildhaft vermittelt über Dokumentationen\,  Erfahrungsberichten und auch begleitenden Meditationen. Folgende Themen werden im Modul behandelt: Sensibilisierung\, die Elementekräfte\, die geistige Welt und die kosmische Dimension\, die Ebenen eines Ortes\, Möglichkeiten der Analyse Radiästhesie und die Möglichkeiten zur Heilung\, Harmonisierung und Objektoptimierung\, Qualitäten eines Ortes\, Kraftorte\, heilige Plätze\, prähistorische Anlagen\, wie finden wir zur eigenen Mitte\, was können wir für sie tun und was können wir für unsere Erde tun. \n\n\n\nJeder kann bis Ende September neu einsteigen und einmal freigeschaltet – immer freigeschaltet = die Inhalte bleiben Dir erhalten!Zu jedem Thema erhälst Du außerdem ein Skript. \n\n\n\nBuchung über:  www.de-arboris.de \n\n\n\n9 Themen\, 14 Tägige Freischaltung\, Kosten 500\,- \n\n\n\nDie Folgemodule 2 und 3 bauen auf diese Inhalte auf. \n\n\n\nBei Fragen gerne anrufen: 0157 3877 3428 \n\n\n\nT1 – eine Reise beginnt \n\n\n\nBegrüßung \n\n\n\nDas Gesetz des Anfangs \n\n\n\nWas ist Geomantie \n\n\n\nAlles ist Bewußtsein \n\n\n\nDie Spielregeln \n\n\n\nWahrnehmung \n\n\n\nKörperkontakt \n\n\n\nWertschätzung \n\n\n\nWas ist ein Holon? \n\n\n\nErfüllung \n\n\n\nSinnfindung \n\n\n\nUrvertrauen \n\n\n\nErkenntnis/Quintessenz \n\n\n\nT2 – Die Elelmentekräfte \n\n\n\nDie Dimmensionen der Elelmen \n\n\n\nElement Feuer \n\n\n\nElelment Wasser \n\n\n\nElelemt Erde \n\n\n\nElelment Luft \n\n\n\nÄther männlich \n\n\n\nÄther weiblich \n\n\n\nT3 – Die Ebenen eines Ortes \n\n\n\nDie Physische Ebene \n\n\n\nDie Strukturbildende Ebene \n\n\n\nDie vitalenergetische Ebene \n\n\n\nDie emotionale Ebene \n\n\n\nDie seelisch geistige Ebene \n\n\n\nDie mentale Ebene \n\n\n\nT4 – Radiästhesie \n\n\n\nRadiästhetische Instrumente \n\n\n\nOrtsuntersuchungen\, Beispiele \n\n\n\nT5 – Die nicht sichtbare Welt \n\n\n\nElementarwesen \n\n\n\nPlanetare Wesenheiten \n\n\n\nEngel \n\n\n\nWas sind Geister und Dämonen \n\n\n\nT6 – Heilung und Harmonisierung \n\n\n\nHeilung der Physischen Ebe \n\n\n\nHeilung der vitalenergetischenE. \n\n\n\nHeilung der emotionalen Ebene \n\n\n\nHeilung der mentalen Ebene \n\n\n\nSchatten\,- und Lichtarbeit \n\n\n\nStabilisierung\, Neucodierung \n\n\n\nT7 – Naturtempel und Heiligtümer \n\n\n\nWas ist ein Naturtempel \n\n\n\nwas ist ein heiliger Platz \n\n\n\nprähistorische Heiligtümer \n\n\n\nHü̈ter heiliger Plätze \n\n\n\nT8 – Geokultur \n\n\n\nEinführung \n\n\n\nBeispiele \n\n\n\nT9 – Dein Tempel \n\n\n\nIntegration der Elelmente in dir \n\n\n\nInitiation \n\n\n\nDein Ort \n\n\n\nAbschluss \n\n\n\nEs ist Zeit für ein neues Verständnis im Umgang mit der Natur unserer Materie – Mater \n\n\n\nDas Fühlen in die Natur hinein bildet automatisch ein neues Denken im Umgang mit der Natur\, allen Pflanzen\, unseren Bäumen und allen Lebewesen gegenüber. \n\n\n\nWir leben in einer Zeit der starken Erdwandlung\, mit ihr haben wir als Menschen die Wahl zwischen Stagnation und innerer Errosion oder einem Quantensprung in die nächste  \n\n\n\nDimension hinein. Wir haben die Möglichkeit einem Untergang entgegen zu wirken und sich für einen Entwicklungssprung zu entscheiden. Dafür geben wir einige wichtige Werkzeuge und Bausteine mit in die Hand.  \n\n\n\nDas wunderbare ist – alle Anlagen sind im Sonnenkosmos\, im Erdekosmos sowie im Seelenkosmos eines jeden verankert.  \n\n\n\nDie Ganzheit im Menschen zu erlangen setzt voraus  \n\n\n\ndie Einheit der Natur in sich selbst zu integrieren. \n\n\n\nDas setzt voraus\, dass wir uns der wunderbaren Erde zuwenden. \n\n\n\nWir freuen uns auf Dich!
URL:https://bgr-ev.de/termin/grundlagen-videokurs-geomantie-geokultur-modul-1-2-2-2-2-3/
ATTACH;FMTTYPE=image/jpeg:https://bgr-ev.de/wp-content/uploads/T7.NaturTempel.jpg
END:VEVENT
END:VCALENDAR