BEGIN:VCALENDAR
VERSION:2.0
PRODID:-//BGR - ECPv6.15.20//NONSGML v1.0//EN
CALSCALE:GREGORIAN
METHOD:PUBLISH
X-WR-CALNAME:BGR
X-ORIGINAL-URL:https://bgr-ev.de
X-WR-CALDESC:Veranstaltungen für BGR
REFRESH-INTERVAL;VALUE=DURATION:PT1H
X-Robots-Tag:noindex
X-PUBLISHED-TTL:PT1H
BEGIN:VTIMEZONE
TZID:Europe/Berlin
BEGIN:DAYLIGHT
TZOFFSETFROM:+0100
TZOFFSETTO:+0200
TZNAME:CEST
DTSTART:20230326T010000
END:DAYLIGHT
BEGIN:STANDARD
TZOFFSETFROM:+0200
TZOFFSETTO:+0100
TZNAME:CET
DTSTART:20231029T010000
END:STANDARD
BEGIN:DAYLIGHT
TZOFFSETFROM:+0100
TZOFFSETTO:+0200
TZNAME:CEST
DTSTART:20240331T010000
END:DAYLIGHT
BEGIN:STANDARD
TZOFFSETFROM:+0200
TZOFFSETTO:+0100
TZNAME:CET
DTSTART:20241027T010000
END:STANDARD
BEGIN:DAYLIGHT
TZOFFSETFROM:+0100
TZOFFSETTO:+0200
TZNAME:CEST
DTSTART:20250330T010000
END:DAYLIGHT
BEGIN:STANDARD
TZOFFSETFROM:+0200
TZOFFSETTO:+0100
TZNAME:CET
DTSTART:20251026T010000
END:STANDARD
END:VTIMEZONE
BEGIN:VEVENT
DTSTART;TZID=Europe/Berlin:20240717T160000
DTEND;TZID=Europe/Berlin:20240721T140000
DTSTAMP:20260420T133406
CREATED:20240211T102326Z
LAST-MODIFIED:20240213T151348Z
UID:2464-1721232000-1721570400@bgr-ev.de
SUMMARY:Vitale Lebensräume – Kompakt- und Intensivkurs Radiästhesie
DESCRIPTION:Die Radiästhesie ist eine uralte Form der Wahrnehmung des Nicht-Sichtbaren. Sie basiert auf der natürlichen Fähigkeit des menschlichen Körpers\, Schwingungen und feinste Lebenskräftewahrnehmen zu können. Um diese aber präzise spüren zu können\, bedarf es einer Fokussierung auf bestimmte Phänomene. Dies wird durch Rute bzw. einer Antenne erleichtert. \n\n\n\nSie erhalten in diesem Kurs eine kompakte Einführung in die grundlegenden Techniken der modernen Radiästhesie\, erlernen den Umgang mit der hochpräzisen H3-Antenne und erhalten vertieftes Wissen über Erdstrahlen\, geologische Faktoren von Standorten und unbewussten Störungen im eigenen Wohnumfeld. Zudem lernen Sie die grundlegenden Schritte\, um ein Grundstück\, Haus oder Wohnung radiästhetisch bewerten zu können. \n\n\n\nInfos & Anmeldung: https://fortunamundi.de/veranstaltungen/seminare/vitale-lebensr%C3%A4ume-%E2%80%93-kompakt-und-intensivkurs-radi%C3%A4sthesie \n\n\n\nOrt der Veranstaltung \n\n\n\nSandebeck\, Raum Detmold \n\n\n\nReferent*in \n\n\n\nHartmut Lüdeling\, Ingeborg Lüdeling \n\n\n\nKosten inkl. MwSt. in € \n\n\n\n590\,- Euro \n\n\n\ndarin enthalten sind \n\n\n\nSeminarkosten und Skripte \n\n\n\nZielgruppe \n\n\n\nalle Interessierten\, keine Vorkenntnisse nötig \n\n\n\nVeranstalter \n\n\n\nFORTUNA MUNDI – Akademie für Integrale Geomantie \n\n\n\nZur Burg 24\, 36282 Hauneck \n\n\n\n0171-7958029 \n\n\n\nkontakt@fortunamundi.de \n\n\n\nwww.fortunamundi.de
URL:https://bgr-ev.de/termin/vitale-lebensraeume-kompakt-und-intensivkurs-radiaesthesie/
ATTACH;FMTTYPE=image/jpeg:https://bgr-ev.de/wp-content/uploads/H3-Radisthesie.jpg
END:VEVENT
BEGIN:VEVENT
DTSTART;TZID=Europe/Berlin:20240719T170000
DTEND;TZID=Europe/Berlin:20240721T150000
DTSTAMP:20260420T133406
CREATED:20240228T095516Z
LAST-MODIFIED:20240402T160827Z
UID:2617-1721408400-1721574000@bgr-ev.de
SUMMARY:Dem Ruf der Erde lauschen\, Herzenskräfte verströmen
DESCRIPTION:Name des Veranstalters:  \n\n\n\nAnanda Monika Wiese\, Praxis & Seminare zu Körperbewusstsein\, Natur und Wandelprozessen \n\n\n\nReferent*in:  \n\n\n\nJutta Watzlawik \n\n\n\nOrt der Veranstaltung: \n\n\n\nTreffpunkt: Hotel – Garni „Zum Engel“ Marktplatz 14 87634 Obergünzburg  \n\n\n\nBeschreibung:  Das Allgäu ist eine wundervoll fruchtbare Landschaft voller Kraftorte und heilsamer Energien\, aber auch geprägt von einer langen Geschichte der Nutzflächen.Im Rahmen des Seminars werden wir sowohl Orte im Ostallgäu besuchen\, die uns mit der Weisheit dieses Natur- und Kulturraumes in Verbindung bringen\, als auch unsere Aufmerksamkeit und Unterstützung den Elementarwesen und Naturwesen zukommen lassen\, deren Aufenthalts- und Wirkungsräume bedroht sind.Bitte mitbringen: Trinkflasche\, Snacks für unterwegs\, Wanderschuhe und evtl. Wanderstöcke\, Allwetterkleidung\, Sitzkissen\, Taschenlampe  \n\n\n\nKosten inkl. MwSt. \n\n\n\n225\,00 €\,  (ohne Unterkunft) \n\n\n\nZielgruppe \n\n\n\nFür Interessierte mit und ohne Vorkenntnisse \n\n\n\nVeranstalter: \n\n\n\nAnmeldung und weitere Infos: Ananda Monika Wiese \n\n\n\nTelefon: +49 176 34335426\, E-mail: mail@wesentlichwerden.dehttps://www.wesentlichwerden.de/specials-2024/geomantie-seminar/
URL:https://bgr-ev.de/termin/dem-ruf-der-erde-lauschen-herzenskraefte-verstroemen/
ATTACH;FMTTYPE=image/jpeg:https://bgr-ev.de/wp-content/uploads/RufderErdeJuli19.jpg
END:VEVENT
BEGIN:VEVENT
DTSTART;TZID=Europe/Berlin:20240721T000000
DTEND;TZID=Europe/Berlin:20240721T235959
DTSTAMP:20260420T133406
CREATED:20240701T153616Z
LAST-MODIFIED:20240708T155058Z
UID:3308-1721520000-1721606399@bgr-ev.de
SUMMARY:Grundlagen Videokurs   „Geomantie/Geokultur“  - Modul 1
DESCRIPTION:Das Modul führt Dich Schritt für Schritt in eine faszinierende Welt einer erweiterten Wahrnehmung und  vermittelt Dir wichtige Grundlagen moderner Heilungs\,- und Harmonisierungsarbeit. Diese werden u.a. bildhaft vermittelt über Dokumentationen\,  Erfahrungsberichten und auch begleitenden Meditationen. Folgende Themen werden im Modul behandelt: Sensibilisierung\, die Elementekräfte\, die geistige Welt und die kosmische Dimension\, die Ebenen eines Ortes\, Möglichkeiten der Analyse Radiästhesie und die Möglichkeiten zur Heilung\, Harmonisierung und Objektoptimierung\, Qualitäten eines Ortes\, Kraftorte\, heilige Plätze\, prähistorische Anlagen\, wie finden wir zur eigenen Mitte\, was können wir für sie tun und was können wir für unsere Erde tun. \n\n\n\nJeder kann bis Ende September neu einsteigen und einmal freigeschaltet – immer freigeschaltet = die Inhalte bleiben Dir erhalten!Zu jedem Thema erhälst Du außerdem ein Skript. \n\n\n\nBuchung über:  www.de-arboris.de \n\n\n\n9 Themen\, 14 Tägige Freischaltung\, Kosten 500\,- \n\n\n\nDie Folgemodule 2 und 3 bauen auf diese Inhalte auf. \n\n\n\nBei Fragen gerne anrufen: 0157 3877 3428 \n\n\n\nT1 – eine Reise beginnt \n\n\n\nBegrüßung \n\n\n\nDas Gesetz des Anfangs \n\n\n\nWas ist Geomantie \n\n\n\nAlles ist Bewußtsein \n\n\n\nDie Spielregeln \n\n\n\nWahrnehmung \n\n\n\nKörperkontakt \n\n\n\nWertschätzung \n\n\n\nWas ist ein Holon? \n\n\n\nErfüllung \n\n\n\nSinnfindung \n\n\n\nUrvertrauen \n\n\n\nErkenntnis/Quintessenz \n\n\n\nT2 – Die Elelmentekräfte \n\n\n\nDie Dimmensionen der Elelmen \n\n\n\nElement Feuer \n\n\n\nElelment Wasser \n\n\n\nElelemt Erde \n\n\n\nElelment Luft \n\n\n\nÄther männlich \n\n\n\nÄther weiblich \n\n\n\nT3 – Die Ebenen eines Ortes \n\n\n\nDie Physische Ebene \n\n\n\nDie Strukturbildende Ebene \n\n\n\nDie vitalenergetische Ebene \n\n\n\nDie emotionale Ebene \n\n\n\nDie seelisch geistige Ebene \n\n\n\nDie mentale Ebene \n\n\n\nT4 – Radiästhesie \n\n\n\nRadiästhetische Instrumente \n\n\n\nOrtsuntersuchungen\, Beispiele \n\n\n\nT5 – Die nicht sichtbare Welt \n\n\n\nElementarwesen \n\n\n\nPlanetare Wesenheiten \n\n\n\nEngel \n\n\n\nWas sind Geister und Dämonen \n\n\n\nT6 – Heilung und Harmonisierung \n\n\n\nHeilung der Physischen Ebe \n\n\n\nHeilung der vitalenergetischenE. \n\n\n\nHeilung der emotionalen Ebene \n\n\n\nHeilung der mentalen Ebene \n\n\n\nSchatten\,- und Lichtarbeit \n\n\n\nStabilisierung\, Neucodierung \n\n\n\nT7 – Naturtempel und Heiligtümer \n\n\n\nWas ist ein Naturtempel \n\n\n\nwas ist ein heiliger Platz \n\n\n\nprähistorische Heiligtümer \n\n\n\nHü̈ter heiliger Plätze \n\n\n\nT8 – Geokultur \n\n\n\nEinführung \n\n\n\nBeispiele \n\n\n\nT9 – Dein Tempel \n\n\n\nIntegration der Elelmente in dir \n\n\n\nInitiation \n\n\n\nDein Ort \n\n\n\nAbschluss \n\n\n\nEs ist Zeit für ein neues Verständnis im Umgang mit der Natur unserer Materie – Mater \n\n\n\nDas Fühlen in die Natur hinein bildet automatisch ein neues Denken im Umgang mit der Natur\, allen Pflanzen\, unseren Bäumen und allen Lebewesen gegenüber. \n\n\n\nWir leben in einer Zeit der starken Erdwandlung\, mit ihr haben wir als Menschen die Wahl zwischen Stagnation und innerer Errosion oder einem Quantensprung in die nächste  \n\n\n\nDimension hinein. Wir haben die Möglichkeit einem Untergang entgegen zu wirken und sich für einen Entwicklungssprung zu entscheiden. Dafür geben wir einige wichtige Werkzeuge und Bausteine mit in die Hand.  \n\n\n\nDas wunderbare ist – alle Anlagen sind im Sonnenkosmos\, im Erdekosmos sowie im Seelenkosmos eines jeden verankert.  \n\n\n\nDie Ganzheit im Menschen zu erlangen setzt voraus  \n\n\n\ndie Einheit der Natur in sich selbst zu integrieren. \n\n\n\nDas setzt voraus\, dass wir uns der wunderbaren Erde zuwenden. \n\n\n\nWir freuen uns auf Dich!
URL:https://bgr-ev.de/termin/grundlagen-videokurs-geomantie-geokultur-modul-1-2/
ATTACH;FMTTYPE=image/jpeg:https://bgr-ev.de/wp-content/uploads/Klosterr.schm_.jpg
END:VEVENT
END:VCALENDAR