BEGIN:VCALENDAR
VERSION:2.0
PRODID:-//BGR - ECPv6.15.20//NONSGML v1.0//EN
CALSCALE:GREGORIAN
METHOD:PUBLISH
X-WR-CALNAME:BGR
X-ORIGINAL-URL:https://bgr-ev.de
X-WR-CALDESC:Veranstaltungen für BGR
REFRESH-INTERVAL;VALUE=DURATION:PT1H
X-Robots-Tag:noindex
X-PUBLISHED-TTL:PT1H
BEGIN:VTIMEZONE
TZID:Europe/Berlin
BEGIN:DAYLIGHT
TZOFFSETFROM:+0100
TZOFFSETTO:+0200
TZNAME:CEST
DTSTART:20230326T010000
END:DAYLIGHT
BEGIN:STANDARD
TZOFFSETFROM:+0200
TZOFFSETTO:+0100
TZNAME:CET
DTSTART:20231029T010000
END:STANDARD
BEGIN:DAYLIGHT
TZOFFSETFROM:+0100
TZOFFSETTO:+0200
TZNAME:CEST
DTSTART:20240331T010000
END:DAYLIGHT
BEGIN:STANDARD
TZOFFSETFROM:+0200
TZOFFSETTO:+0100
TZNAME:CET
DTSTART:20241027T010000
END:STANDARD
BEGIN:DAYLIGHT
TZOFFSETFROM:+0100
TZOFFSETTO:+0200
TZNAME:CEST
DTSTART:20250330T010000
END:DAYLIGHT
BEGIN:STANDARD
TZOFFSETFROM:+0200
TZOFFSETTO:+0100
TZNAME:CET
DTSTART:20251026T010000
END:STANDARD
END:VTIMEZONE
BEGIN:VEVENT
DTSTART;TZID=Europe/Berlin:20240705T000000
DTEND;TZID=Europe/Berlin:20240707T235959
DTSTAMP:20260420T132539
CREATED:20240729T181004Z
LAST-MODIFIED:20240729T181004Z
UID:3507-1720137600-1720396799@bgr-ev.de
SUMMARY:Bazi Suanming - Module 1+2 - Ausbildung 2024 / 2.Hj\,
DESCRIPTION:Bazi SuanmingDie Schicksalsberechnung nach den 8 SchriftzeichenDie vollständige Ausbildung \n\n\n\nNähere Infos zur Veranstaltung hier … \n\n\n\nDozent:Dr. Manfred Kubny+49 (0)176 24754357www.manfredkubny.de  \n\n\n\nAnmeldung:mk@iatca.de
URL:https://bgr-ev.de/termin/bazi-suanming-module-12-ausbildung-2024-2-hj/
LOCATION:Berlin\, Klabundring 24\, Berlin-Blankenfelde\, 15827\, Deutschland
CATEGORIES:Ausbildung
ORGANIZER;CN="IATCA":MAILTO:mk@iatca.de
END:VEVENT
BEGIN:VEVENT
DTSTART;TZID=Europe/Berlin:20240705T150000
DTEND;TZID=Europe/Berlin:20240707T140000
DTSTAMP:20260420T132539
CREATED:20231220T082624Z
LAST-MODIFIED:20240506T172504Z
UID:1855-1720191600-1720360800@bgr-ev.de
SUMMARY:Tage der Raumkultur 2024
DESCRIPTION:Ganz herzlich möchten wir alle Engagierten und Interessierten an ganzheitlicher Raumkultur zu den Tagen der Raumkultur 2024 einladen. Sie führen uns diesmal in das Tagungshaus Schloss Buchenau nach Fulda. \n\n\n\nProgramm (Änderungen vorbehalten) \n\n\n\nFreitag\, 5.7.2024 \n\n\n\n15.00 Uhr – entspanntes Ankommen im Schloss Buchenau bei Fulda \n\n\n\n16.30 Uhr – Begrüßung im Tagungsraum \n\n\n\n18.00 Uhr – gemeinsames Abendessen vom Buffet  \n\n\n\n19.30 Uhr – abendlicher Ausflug nach Rothenkirchen zur sehenswerten                    Markuskapelle mit seiner Totenbrücke \n\n\n\nSamstag\, 6.7.2024 \n\n\n\n07.30 Uhr – Frühstücksbuffet im Schloss Buchenau bei Fulda \n\n\n\n09.30 Uhr – Der „offizielle Teil“ – BGR Jahresversammlung im Tagungsraum \n\n\n\n13.00 Uhr – Abfahrt nach Fulda zu drei von sieben Bergen der Landschaft:Petersberg (Weitblick)\, Frauenberg (Überblick)\,Michaelsberg (Einblick)\, Besuch der Michaelskirche\, einer der ältesten und bedeutendsten Sakralbauten Deutschlands und ausreichend Zeit für Kaffee und Kuchen in der Altstadt \n\n\n\n19.00 Uhr – Abendbrot im Schloss mit anschließenden „Kamingesprächen“ … \n\n\n\nSonntag\, 7.7.2024 \n\n\n\n07.30 Uhr – Frühstücksbuffet im Schloss + check out ! \n\n\n\n09.30 Uhr – Abschlussrunde im Tagungsraum (die Ersten fahren nach Hause …) \n\n\n\n10.00 Uhr – Abfahrt nach Döllbach (Rhön) zur Sankt Odilia und ihrer Quelle. \n\n\n\n13.00 Uhr – Abschließendes gemeinsames Mittagessen im Gasthof Altes Casino \n\n\n\n\n\n\n\nViel Freude bei den Tagen der Raumkultur ! \n\n\n\nPreise für Unterkunft und Verpflegung im Schloss Buchenau: \n\n\n\n2 Nächte mit HP im EZ p.P.                                             € 247\,–2 Nächte mit HP im DZ / MBZ p.P.                                 € 197\,–
URL:https://bgr-ev.de/termin/tage-der-raumkultur-2/
LOCATION:Schloss Buchenau\, Hermann-Lietz-Straße 13\, Buchenau\, 36132\, Deutschland
CATEGORIES:Tagung
ATTACH;FMTTYPE=image/jpeg:https://bgr-ev.de/wp-content/uploads/schloss_buchenau.jpg
END:VEVENT
BEGIN:VEVENT
DTSTART;TZID=Europe/Berlin:20240707T000000
DTEND;TZID=Europe/Berlin:20240707T235959
DTSTAMP:20260420T132539
CREATED:20240701T153306Z
LAST-MODIFIED:20240701T155216Z
UID:3306-1720310400-1720396799@bgr-ev.de
SUMMARY:Grundlagen Videokurs   „Geomantie/Geokultur“  - Modul 1
DESCRIPTION:Das Modul führt Dich Schritt für Schritt in eine faszinierende Welt einer erweiterten Wahrnehmung und  vermittelt Dir wichtige Grundlagen moderner Heilungs\,- und Harmonisierungsarbeit. Diese werden u.a. bildhaft vermittelt über Dokumentationen\,  Erfahrungsberichten und auch begleitenden Meditationen. Folgende Themen werden im Modul behandelt: Sensibilisierung\, die Elementekräfte\, die geistige Welt und die kosmische Dimension\, die Ebenen eines Ortes\, Möglichkeiten der Analyse Radiästhesie und die Möglichkeiten zur Heilung\, Harmonisierung und Objektoptimierung\, Qualitäten eines Ortes\, Kraftorte\, heilige Plätze\, prähistorische Anlagen\, wie finden wir zur eigenen Mitte\, was können wir für sie tun und was können wir für unsere Erde tun. \n\n\n\nJeder kann bis Ende September neu einsteigen und einmal freigeschaltet – immer freigeschaltet = die Inhalte bleiben Dir erhalten!Zu jedem Thema erhälst Du außerdem ein Skript. \n\n\n\nBuchung über:  www.de-arboris.de \n\n\n\n9 Themen\, 14 Tägige Freischaltung\, Kosten 500\,- \n\n\n\nDie Folgemodule 2 und 3 bauen auf diese Inhalte auf. \n\n\n\nBei Fragen gerne anrufen: 0157 3877 3428 \n\n\n\nT1 – eine Reise beginnt \n\n\n\nBegrüßung \n\n\n\nDas Gesetz des Anfangs \n\n\n\nWas ist Geomantie \n\n\n\nAlles ist Bewußtsein \n\n\n\nDie Spielregeln \n\n\n\nWahrnehmung \n\n\n\nKörperkontakt \n\n\n\nWertschätzung \n\n\n\nWas ist ein Holon? \n\n\n\nErfüllung \n\n\n\nSinnfindung \n\n\n\nUrvertrauen \n\n\n\nErkenntnis/Quintessenz \n\n\n\nT2 – Die Elelmentekräfte \n\n\n\nDie Dimmensionen der Elelmen \n\n\n\nElement Feuer \n\n\n\nElelment Wasser \n\n\n\nElelemt Erde \n\n\n\nElelment Luft \n\n\n\nÄther männlich \n\n\n\nÄther weiblich \n\n\n\nT3 – Die Ebenen eines Ortes \n\n\n\nDie Physische Ebene \n\n\n\nDie Strukturbildende Ebene \n\n\n\nDie vitalenergetische Ebene \n\n\n\nDie emotionale Ebene \n\n\n\nDie seelisch geistige Ebene \n\n\n\nDie mentale Ebene \n\n\n\nT4 – Radiästhesie \n\n\n\nRadiästhetische Instrumente \n\n\n\nOrtsuntersuchungen\, Beispiele \n\n\n\nT5 – Die nicht sichtbare Welt \n\n\n\nElementarwesen \n\n\n\nPlanetare Wesenheiten \n\n\n\nEngel \n\n\n\nWas sind Geister und Dämonen \n\n\n\nT6 – Heilung und Harmonisierung \n\n\n\nHeilung der Physischen Ebe \n\n\n\nHeilung der vitalenergetischenE. \n\n\n\nHeilung der emotionalen Ebene \n\n\n\nHeilung der mentalen Ebene \n\n\n\nSchatten\,- und Lichtarbeit \n\n\n\nStabilisierung\, Neucodierung \n\n\n\nT7 – Naturtempel und Heiligtümer \n\n\n\nWas ist ein Naturtempel \n\n\n\nwas ist ein heiliger Platz \n\n\n\nprähistorische Heiligtümer \n\n\n\nHü̈ter heiliger Plätze \n\n\n\nT8 – Geokultur \n\n\n\nEinführung \n\n\n\nBeispiele \n\n\n\nT9 – Dein Tempel \n\n\n\nIntegration der Elelmente in dir \n\n\n\nInitiation \n\n\n\nDein Ort \n\n\n\nAbschluss \n\n\n\nEs ist Zeit für ein neues Verständnis im Umgang mit der Natur unserer Materie – Mater \n\n\n\nDas Fühlen in die Natur hinein bildet automatisch ein neues Denken im Umgang mit der Natur\, allen Pflanzen\, unseren Bäumen und allen Lebewesen gegenüber. \n\n\n\nWir leben in einer Zeit der starken Erdwandlung\, mit ihr haben wir als Menschen die Wahl zwischen Stagnation und innerer Errosion oder einem Quantensprung in die nächste  \n\n\n\nDimension hinein. Wir haben die Möglichkeit einem Untergang entgegen zu wirken und sich für einen Entwicklungssprung zu entscheiden. Dafür geben wir einige wichtige Werkzeuge und Bausteine mit in die Hand.  \n\n\n\nDas wunderbare ist – alle Anlagen sind im Sonnenkosmos\, im Erdekosmos sowie im Seelenkosmos eines jeden verankert.  \n\n\n\nDie Ganzheit im Menschen zu erlangen setzt voraus  \n\n\n\ndie Einheit der Natur in sich selbst zu integrieren. \n\n\n\nDas setzt voraus\, dass wir uns der wunderbaren Erde zuwenden. \n\n\n\nWir freuen uns auf Dich!
URL:https://bgr-ev.de/termin/grundlagen-videokurs-geomantie-geokultur-modul-1/
ATTACH;FMTTYPE=image/jpeg:https://bgr-ev.de/wp-content/uploads/Modul-1.jpg
END:VEVENT
END:VCALENDAR