BEGIN:VCALENDAR
VERSION:2.0
PRODID:-//BGR - ECPv6.15.20//NONSGML v1.0//EN
CALSCALE:GREGORIAN
METHOD:PUBLISH
X-ORIGINAL-URL:https://bgr-ev.de
X-WR-CALDESC:Veranstaltungen für BGR
REFRESH-INTERVAL;VALUE=DURATION:PT1H
X-Robots-Tag:noindex
X-PUBLISHED-TTL:PT1H
BEGIN:VTIMEZONE
TZID:Europe/Berlin
BEGIN:DAYLIGHT
TZOFFSETFROM:+0100
TZOFFSETTO:+0200
TZNAME:CEST
DTSTART:20230326T010000
END:DAYLIGHT
BEGIN:STANDARD
TZOFFSETFROM:+0200
TZOFFSETTO:+0100
TZNAME:CET
DTSTART:20231029T010000
END:STANDARD
BEGIN:DAYLIGHT
TZOFFSETFROM:+0100
TZOFFSETTO:+0200
TZNAME:CEST
DTSTART:20240331T010000
END:DAYLIGHT
BEGIN:STANDARD
TZOFFSETFROM:+0200
TZOFFSETTO:+0100
TZNAME:CET
DTSTART:20241027T010000
END:STANDARD
BEGIN:DAYLIGHT
TZOFFSETFROM:+0100
TZOFFSETTO:+0200
TZNAME:CEST
DTSTART:20250330T010000
END:DAYLIGHT
BEGIN:STANDARD
TZOFFSETFROM:+0200
TZOFFSETTO:+0100
TZNAME:CET
DTSTART:20251026T010000
END:STANDARD
END:VTIMEZONE
BEGIN:VEVENT
DTSTART;TZID=Europe/Berlin:20240613T183000
DTEND;TZID=Europe/Berlin:20240613T210000
DTSTAMP:20260420T151114
CREATED:20240210T112546Z
LAST-MODIFIED:20240221T174116Z
UID:2450-1718303400-1718312400@bgr-ev.de
SUMMARY:Auftanken im Schlaf - Standortfaktoren\, Erdstrahlen und das Unbewusste (Online-Seminar)
DESCRIPTION:Im Schlaf möchte jeder Mensch entspannen\, träumen und auftanken für den neuen Tag. Gerade heutzutage brauchen wir mehr denn je einen guten Schlaf\, der uns ein konstantes Niveau an persönlicher Kraft\, Resilienz und psychischer Stabilität schenkt. Die Realität: über 60% der Bundesbürger ab 40 Jahre haben Schlafprobleme. Ein echtes Massenphänomen. Und Elektrobiologen\, Rutengänger oder Matratzenberater geben meist widersprüchliche Empfehlungen und verwirren eher als gezielt Abhilfe zu schaffen. Denn nur die Gesamtschau des komplexen Phänomens Schlaf bringt den Erfolg. \n\n\n\nDieses Online-Seminar behandelt alle Faktoren für den vitalen Schlaf. Dabei werden geomantische Faktoren aus der Raumenergetik\, dem Space Clearing und der Raumpsychologie kombiniert mit Sichtweisen aus der Schlafforschung. Für alle\, die schlecht schlafen oder anderen helfen wollen\, besser zu schlafen. \n\n\n\nThemen \n\n\n\nGestörter Schlaf\, was tun? \n\n\n\nDie Schlaf-Verhaltensanalyse * Kurz- und Langschläfer * Nomaden und Sesshafte * Die geomantischen Ebenen des gestörten Schlafes * Die Lösungsachsen \n\n\n\nBettplatzierung und Bettformen \n\n\n\nUnruhe im Schlaf durch Raumdynamik * Das Auftanken des \n\n\n\nEnergiekörpers * Das morgendliche Lebensenergieniveau * Die Patina des Schlafprozesses * \n\n\n\nSonderinstallation zur Aufwertung der Schlafplatzsituation. \n\n\n\nDie Metaphysik des Schlafs \n\n\n\nTraum\, Eros\, Geburt und Tod – das Bett als Ort der Schwelle * Die \n\n\n\n„Traumkraft“ der Räume * Der eigene Kosmos um das Bett * Der Heilschlaf. \n\n\n\nWege zu einem besseren Schlaf \n\n\n\nRadiästhetische und elektrobiologische Einflüsse * Strom als \n\n\n\ngeistiger Faktor * Einschlafrituale und Schlafhilfen * Schlafunterstützende Raumkonzepte. \n\n\n\nInfos & Anmeldung: https://fortunamundi.de/veranstaltungen/online-seminare/auftanken-im-schlaf  \n\n\n\nOrt der Veranstaltung \n\n\n\nOnline\, Zoom \n\n\n\nReferent*in \n\n\n\nPascal Zielke \n\n\n\nKosten inkl. MwSt. in € \n\n\n\n35\,- Euro \n\n\n\ndarin enthalten sind \n\n\n\nLive-Zoom-Event\, PDF\, Video-Aufzeichnung für begrenzte Zeit \n\n\n\nZielgruppe \n\n\n\nalle Interessierten\, keine Vorkenntnisse nötig \n\n\n\nVeranstalter \n\n\n\nFORTUNA MUNDI – Akademie für Integrale Geomantie \n\n\n\nZur Burg 24\, 36282 Hauneck \n\n\n\n0171-7958029 \n\n\n\nkontakt@fortunamundi.de \n\n\n\nwww.fortunamundi.de
URL:https://bgr-ev.de/termin/auftanken-im-schlaf-standortfaktoren-erdstrahlen-und-das-unbewusste-online-seminar/
ATTACH;FMTTYPE=image/jpeg:https://bgr-ev.de/wp-content/uploads/21.03.2024-scaled.jpg
END:VEVENT
END:VCALENDAR