BEGIN:VCALENDAR
VERSION:2.0
PRODID:-//BGR - ECPv6.15.20//NONSGML v1.0//EN
CALSCALE:GREGORIAN
METHOD:PUBLISH
X-ORIGINAL-URL:https://bgr-ev.de
X-WR-CALDESC:Veranstaltungen für BGR
REFRESH-INTERVAL;VALUE=DURATION:PT1H
X-Robots-Tag:noindex
X-PUBLISHED-TTL:PT1H
BEGIN:VTIMEZONE
TZID:Europe/Berlin
BEGIN:DAYLIGHT
TZOFFSETFROM:+0100
TZOFFSETTO:+0200
TZNAME:CEST
DTSTART:20230326T010000
END:DAYLIGHT
BEGIN:STANDARD
TZOFFSETFROM:+0200
TZOFFSETTO:+0100
TZNAME:CET
DTSTART:20231029T010000
END:STANDARD
BEGIN:DAYLIGHT
TZOFFSETFROM:+0100
TZOFFSETTO:+0200
TZNAME:CEST
DTSTART:20240331T010000
END:DAYLIGHT
BEGIN:STANDARD
TZOFFSETFROM:+0200
TZOFFSETTO:+0100
TZNAME:CET
DTSTART:20241027T010000
END:STANDARD
BEGIN:DAYLIGHT
TZOFFSETFROM:+0100
TZOFFSETTO:+0200
TZNAME:CEST
DTSTART:20250330T010000
END:DAYLIGHT
BEGIN:STANDARD
TZOFFSETFROM:+0200
TZOFFSETTO:+0100
TZNAME:CET
DTSTART:20251026T010000
END:STANDARD
END:VTIMEZONE
BEGIN:VEVENT
DTSTART;TZID=Europe/Berlin:20240418T160000
DTEND;TZID=Europe/Berlin:20240421T140000
DTSTAMP:20260424T143350
CREATED:20240210T114200Z
LAST-MODIFIED:20240212T181217Z
UID:2454-1713456000-1713708000@bgr-ev.de
SUMMARY:Kraftorte – Eine neue Verbindung zwischen Mensch und Erde
DESCRIPTION:Orte der Kraft sind Konzentrationspunkte landschaftlicher Identität\, Quellen erlebbarer Lebenskraft und Tore in die Anderswelt. Für den Menschen der Moderne steht eine schicksalhafte Aufgabe an: \n\n\n\nDie Wieder-Verbindung mit der Erde\, seiner „Mutter“ Erde. Damit gemeint ist nicht die Einhaltung ökologischer Kriterien\, sondern tiefes seelisches Erkennen und Erleben. Und dabei kommen wir nicht an dem Mythos der Frau Holle und ihrer geheimnisvollen Orte der Kraft vorbei. Ihr Wesen\, ihren Charakter\, ihren Mythos offenbart sie uns als uralte weibliche Gottheit Holle\, Holda oder Frau Percht\, Frau Harke oder Bertha – viele Namen trägt sie in unseren Landen. Noch immer erhalten wir Botschaft aus unzähligen Märchen\, Sagen des Volksbrauchtums\, aus der antiken Mythologie wie durch die Mythen der Naturvölker. \n\n\n\nGleichzeitig berichten auch verschiedenste Orte\, an denen ihr Dasein präsente Spuren hinterlassen hat. Die deutlichsten Spuren finden wir im Meißnergebiet\, einem „Märchenland\,“ in welchem ihr Mythos noch ganz lebendig ist: Wir begegnen dem Frau-Holle-Teich\, uralte Kultstätte des Erdgöttinnenmythos\, den Basaltsäulen der Kitzkammer\, der Hohlsteinhöhle mit dem Höhlensee\, in welcher der Erdmutterkult praktiziert wurde. \n\n\n\nIn diesem Kurs werden die Grundprinzipien der Landschaftsgeomantie vorgestellt. Dabei tauchen wir ein in einen Landschaftsraum\, wo wir den Ur-Mutterwelten präsent begegnen und deren Kraft lebendig erfahren. Diese Begegnung ist Grundlage für die neue Verbindung von Mensch und Erde. \n\n\n\nThemen \n\n\n\nKraftort und Kultplatz Geomantische Strukturen der Kulturlandschaft * Energetische\, symbolische und mythische Ebenen von Kraftorten * Die große Muttergöttin in ihrer dreifachen Gestalt * Die Drei-Welten-Lehre * Zugänge zur Anderswelt * Geomantische Ortsrecherche \n\n\n\nWahrnehmungsschulung Heilige Ort öffnen lernen * Die Identifikation * Die Ortswahrnehmung \n\n\n\nDer Hohe Meissner Der geheimnisvolle Frau-Holle-Teich * Der Sitz der weißen Göttin * Der Basaltspalt alsUnterweltseingang * Die Hohlsteinhöhle * Der Helweg – Weg der Göttin. \n\n\n\nInfos & Anmeldung: https://fortunamundi.de/veranstaltungen/seminare/kraftorte-%E2%80%93-eine-neue-verbindung-zwischen-mensch-und-erde \n\n\n\nOrt der Veranstaltung \n\n\n\nAltes Forsthaus\, Germerode\, Meißner-Werra-Kreis \n\n\n\nReferent*in \n\n\n\nPascal Zielke\, Markus E. Zielke \n\n\n\nKosten inkl. MwSt. in € \n\n\n\n290\,- Euro Schnupper-Sonderpreis \n\n\n\ndarin enthalten sind \n\n\n\nSeminarkosten und Skripte \n\n\n\nZielgruppe \n\n\n\nalle Interessierten an Orten der Kraft oder der Geomantie\, keine Vorkenntnisse nötig \n\n\n\nVeranstalter \n\n\n\nFORTUNA MUNDI – Akademie für Integrale Geomantie \n\n\n\nZur Burg 24\, 36282 Hauneck \n\n\n\n0171-7958029 \n\n\n\nkontakt@fortunamundi.de \n\n\n\nwww.fortunamundi.de
URL:https://bgr-ev.de/termin/kraftorte-eine-neue-verbindung-zwischen-mensch-und-erde/
ATTACH;FMTTYPE=image/jpeg:https://bgr-ev.de/wp-content/uploads/18.-21.04.2024-scaled.jpg
END:VEVENT
BEGIN:VEVENT
DTSTART;TZID=Europe/Berlin:20240418T160000
DTEND;TZID=Europe/Berlin:20240421T180000
DTSTAMP:20260424T143350
CREATED:20240210T113621Z
LAST-MODIFIED:20240212T180604Z
UID:2452-1713456000-1713722400@bgr-ev.de
SUMMARY:Ausbildung zum zertifizierten Geomantie-Berater & -Coach
DESCRIPTION:Die FORTUNA MUNDI – Akademie für Integrale Geomantie bietet eine umfassende Geomantie-Ausbildung zum zertifizierten Geomantie-Berater & -Coach an\, welche sich auf Europäische Geomantie\, Wahrnehmungslehre\, Integrale Spiritualität und Radiästhesie spezialisiert. \n\n\n\nDie Ausbildung umfasst \n\n\n\n1. Eine umfassende Ausbildung in europäischer Geomantie. \n\n\n\n2. Eine intensive Schulung der individuellen Wahrnehmungsfähigkeiten\, die in allen Bereichen angewendet wird. \n\n\n\n3. Eine fundierte Vermittlung moderner Kenntnisse in Raumenergetik\, Atmosphärengestaltung\, Space Clearing und Raumpsychologie. \n\n\n\n4. Eine umfangreiche Ausbildung in Radiästhesie und Biosensorik \n\n\n\n5. Schamanische Praxis\, Medizinrad & Ritualarbeit. \n\n\n\n6. Geomantische Landschaftskunde\, Erdheilung\, traditionelle Baukunst\, Heimat- und Kraftortforschung. \n\n\n\n7. Praktisches Berater-\, Coaching- und Kommunikationstraining. \n\n\n\n8. Expertenwissen in den Bereichen Büro- und Geschäftsberatung\, Proportionen und heilige Geometrie\, Layoutoptimierung\, Optimierung des Schlafplatzes. \n\n\n\nAusbildungsdauer: 2 Jahre\, in der Regel alle vier Wochen \n\n\n\nStart: Die Module der Ausbildung wiederholen sich etwa alle zwei Jahre und ein Einstieg ist jederzeit möglich. Sprechen Sie uns an. Der neue Zyklus beginnt mit dem Schnupper-Seminar „Kraftorte“\, 18. – 21. April 2024 in Germerode. \n\n\n\nFlexible Module: Können Sie zeitlich oder unvorhergesehen an einem Modul der Ausbildung nicht teilnehmen\, besteht die Möglichkeit dieses im nächsten Zyklus der Ausbildung nachzuholen. So verpassen Sie keine Inhalte. \n\n\n\nÜbersicht der Themen: \n\n\n\n1. Kraftorte – Tore in die Anderswelt \n\n\n\n2. Die Tiefenwahrnehmung – Hellsehen und Feinfühlen \n\n\n\n3. Ich bin Natur – Naturcoaching & Medizinrad-Arbeit \n\n\n\n4. Radiästhesie Kompakt \n\n\n\n5. Die Energie des Raumes – Wohnen & Arbeiten in voller Kraft \n\n\n\n6. Erdenbewusstsein – Phänomene der Landschaft \n\n\n\n7. Äther und Energetische Lebensraumgestaltung \n\n\n\n8. Schattenarbeit & Ganzwerdung \n\n\n\n9. Maß\, Zahl\, Proportion – Die Anwendung der heiligen Geometrie \n\n\n\n10. Geosomatik – Gesundes Wohnen\, Entstörung und Feldveränderung \n\n\n\n11. Ritual und magische Wirksamkeit – Schamanische Geomantie \n\n\n\n12. Space Clearing – Das energetische Reinigen von Räumen \n\n\n\n13. Die Integrale Wahrnehmung \n\n\n\n14. Das Beseelte Haus – Geomantisches Wohnen und Bauen \n\n\n\n15. Der Sakrale Raum – Mitte und Ursprung \n\n\n\n16. Erdheilung – Prozesse der Ganzwerdung für Natur und Mensch \n\n\n\n17. Jenseitstore und Schattenwelten \n\n\n\n18. Initiationswoche „Der Raum der Freiheit“ \n\n\n\n19. Praxistraining Beratung und Coaching \n\n\n\n20. Prüfung & Abschluss.  \n\n\n\nInklusive diverser Online-Meetings zum Austausch und Einüben der Inhalte. \n\n\n\nLink zur Ausbildungsseite: \n\n\n\nhttps://fortunamundi.de/ausbildungen/integrale-geomantie \n\n\n\nOrt der Veranstaltung \n\n\n\nDiverse Orte in Deutschland. Stamm-Seminarhaus: Schloss Buchenau\, Eiterfeld/Fulda \n\n\n\nReferent*in \n\n\n\nPascal Zielke\, Yvonne Götz\, Ingeborg Lüdeling\, Hartmut Lüdeling\, Oliver Keil\, Tiffany Schuh\, Wolfgang Strasser\, Markus E. Zielke \n\n\n\nKosten inkl. MwSt. in € \n\n\n\nDie Kosten der gesamten Ausbildung betragen 4 x 2.580 €. Die jeweilige Rate wird etwa alle 5 Monate in Rechnung gestellt. \n\n\n\nSollten Sie sich für eine Einmalzahlung entscheiden erhalten Sie einen Rabatt von 10%. \n\n\n\nWeitere Ratenmodelle sind nach Absprache möglich. \n\n\n\ndarin enthalten sind \n\n\n\nSeminarmodule\, Skripte\, Zoon-Meetings\, Supervision \n\n\n\nZielgruppe \n\n\n\nalle Interessierten\, keine Vorkenntnisse nötig \n\n\n\nVeranstalter \n\n\n\nFORTUNA MUNDI – Akademie für Integrale Geomantie \n\n\n\nZur Burg 24\, 36282 Hauneck \n\n\n\n0171-7958029 \n\n\n\nkontakt@fortunamundi.de  \n\n\n\nwww.fortunamundi.de
URL:https://bgr-ev.de/termin/ausbildung-zum-zertifizierten-geomantie-berater-coach/
ATTACH;FMTTYPE=image/png:https://bgr-ev.de/wp-content/uploads/18.04.2024.png
END:VEVENT
END:VCALENDAR