BEGIN:VCALENDAR
VERSION:2.0
PRODID:-//BGR - ECPv6.15.20//NONSGML v1.0//EN
CALSCALE:GREGORIAN
METHOD:PUBLISH
X-ORIGINAL-URL:https://bgr-ev.de
X-WR-CALDESC:Veranstaltungen für BGR
REFRESH-INTERVAL;VALUE=DURATION:PT1H
X-Robots-Tag:noindex
X-PUBLISHED-TTL:PT1H
BEGIN:VTIMEZONE
TZID:Europe/Berlin
BEGIN:DAYLIGHT
TZOFFSETFROM:+0100
TZOFFSETTO:+0200
TZNAME:CEST
DTSTART:20230326T010000
END:DAYLIGHT
BEGIN:STANDARD
TZOFFSETFROM:+0200
TZOFFSETTO:+0100
TZNAME:CET
DTSTART:20231029T010000
END:STANDARD
BEGIN:DAYLIGHT
TZOFFSETFROM:+0100
TZOFFSETTO:+0200
TZNAME:CEST
DTSTART:20240331T010000
END:DAYLIGHT
BEGIN:STANDARD
TZOFFSETFROM:+0200
TZOFFSETTO:+0100
TZNAME:CET
DTSTART:20241027T010000
END:STANDARD
BEGIN:DAYLIGHT
TZOFFSETFROM:+0100
TZOFFSETTO:+0200
TZNAME:CEST
DTSTART:20250330T010000
END:DAYLIGHT
BEGIN:STANDARD
TZOFFSETFROM:+0200
TZOFFSETTO:+0100
TZNAME:CET
DTSTART:20251026T010000
END:STANDARD
END:VTIMEZONE
BEGIN:VEVENT
DTSTART;TZID=Europe/Berlin:20240411T140000
DTEND;TZID=Europe/Berlin:20240413T140000
DTSTAMP:20260424T143355
CREATED:20231128T104714Z
LAST-MODIFIED:20240118T142526Z
UID:1498-1712844000-1713016800@bgr-ev.de
SUMMARY:Sensitives Rutengehen April 2024
DESCRIPTION:In dieser „Intensivausbildung sensitive Radiästhesie” (Rutengehen) lernen Sie die Grundlagen im Umgang mit der Rute kennen.     \n\n\n\nSie lernen weiterhin eine Mediale Abfrage-Technik\, die es ihnen ermöglicht eine Vielfalt von Informationen über die verlängerte Antenne zu bekommen. Der Mensch hat ein hochintelligentes Antennensystem\, das nur darauf wartet das ganze eigene Potenzial auszuschöpfen. Sie lernen weiterhin Orte zu bestimmen\, die den menschlichen Organismus positiv oder negativ beeinträchtigen können.  \n\n\n\nDiese etwas andere Ausbildung zum sensitiven Rutengänger erweckt ihr inneres Wahrnehmungssystem.  \n\n\n\nDetails zur Ausbildung auf der Webseite \n\n\n\nAusbildungsort: 61279 Grävenwiesbach/Taunus – Untergasse 7 \n\n\n\nReferent: Axel Sallmann \n\n\n\nSeminarpreis: 355\,– € incls. Wünschelrute und Skript \n\n\n\nZielgruppe:   \n\n\n\nMenschen die ihre eigenen Antennen und ihre Wahrnehmung neu justieren möchten.                                                      \n\n\n\nAnsprechpartner:  \n\n\n\nAxel Sallmann – Gaiavita Lebendigeerde \n\n\n\n61279 Grävenwiesbach\, Untergasse 7 \n\n\n\nTel. 06086 969580   Mob. 0170 4634086 \n\n\n\nMail: info@gaiavita.de \n\n\n\nWeb.:  https://www.gaiavita-lebendigeerde.de/ausbildung/rutengaenger/2024/
URL:https://bgr-ev.de/termin/sensitives-rutengehen-april-2024/
CATEGORIES:Ausbildung
END:VEVENT
END:VCALENDAR