BEGIN:VCALENDAR
VERSION:2.0
PRODID:-//BGR - ECPv6.15.20//NONSGML v1.0//EN
CALSCALE:GREGORIAN
METHOD:PUBLISH
X-WR-CALNAME:BGR
X-ORIGINAL-URL:https://bgr-ev.de
X-WR-CALDESC:Veranstaltungen für BGR
REFRESH-INTERVAL;VALUE=DURATION:PT1H
X-Robots-Tag:noindex
X-PUBLISHED-TTL:PT1H
BEGIN:VTIMEZONE
TZID:Europe/Berlin
BEGIN:DAYLIGHT
TZOFFSETFROM:+0100
TZOFFSETTO:+0200
TZNAME:CEST
DTSTART:20230326T010000
END:DAYLIGHT
BEGIN:STANDARD
TZOFFSETFROM:+0200
TZOFFSETTO:+0100
TZNAME:CET
DTSTART:20231029T010000
END:STANDARD
BEGIN:DAYLIGHT
TZOFFSETFROM:+0100
TZOFFSETTO:+0200
TZNAME:CEST
DTSTART:20240331T010000
END:DAYLIGHT
BEGIN:STANDARD
TZOFFSETFROM:+0200
TZOFFSETTO:+0100
TZNAME:CET
DTSTART:20241027T010000
END:STANDARD
BEGIN:DAYLIGHT
TZOFFSETFROM:+0100
TZOFFSETTO:+0200
TZNAME:CEST
DTSTART:20250330T010000
END:DAYLIGHT
BEGIN:STANDARD
TZOFFSETFROM:+0200
TZOFFSETTO:+0100
TZNAME:CET
DTSTART:20251026T010000
END:STANDARD
END:VTIMEZONE
BEGIN:VEVENT
DTSTART;TZID=Europe/Berlin:20240320T190000
DTEND;TZID=Europe/Berlin:20240320T210000
DTSTAMP:20260424T154213
CREATED:20240211T103958Z
LAST-MODIFIED:20240212T174311Z
UID:2475-1710961200-1710968400@bgr-ev.de
SUMMARY:Online-Vortrag: Schaff Dir Deinen Raum – wie Du mehr Lebenskraft am Arbeitsplatz gewinnst
DESCRIPTION:„Wir schaffen uns unsere Räume und dann wirken sie auf uns zurück“!In ihrem Vortrag wird dargelegt\, was damit gemeint ist und wie Sie im (Arbeits) Alltag davon profitieren können. \n\n\n\nLebenskraft als eine Urkraft stärkt die Gesundheit und regt die Selbstheilung an\, sie ermöglicht tiefgehende Entspannung und optimale Fitness für den Alltag. Das wiederum ist die Grundlage für Erfolg in allen Lebensbereichen und für harmonische Beziehungen. Steht uns ausreichend Lebensenergie zur Verfügung\, sind wir einfach in unserer Mitte. Dazu trägt ein gesunder und raumenergetisch optimaler Arbeitsplatz bei. Eine ausgewogene Umgebung stärkt unsere Motivation\, Leistungskraft und Arbeitsqualität.  \n\n\n\nPersönlicher beruflicher Erfolg\, gute Teamarbeit\, beste Performance im Job und eine gute Gesundheit hängen stark davon ab\, wie das eigene Arbeitsumfeld aussieht: Der Arbeitsraum an sich (Büro\, Praxis\, Laden etc.)\, das Umfeld\, der Grundriss\, die Ausrichtung des Schreibtischs\, Ordnung im Raum\, die Sitzposition – mit all diesen und weiteren Faktoren lässt sich die Lebenskraft erhalten und stärken. Was in der Praxis zu beachten ist und was wir auf einfache Art umsetzen können\, erfahren Sie von Ulrike Holtzem.  \n\n\n\nReferentin: Ulrike Holtzem | Lebenskraft-Gestaltung \n\n\n\nVERANSTALTER: webgrrls Bayern \n\n\n\nVERANSTALTUNGORT: Online \n\n\n\nKOSTEN: kostenfrei \n\n\n\nINFOS & ANMELDUNG: \n\n\n\nhttps://www.eventbrite.de/e/schaff-dir-deinen-raum-fur-mehr-lebenskraft-am-arbeitsplatz-tickets-808226105037
URL:https://bgr-ev.de/termin/online-vortrag-schaff-dir-deinen-raum-wie-du-mehr-lebenskraft-am-arbeitsplatz-gewinnst/
ATTACH;FMTTYPE=image/jpeg:https://bgr-ev.de/wp-content/uploads/Bild-Vortrag-20.03-1.jpg
END:VEVENT
END:VCALENDAR