BEGIN:VCALENDAR
VERSION:2.0
PRODID:-//BGR - ECPv6.15.20//NONSGML v1.0//EN
CALSCALE:GREGORIAN
METHOD:PUBLISH
X-ORIGINAL-URL:https://bgr-ev.de
X-WR-CALDESC:Veranstaltungen für BGR
REFRESH-INTERVAL;VALUE=DURATION:PT1H
X-Robots-Tag:noindex
X-PUBLISHED-TTL:PT1H
BEGIN:VTIMEZONE
TZID:Europe/Berlin
BEGIN:DAYLIGHT
TZOFFSETFROM:+0100
TZOFFSETTO:+0200
TZNAME:CEST
DTSTART:20230326T010000
END:DAYLIGHT
BEGIN:STANDARD
TZOFFSETFROM:+0200
TZOFFSETTO:+0100
TZNAME:CET
DTSTART:20231029T010000
END:STANDARD
BEGIN:DAYLIGHT
TZOFFSETFROM:+0100
TZOFFSETTO:+0200
TZNAME:CEST
DTSTART:20240331T010000
END:DAYLIGHT
BEGIN:STANDARD
TZOFFSETFROM:+0200
TZOFFSETTO:+0100
TZNAME:CET
DTSTART:20241027T010000
END:STANDARD
BEGIN:DAYLIGHT
TZOFFSETFROM:+0100
TZOFFSETTO:+0200
TZNAME:CEST
DTSTART:20250330T010000
END:DAYLIGHT
BEGIN:STANDARD
TZOFFSETFROM:+0200
TZOFFSETTO:+0100
TZNAME:CET
DTSTART:20251026T010000
END:STANDARD
END:VTIMEZONE
BEGIN:VEVENT
DTSTART;TZID=Europe/Berlin:20240221T190000
DTEND;TZID=Europe/Berlin:20240221T210000
DTSTAMP:20260424T173035
CREATED:20240210T110455Z
LAST-MODIFIED:20241008T162732Z
UID:2444-1708542000-1708549200@bgr-ev.de
SUMMARY:Das Geheimnis der Zyklen – Im Einklang mit Sonne\, Mond und Erde leben
DESCRIPTION:Ein entfremdetes Leben von der Natur und abseits natürlicher Zyklen führt zu körperlichen und seelischen Spannungen. Viele Menschen fühlen sich heute körperlich kraftlos und sind psychisch überfordert. Frauen erleben Störungen im weiblichen Zyklus\, welche sich in Schmerzen oder unerfülltem Kinderwunsch äußern. \n\n\n\nBisher gab es keine ganzheitliche Lösung\, die uns ermöglicht\, die Zyklen vollständig zu verstehen und darauf ein zu gehen. Der Lösungsansatz basiert auf dem Verständnis und der Integration aller Zyklen in unser Leben\, um eine tiefe Verbindung zu unserem natürlichen Ursprung wieder herzustellen. \n\n\n\nMit dem neuen Blick auf die Zyklen und deren Zusammenhänge zu unserer seelischen- und körperlichen Gesundheit\, werden Lösungswege aufgezeigt\, die das Gefühl des „Verbunden-seins“ fördern. \n\n\n\nThemen \n\n\n\nWelche natürlichen Zyklen gibt es? \n\n\n\nWie beeinflussen oder wirken diese auf uns als Mensch? Was sind mögliche Folgen\, wenn ein Zyklus aus dem Rhythmus ist? \n\n\n\nSonne\, Mond und Erde \n\n\n\nDie Kosmologie der Kräfte und der Mensch mittendrin. \n\n\n\nRückbindung an die Zyklen \n\n\n\nIntegration und praktische Umsetzung im Alltag. \n\n\n\nInfos & Anmeldung: https://fortunamundi.de/veranstaltungen/online-seminare/das-geheimnis-der-zyklen  \n\n\n\nOrt der Veranstaltung \n\n\n\nOnline\, Zoom \n\n\n\nReferent*in \n\n\n\nNadine Stumpf \n\n\n\nKosten inkl. MwSt. € 29\,- Euro \n\n\n\ndarin enthalten sind \n\n\n\nLive-Zoom-Event\, PDF\, Video-Aufzeichnung für begrenzte Zeit \n\n\n\nZielgruppe \n\n\n\nalle Interessierten\, keine Vorkenntnisse nötig \n\n\n\nVeranstalter \n\n\n\nFORTUNA MUNDI – Akademie für Integrale Geomantie \n\n\n\nZur Burg 24\, 36282 Hauneck \n\n\n\n0171-7958029 \n\n\n\nkontakt@fortunamundi.de \n\n\n\nwww.fortunamundi.de
URL:https://bgr-ev.de/termin/das-geheimnis-der-zyklen-im-einklang-mit-sonne/
CATEGORIES:Vortrag
ATTACH;FMTTYPE=image/jpeg:https://bgr-ev.de/wp-content/uploads/1.jpg
END:VEVENT
END:VCALENDAR