BEGIN:VCALENDAR
VERSION:2.0
PRODID:-//BGR - ECPv6.15.20//NONSGML v1.0//EN
CALSCALE:GREGORIAN
METHOD:PUBLISH
X-WR-CALNAME:BGR
X-ORIGINAL-URL:https://bgr-ev.de
X-WR-CALDESC:Veranstaltungen für BGR
REFRESH-INTERVAL;VALUE=DURATION:PT1H
X-Robots-Tag:noindex
X-PUBLISHED-TTL:PT1H
BEGIN:VTIMEZONE
TZID:Europe/Berlin
BEGIN:DAYLIGHT
TZOFFSETFROM:+0100
TZOFFSETTO:+0200
TZNAME:CEST
DTSTART:20220327T010000
END:DAYLIGHT
BEGIN:STANDARD
TZOFFSETFROM:+0200
TZOFFSETTO:+0100
TZNAME:CET
DTSTART:20221030T010000
END:STANDARD
BEGIN:DAYLIGHT
TZOFFSETFROM:+0100
TZOFFSETTO:+0200
TZNAME:CEST
DTSTART:20230326T010000
END:DAYLIGHT
BEGIN:STANDARD
TZOFFSETFROM:+0200
TZOFFSETTO:+0100
TZNAME:CET
DTSTART:20231029T010000
END:STANDARD
BEGIN:DAYLIGHT
TZOFFSETFROM:+0100
TZOFFSETTO:+0200
TZNAME:CEST
DTSTART:20240331T010000
END:DAYLIGHT
BEGIN:STANDARD
TZOFFSETFROM:+0200
TZOFFSETTO:+0100
TZNAME:CET
DTSTART:20241027T010000
END:STANDARD
END:VTIMEZONE
BEGIN:VEVENT
DTSTART;TZID=Europe/Berlin:20231011T190000
DTEND;TZID=Europe/Berlin:20231011T200000
DTSTAMP:20260424T223022
CREATED:20230716T143039Z
LAST-MODIFIED:20240118T142526Z
UID:1267-1697050800-1697054400@bgr-ev.de
SUMMARY:Gesunde Grenzen setzen in der Kindererziehung - Das Metall Element im Feng Shui
DESCRIPTION:Direkter Link zur Beschreibung   \n\n\n\n  \n\n\n\nhttps://www.klassisches-feng-shui.de/aktuelle-daten/seminare/inhalt/online-vortrag-mit-feng-shui-ein-glueckliches-leben-unterstuetzen.html \n\n\n\nOrt der Veranstaltung  \n\n\n\nOnline bei Zoom \n\n\n\nReferent*in   \n\n\n\nNicole Zaremba \n\n\n\nKosten inkl. MwSt. in €    \n\n\n\nkostenlos  \n\n\n\ndarin enthalten sind  \n\n\n\n…..  \n\n\n\nZielgruppe   \n\n\n\nalle Interessierten \n\n\n\nVeranstalter  \n\n\n\nNicole Zaremba \n\n\n\nGoethestraße 31 \n\n\n\n64354 Reinheim \n\n\n\n06162-941788 \n\n\n\ninfo@klassisches-feng-shui.de \n\n\n\nwww.klassisches-feng-shui.de
URL:https://bgr-ev.de/termin/gesunde-grenzen-setzen-in-der-kindererziehung-das-metall-element-im-feng-shui/
END:VEVENT
END:VCALENDAR