BEGIN:VCALENDAR
VERSION:2.0
PRODID:-//BGR - ECPv6.15.20//NONSGML v1.0//EN
CALSCALE:GREGORIAN
METHOD:PUBLISH
X-WR-CALNAME:BGR
X-ORIGINAL-URL:https://bgr-ev.de
X-WR-CALDESC:Veranstaltungen für BGR
REFRESH-INTERVAL;VALUE=DURATION:PT1H
X-Robots-Tag:noindex
X-PUBLISHED-TTL:PT1H
BEGIN:VTIMEZONE
TZID:Europe/Berlin
BEGIN:DAYLIGHT
TZOFFSETFROM:+0100
TZOFFSETTO:+0200
TZNAME:CEST
DTSTART:20220327T010000
END:DAYLIGHT
BEGIN:STANDARD
TZOFFSETFROM:+0200
TZOFFSETTO:+0100
TZNAME:CET
DTSTART:20221030T010000
END:STANDARD
BEGIN:DAYLIGHT
TZOFFSETFROM:+0100
TZOFFSETTO:+0200
TZNAME:CEST
DTSTART:20230326T010000
END:DAYLIGHT
BEGIN:STANDARD
TZOFFSETFROM:+0200
TZOFFSETTO:+0100
TZNAME:CET
DTSTART:20231029T010000
END:STANDARD
BEGIN:DAYLIGHT
TZOFFSETFROM:+0100
TZOFFSETTO:+0200
TZNAME:CEST
DTSTART:20240331T010000
END:DAYLIGHT
BEGIN:STANDARD
TZOFFSETFROM:+0200
TZOFFSETTO:+0100
TZNAME:CET
DTSTART:20241027T010000
END:STANDARD
END:VTIMEZONE
BEGIN:VEVENT
DTSTART;TZID=Europe/Berlin:20230907T140000
DTEND;TZID=Europe/Berlin:20230910T150000
DTSTAMP:20260424T234414
CREATED:20230505T142119Z
LAST-MODIFIED:20240118T142526Z
UID:1206-1694095200-1694358000@bgr-ev.de
SUMMARY:Natur – mein Coach. Psychotechniken heimischer Ethnomedizin an Kraftorten Modul 2: Externsteine - Vertrauen stärken
DESCRIPTION:Inhaltsbeschreibung \n\n\n\nDie Fortbildungsreihe „Natur – mein Coach“ besteht aus 3 Modulen\, die unabhängig von einander auch einzeln buchbar sind. Bei Buchung aller 3 Module erhältst du ein Zertifikat der staatlich anerkannten Heilpflanzenschule PhytAro\, Dortmund.Die Module vermitteln das alte Wissen um die Orte der Kraft\, rituelle Praktiken\, Meditation und Orientierung\, LandschaftsEngelDrachen\, Runen\, die weibliche Gottheit in ihren 3 Erscheinungsformen. FINDE DEINE KRAFT\, FINDE DEINEN WEG!Modul 2:– der Archetyp der großen Mutter– Arbeit an der Primärbeziehung Mutter– Runen-Yoga zur Stärkung der weiblichen Kraft– heilsame Töne\, Mantren– Schamanische Koordination– Nähren und genährt werden– Resilienz durch Mutter Erde \n\n\n\nName des Veranstalters: Xenia Fitzner\, Jutta Watzlawik \n\n\n\nName der Referent*in: Jutta Watzlawik\, Xenia Fitzner \n\n\n\nBeginn der Veranstaltung 07.09.2023\, 14:00 Uhr \n\n\n\nEnde der Veranstaltung    10.09.2023\, 15:00 Uhr  \n\n\n\nOrt der Veranstaltung \n\n\n\n32805 Horn-Bad Meinberg\, Yoga Vidya: www.yoga-vidya.de  \n\n\n\nKosten inkl. MwSt. \n\n\n\n390\,00 Euro Seminargebühren \n\n\n\nZielgruppe \n\n\n\nFür alle Interessierte  \n\n\n\n Veranstalter \n\n\n\nBuchung der Übernachtung zusammen mit der Anmeldung an Xenia Fitzner  bei Xenia Fitzner\, Telefon: 016090666630\, Mail: lea[at]xeniamond.de\, Webseite: https://xeniamond.de
URL:https://bgr-ev.de/termin/natur-mein-coach-psychotechniken-heimischer-ethnomedizin-an-kraftorten-modul-2-externsteine-vertrauen-staerken/
END:VEVENT
END:VCALENDAR