BEGIN:VCALENDAR
VERSION:2.0
PRODID:-//BGR - ECPv6.15.20//NONSGML v1.0//EN
CALSCALE:GREGORIAN
METHOD:PUBLISH
X-WR-CALNAME:BGR
X-ORIGINAL-URL:https://bgr-ev.de
X-WR-CALDESC:Veranstaltungen für BGR
REFRESH-INTERVAL;VALUE=DURATION:PT1H
X-Robots-Tag:noindex
X-PUBLISHED-TTL:PT1H
BEGIN:VTIMEZONE
TZID:Europe/Berlin
BEGIN:DAYLIGHT
TZOFFSETFROM:+0100
TZOFFSETTO:+0200
TZNAME:CEST
DTSTART:20220327T010000
END:DAYLIGHT
BEGIN:STANDARD
TZOFFSETFROM:+0200
TZOFFSETTO:+0100
TZNAME:CET
DTSTART:20221030T010000
END:STANDARD
BEGIN:DAYLIGHT
TZOFFSETFROM:+0100
TZOFFSETTO:+0200
TZNAME:CEST
DTSTART:20230326T010000
END:DAYLIGHT
BEGIN:STANDARD
TZOFFSETFROM:+0200
TZOFFSETTO:+0100
TZNAME:CET
DTSTART:20231029T010000
END:STANDARD
BEGIN:DAYLIGHT
TZOFFSETFROM:+0100
TZOFFSETTO:+0200
TZNAME:CEST
DTSTART:20240331T010000
END:DAYLIGHT
BEGIN:STANDARD
TZOFFSETFROM:+0200
TZOFFSETTO:+0100
TZNAME:CET
DTSTART:20241027T010000
END:STANDARD
END:VTIMEZONE
BEGIN:VEVENT
DTSTART;TZID=Europe/Berlin:20230831T000000
DTEND;TZID=Europe/Berlin:20230902T235959
DTSTAMP:20260424T234415
CREATED:20230131T102402Z
LAST-MODIFIED:20240118T142526Z
UID:1119-1693440000-1693699199@bgr-ev.de
SUMMARY:Sensitives Rutengehen September 2023
DESCRIPTION: \n\n\n\n\n\nInhaltsbeschreibung: \nIn dieser „Intensivausbildung sensitive Radiästhesie” (Rutengehen) lernen Sie die Grundlagen im Umgang mit der Rute kennen. Sie lernen weiterhin eine Abfrage-Technik\, die es ihnen ermöglicht eine Vielfalt von Informationen über die verlängerte Antenne zu bekommen. Der Mensch hat ein hochintelligentes Antennensystem\, das nur darauf wartet das ganze eigene Potenzial auszuschöpfen.                                                                                          \nSie lernen weiterhin Orte zu bestimmen\, die den menschlichen Organismus positiv oder negativ beeinträchtigen können.  \nDiese etwas andere Ausbildung zum sensitiven Rutengänger erweckt ihr inneres Wahrnehmungssystem.  \nDetails zur Ausbildung auf der Webseite \n \nAusbildungsort: \n61279 Grävenwiesbach/Taunus – Untergasse 7 \nReferent: \nAxel Sallmann \nSeminarpreis: \n355\,– € incl. Wünschelrute und Skript \nZielgruppe:   \nMenschen die ihre eigenen Antennen und ihre Wahrnehmung neu justieren möchten.      \n \nAnsprechpartner: \nAxel Sallmann – Gaiavita Lebendigeerde \n61279 Grävenwiesbach\, Untergasse 7 \nTel. 06086 969580   Mob. 0170 4634086 \nMail: info@gaiavita.de \nWeb.: https://www.gaiavita-lebendigeerde.de/ausbildung/rutengänger/2023/
URL:https://bgr-ev.de/termin/feng-shui-basis-ausbildung-2-3-2-3/
CATEGORIES:Ausbildung
ORGANIZER;CN="Zaremba Nicole":MAILTO:info@klassisches-feng-shui.de
END:VEVENT
END:VCALENDAR