BEGIN:VCALENDAR
VERSION:2.0
PRODID:-//BGR - ECPv6.15.20//NONSGML v1.0//EN
CALSCALE:GREGORIAN
METHOD:PUBLISH
X-WR-CALNAME:BGR
X-ORIGINAL-URL:https://bgr-ev.de
X-WR-CALDESC:Veranstaltungen für BGR
REFRESH-INTERVAL;VALUE=DURATION:PT1H
X-Robots-Tag:noindex
X-PUBLISHED-TTL:PT1H
BEGIN:VTIMEZONE
TZID:Europe/Berlin
BEGIN:DAYLIGHT
TZOFFSETFROM:+0100
TZOFFSETTO:+0200
TZNAME:CEST
DTSTART:20220327T010000
END:DAYLIGHT
BEGIN:STANDARD
TZOFFSETFROM:+0200
TZOFFSETTO:+0100
TZNAME:CET
DTSTART:20221030T010000
END:STANDARD
BEGIN:DAYLIGHT
TZOFFSETFROM:+0100
TZOFFSETTO:+0200
TZNAME:CEST
DTSTART:20230326T010000
END:DAYLIGHT
BEGIN:STANDARD
TZOFFSETFROM:+0200
TZOFFSETTO:+0100
TZNAME:CET
DTSTART:20231029T010000
END:STANDARD
BEGIN:DAYLIGHT
TZOFFSETFROM:+0100
TZOFFSETTO:+0200
TZNAME:CEST
DTSTART:20240331T010000
END:DAYLIGHT
BEGIN:STANDARD
TZOFFSETFROM:+0200
TZOFFSETTO:+0100
TZNAME:CET
DTSTART:20241027T010000
END:STANDARD
END:VTIMEZONE
BEGIN:VEVENT
DTSTART;TZID=Europe/Berlin:20230707T000000
DTEND;TZID=Europe/Berlin:20230709T235959
DTSTAMP:20260425T022919
CREATED:20221227T164641Z
LAST-MODIFIED:20240118T142526Z
UID:270-1688688000-1688947199@bgr-ev.de
SUMMARY:Tage der Raumkultur 2023
DESCRIPTION:Für unsere nächsten Raumkulturtage 2023 möchten wir wieder Eure Wünsche miteinbeziehen. Wir freuen uns\, wenn Ihr uns Anregungen geben könnt\, wo unser nächstes Treffen stattfinden soll. Möchtest Du Deine Stadt gerne vorstellen? Hast Du einen besonderen Ort\, der für unser Zusammensein geeignet wäre? Dann melde Dich doch einfach bei Judith Winter am Verbandstelefon unter 0177 – 92 42 158 oder schreibe eine Email an office@bgr-ev.de. Wir freuen uns\, wenn wir mit unseren Raumkulturtagen in den nächsten Jahren das ganze Land bereisen können. 
URL:https://bgr-ev.de/termin/tage-der-raumkultur/
CATEGORIES:Tagung
ATTACH;FMTTYPE=image/png:https://bgr-ev.de/wp-content/uploads/2022/12/Logo-BGR.png
END:VEVENT
END:VCALENDAR