BEGIN:VCALENDAR
VERSION:2.0
PRODID:-//BGR - ECPv6.15.20//NONSGML v1.0//EN
CALSCALE:GREGORIAN
METHOD:PUBLISH
X-ORIGINAL-URL:https://bgr-ev.de
X-WR-CALDESC:Veranstaltungen für BGR
REFRESH-INTERVAL;VALUE=DURATION:PT1H
X-Robots-Tag:noindex
X-PUBLISHED-TTL:PT1H
BEGIN:VTIMEZONE
TZID:Europe/Berlin
BEGIN:DAYLIGHT
TZOFFSETFROM:+0100
TZOFFSETTO:+0200
TZNAME:CEST
DTSTART:20220327T010000
END:DAYLIGHT
BEGIN:STANDARD
TZOFFSETFROM:+0200
TZOFFSETTO:+0100
TZNAME:CET
DTSTART:20221030T010000
END:STANDARD
BEGIN:DAYLIGHT
TZOFFSETFROM:+0100
TZOFFSETTO:+0200
TZNAME:CEST
DTSTART:20230326T010000
END:DAYLIGHT
BEGIN:STANDARD
TZOFFSETFROM:+0200
TZOFFSETTO:+0100
TZNAME:CET
DTSTART:20231029T010000
END:STANDARD
BEGIN:DAYLIGHT
TZOFFSETFROM:+0100
TZOFFSETTO:+0200
TZNAME:CEST
DTSTART:20240331T010000
END:DAYLIGHT
BEGIN:STANDARD
TZOFFSETFROM:+0200
TZOFFSETTO:+0100
TZNAME:CET
DTSTART:20241027T010000
END:STANDARD
END:VTIMEZONE
BEGIN:VEVENT
DTSTART;TZID=Europe/Berlin:20230622T160000
DTEND;TZID=Europe/Berlin:20230625T140000
DTSTAMP:20260425T160801
CREATED:20230505T141157Z
LAST-MODIFIED:20240118T142526Z
UID:1200-1687449600-1687701600@bgr-ev.de
SUMMARY:Das Geheimnis der hohlen Berge – verborgene Kräfte wiederbeleben
DESCRIPTION:Inhaltsbeschreibung   \n\n\n\nHohle Berge wie der Kyffhäuser\, Untersberg und der Blanik in Tschechien finden sich in vielen Sagen und Mythen wieder. Auch rund um den Druidenhain in der Fränkischen Schweiz finden sich hohle Berge\, Höhlen und Orte\, die nach der Wiederbelebung ihrer für uns und die Wandelzeit der Erde wichtigen verborgenen Kräfte rufen. In unserer geomantischen Arbeit zur Mittsommerzeit werden wir uns von der Ort- und Zeitenergie führen lassen\, um mit diesen Kräften in Verbindung zu kommen und damit für den Ort\, Mutter Erde und uns selbst kreativ zu arbeiten.Bitte mitbringen: Trinkflasche\, Wanderschuhe und evtl. Wanderstöcke\, Allwetterkleidung\, Sitzkissen\, Taschenlampe\, optional Musikinstrumente \n\n\n\nÜbernachtung und Halbpension: Gasthof Heid\, Wohlmannsgesees 1\, 91346 Wiesenttal-Wohlmannsgesees. Tel.09196 306Mit der Seminaranmeldung buchbar.  \n\n\n\nName des Veranstalters: Jutta Watzlawik – wesensreich  Geomantie \n\n\n\nName der Referent*in: Jutta Watzlawik \n\n\n\nBeginn der Veranstaltung   22.06.2023\, 16:00 Uhr \n\n\n\nEnde der Veranstaltung      25.06.2023\,  14:00 Uhr  \n\n\n\nOrt der Veranstaltung \n\n\n\nWohlmannsgesees 1\, 91346 Wiesenttal-Wohlmannsgesees in der Fränkischen Schweiz \n\n\n\n \n\n\n\nKosten inkl. MwSt. \n\n\n\n309\,00 Euro Seminargebühr  \n\n\n\nZielgruppe \n\n\n\nFür Interessierte mit und ohne Vorkenntnisse \n\n\n\n Veranstalter \n\n\n\nJutta Watzlawik\, Prinzenweg 1\, 93047 Regensburg \n\n\n\ninfo@wesensreich.net     www.wesensreich.net
URL:https://bgr-ev.de/termin/das-geheimnis-der-hohlen-berge-verborgene-kraefte-wiederbeleben/
END:VEVENT
END:VCALENDAR